Workbook

Sheet Visualization
H2: JEFF CARTER | AR2: =_xlfn.XLOOKUP($H$2,Table1[Player],Table1[No.],"") -> 77 | AY2: =_xlfn.XLOOKUP($H$2,Table1[Player],Table1[Position],"") -> F | BF2: =SUMIFS(Table2[Corsi],Table2[Condition],1,Table2[On-Ice],1,Table2[Team],"PIT")-SUMIFS(Table2[Corsi],Table2[Condition],1,Table2[On-Ice],1,Table2[Team],"<>" &"PIT") -> 0 | BM2: =SUMIFS(Table2[Shot],Table2[Condition],1,Table2[On-Ice],1,Table2[Team],"PIT")-SUMIFS(Table2[Shot],Table2[Condition],1,Table2[On-Ice],1,Table2[Team],"<>" &"PIT") -> -1 | BT2: =SUMIFS(Table2[Goal],Table2[Condition],1,Table2[On-Ice],1,Table2[Team],"PIT")-SUMIFS(Table2[Goal],Table2[Condition],1,Table2[On-Ice],1,Table2[Team],"<>" &"PIT") -> 1
AR8: Number | AY8: Position | BF8: C+/- | BM8: S+/- | BT8: G+/-
B9: Individual
W10: =_xlfn.XLOOKUP($AH$12,Table1[Date],Table1[Game],"") -> at T.B | AH10: Date | AS10: Period | BD10: Event type | BO10: Strength
B12: =SUMIFS(Table2[Goal],Table2[Condition],1,Table2[Individual],1) -> 0 | I12: =COUNTIFS(Table2[A1],Visualization!$AR$2,Table2[Condition],1)+COUNTIFS(Table2[A2],Visualization!$AR$2,Table2[Condition],1) -> 1 | P12: =SUMIFS(Table2[Corsi],Table2[Condition],1,Table2[Individual],1) -> 2 | AH12: 44481 | AS12: All | BD12: All | BO12: EV
B18: Goal | I18: Assist | O18: Shot attempts
B20: On-Ice
B23: =IFERROR(SUMIFS(Table2[Corsi],Table2[Condition],1,Table2[On-Ice],1,Table2[Team],"PIT")/(SUMIFS(Table2[Corsi],Table2[Condition],1,Table2[On-Ice],1,Table2[Team],"PIT")+SUMIFS(Table2[Corsi],Table2[Condition],1,Table2[On-Ice],1,Table2[Team],"<>" &"PIT")),0.5) -> 0.5 | I23: =IFERROR(SUMIFS(Table2[Shot],Table2[Condition],1,Table2[On-Ice],1,Table2[Team],"PIT")/(SUMIFS(Table2[Shot],Table2[Condition],1,Table2[On-Ice],1,Table2[Team],"PIT")+SUMIFS(Table2[Shot],Table2[Condition],1,Table2[On-Ice],1,Table2[Team],"<>" &"PIT")),0.5) -> 0.47368421 | P23: =IFERROR(SUMIFS(Table2[Goal],Table2[Condition],1,Table2[On-Ice],1,Table2[Team],"PIT")/(SUMIFS(Table2[Goal],Table2[Condition],1,Table2[On-Ice],1,Table2[Team],"PIT")+SUMIFS(Table2[Goal],Table2[Condition],1,Table2[On-Ice],1,Table2[Team],"<>" &"PIT")),0.5) -> 1
B29: CF% | I29: SF% | P29: GF%
B31: =SUMIFS(Table2[Goal],Table2[Condition],1,Table2[On-Ice],1,Table2[Team],"PIT")/SUMIFS(Table2[Shot],Table2[Condition],1,Table2[On-Ice],1,Table2[Team],"PIT") -> 0.11111111 | I31: =1-SUMIFS(Table2[Goal],Table2[Condition],1,Table2[On-Ice],1,Table2[Team],"<>" &"PIT")/SUMIFS(Table2[Shot],Table2[Condition],1,Table2[On-Ice],1,Table2[Team],"<>" &"PIT") -> 1 | P31: =B31+I31 -> 1.1111111
B37: oi-Sh% | I37: oi-Sv% | P37: oi-PDO
B39: Shot Viz created by @HockeySkytte | AL39: Shots tracked via https://shot-plotter.netlify.app/

Sheet Shot events
A1: Period | B1: Team | C1: Player | D1: Type | E1: X | F1: Y | G1: F Line | H1: D Pair | I1: A1 | J1: A2 | K1: Goaltender | L1: Distance | M1: Strength | N1: Date | O1: Shot No. | P1: x2 | Q1: y2 | R1: PIT1 | S1: PIT2 | T1: PIT3 | U1: PIT4 | V1: PIT5 | W1: Goal | X1: Shot | Y1: Fenwick | Z1: Corsi | AA1: Condition | AB1: Individual | AC1: On-Ice | AE1: Individual | AF1: x | AG1: y | AI1: On-Ice For | AJ1: x | AK1: y | AM1: On-Ice Ageainst | AN1: x | AO1: y
A2: 1 | B2: T.B | D2: Shot | E2: -61 | F2: 32 | G2: F1 | H2: D2 | K2: 35 | M2: EV | N2: 44481 | O2: =ROW(O1) -> 1 | P2: {=_xlfn.XLOOKUP(Table2[[#This Row],[Date]]&Table2[[#This Row],[Period]],Table3[Date]&Table3[Period],Table3[Coordinate])*Table2[[#This Row],[X]]} -> -61 | Q2: {=_xlfn.XLOOKUP(Table2[[#This Row],[Date]]&Table2[[#This Row],[Period]],Table3[Date]&Table3[Period],Table3[Coordinate])*Table2[[#This Row],[Y]]} -> 32 | R2: {=IFERROR(LARGE(_xlfn._xlws.FILTER(Table1[[F1]:[EN2]],IF(Table2[[#This Row],[F Line]]=Table1[[#Headers],[F1]:[EN2]],1,0))*Table1[No.]*IF(Table2[[#This Row],[Date]]=Table1[Date],1,0),1),0)} -> 71 | S2: {=IFERROR(LARGE(_xlfn._xlws.FILTER(Table1[[F1]:[EN2]],IF(Table2[[#This Row],[F Line]]=Table1[[#Headers],[F1]:[EN2]],1,0))*Table1[No.]*IF(Table2[[#This Row],[Date]]=Table1[Date],1,0),2),0)} -> 24 | T2: {=IFERROR(LARGE(_xlfn._xlws.FILTER(Table1[[F1]:[EN2]],IF(Table2[[#This Row],[F Line]]=Table1[[#Headers],[F1]:[EN2]],1,0))*Table1[No.]*IF(Table2[[#This Row],[Date]]=Table1[Date],1,0),3),0)} -> 16 | U2: {=IFERROR(IF(Table2[[#This Row],[D Pair]]="",LARGE(_xlfn._xlws.FILTER(Table1[[F1]:[EN2]],IF(Table2[[#This Row],[F Line]]=Table1[[#Headers],[F1]:[EN2]],1,0))*Table1[No.]*IF(Table2[[#This Row],[Date]]=Table1[Date],1,0),4),LARGE(_xlfn._xlws.FILTER(Table1[[F1]:[EN2]],IF(Table2[[#This Row],[D Pair]]=Table1[[#Headers],[F1]:[EN2]],1,0))*Table1[No.]*IF(Table2[[#This Row],[Date]]=Table1[Date],1,0),1)),0)} -> 28 | V2: {=IFERROR(IF(Table2[[#This Row],[D Pair]]="",LARGE(_xlfn._xlws.FILTER(Table1[[F1]:[EN2]],IF(Table2[[#This Row],[F Line]]=Table1[[#Headers],[F1]:[EN2]],1,0))*Table1[No.]*IF(Table2[[#This Row],[Date]]=Table1[Date],1,0),5),LARGE(_xlfn._xlws.FILTER(Table1[[F1]:[EN2]],IF(Table2[[#This Row],[D Pair]]=Table1[[#Headers],[F1]:[EN2]],1,0))*Table1[No.]*IF(Table2[[#This Row],[Date]]=Table1[Date],1,0),2)),0)} -> 6 | W2: =IF(Table2[[#This Row],[Type]]="Goal",1,0) -> 0 | X2: =IF(OR(Table2[[#This Row],[Type]]="Goal",Table2[[#This Row],[Type]]="Shot"),1,0) -> 1 | Y2: =IF(OR(Table2[[#This Row],[Type]]="Goal",Table2[[#This Row],[Type]]="Shot",Table2[[#This Row],[Type]]="Miss"),1,0) -> 1 | Z2: =IF(OR(Table2[[#This Row],[Type]]="Goal",Table2[[#This Row],[Type]]="Shot",Table2[[#This Row],[Type]]="Miss",Table2[[#This Row],[Type]]="Block"),1,0) -> 1 | AA2: =IF(OR(Table2[[#This Row],[Date]]=Visualization!$AH$12,Visualization!$AH$12="All"),1,0)*IF(OR(Visualization!$AS$12="All",Visualization!$AS$12=Table2[[#This Row],[Period]]),1,0)*IF(OR(Table2[[#This Row],[Type]]=Visualization!$BD$12,Visualization!$BD$12="All"),1,0)*IF(OR(Visualization!$BO$12="All",Visualization!$BO$12=Table2[[#This Row],[Strength]]),1,0) -> 1 | AB2: =IF(Table2[[#This Row],[Player]]=Visualization!$AR$2,1,0) -> 0 | AC2: =IF(OR(Table2[[#This Row],[PIT1]]=Visualization!$AR$2,Table2[[#This Row],[PIT2]]=Visualization!$AR$2,Table2[[#This Row],[PIT3]]=Visualization!$AR$2,Table2[[#This Row],[PIT4]]=Visualization!$AR$2,Table2[[#This Row],[PIT5]]=Visualization!$AR$2,Table2[[#This Row],[Goaltender]]=Visualization!$AR$2),1,0) -> 0 | AE2: {=_xlfn._xlws.FILTER(Table2[Shot No.],IF(Table2[Condition]=1,1,0)*IF(Table2[Individual]=1,1,0),"")} -> 24 | AF2: =_xlfn.XLOOKUP(AE2,Table2[Shot No.],Table2[x2],300) -> 48 | AG2: =_xlfn.XLOOKUP(AE2,Table2[Shot No.],Table2[y2],300) -> -4 | AI2: {=_xlfn._xlws.FILTER(Table2[Shot No.],IF(Table2[Condition]=1,1,0)*IF(Table2[On-Ice]=1,1,0)*IF(Table2[Team]="PIT",1,0),"")} -> 5 | AJ2: =_xlfn.XLOOKUP(AI2,Table2[Shot No.],Table2[x2],300) -> 60 | AK2: =_xlfn.XLOOKUP(AI2,Table2[Shot No.],Table2[y2],300) -> 4 | AM2: {=_xlfn._xlws.FILTER(Table2[Shot No.],IF(Table2[Condition]=1,1,0)*IF(Table2[On-Ice]=1,1,0)*IF(Table2[Team]="PIT",0,1),"")} -> 6 | AN2: =_xlfn.XLOOKUP(AM2,Table2[Shot No.],Table2[x2],300) -> -63 | AO2: =_xlfn.XLOOKUP(AM2,Table2[Shot No.],Table2[y2],300) -> -4
A3: 1 | B3: T.B | D3: Block | E3: -60 | F3: 17 | G3: F3 | H3: D1 | K3: 35 | M3: EV | N3: 44481 | O3: =ROW(O2) -> 2 | P3: {=_xlfn.XLOOKUP(Table2[[#This Row],[Date]]&Table2[[#This Row],[Period]],Table3[Date]&Table3[Period],Table3[Coordinate])*Table2[[#This Row],[X]]} -> -60 | Q3: {=_xlfn.XLOOKUP(Table2[[#This Row],[Date]]&Table2[[#This Row],[Period]],Table3[Date]&Table3[Period],Table3[Coordinate])*Table2[[#This Row],[Y]]} -> 17 | R3: {=IFERROR(LARGE(_xlfn._xlws.FILTER(Table1[[F1]:[EN2]],IF(Table2[[#This Row],[F Line]]=Table1[[#Headers],[F1]:[EN2]],1,0))*Table1[No.]*IF(Table2[[#This Row],[Date]]=Table1[Date],1,0),1),0)} -> 53 | S3: {=IFERROR(LARGE(_xlfn._xlws.FILTER(Table1[[F1]:[EN2]],IF(Table2[[#This Row],[F Line]]=Table1[[#Headers],[F1]:[EN2]],1,0))*Table1[No.]*IF(Table2[[#This Row],[Date]]=Table1[Date],1,0),2),0)} -> 23 | T3: {=IFERROR(LARGE(_xlfn._xlws.FILTER(Table1[[F1]:[EN2]],IF(Table2[[#This Row],[F Line]]=Table1[[#Headers],[F1]:[EN2]],1,0))*Table1[No.]*IF(Table2[[#This Row],[Date]]=Table1[Date],1,0),3),0)} -> 12 | U3: {=IFERROR(IF(Table2[[#This Row],[D Pair]]="",LARGE(_xlfn._xlws.FILTER(Table1[[F1]:[EN2]],IF(Table2[[#This Row],[F Line]]=Table1[[#Headers],[F1]:[EN2]],1,0))*Table1[No.]*IF(Table2[[#This Row],[Date]]=Table1[Date],1,0),4),LARGE(_xlfn._xlws.FILTER(Table1[[F1]:[EN2]],IF(Table2[[#This Row],[D Pair]]=Table1[[#Headers],[F1]:[EN2]],1,0))*Table1[No.]*IF(Table2[[#This Row],[Date]]=Table1[Date],1,0),1)),0)} -> 58 | V3: {=IFERROR(IF(Table2[[#This Row],[D Pair]]="",LARGE(_xlfn._xlws.FILTER(Table1[[F1]:[EN2]],IF(Table2[[#This Row],[F Line]]=Table1[[#Headers],[F1]:[EN2]],1,0))*Table1[No.]*IF(Table2[[#This Row],[Date]]=Table1[Date],1,0),5),LARGE(_xlfn._xlws.FILTER(Table1[[F1]:[EN2]],IF(Table2[[#This Row],[D Pair]]=Table1[[#Headers],[F1]:[EN2]],1,0))*Table1[No.]*IF(Table2[[#This Row],[Date]]=Table1[Date],1,0),2)),0)} -> 8 | W3: =IF(Table2[[#This Row],[Type]]="Goal",1,0) -> 0 | X3: =IF(OR(Table2[[#This Row],[Type]]="Goal",Table2[[#This Row],[Type]]="Shot"),1,0) -> 0 | Y3: =IF(OR(Table2[[#This Row],[Type]]="Goal",Table2[[#This Row],[Type]]="Shot",Table2[[#This Row],[Type]]="Miss"),1,0) -> 0 | Z3: =IF(OR(Table2[[#This Row],[Type]]="Goal",Table2[[#This Row],[Type]]="Shot",Table2[[#This Row],[Type]]="Miss",Table2[[#This Row],[Type]]="Block"),1,0) -> 1 | AA3: =IF(OR(Table2[[#This Row],[Date]]=Visualization!$AH$12,Visualization!$AH$12="All"),1,0)*IF(OR(Visualization!$AS$12="All",Visualization!$AS$12=Table2[[#This Row],[Period]]),1,0)*IF(OR(Table2[[#This Row],[Type]]=Visualization!$BD$12,Visualization!$BD$12="All"),1,0)*IF(OR(Visualization!$BO$12="All",Visualization!$BO$12=Table2[[#This Row],[Strength]]),1,0) -> 1 | AB3: =IF(Table2[[#This Row],[Player]]=Visualization!$AR$2,1,0) -> 0 | AC3: =IF(OR(Table2[[#This Row],[PIT1]]=Visualization!$AR$2,Table2[[#This Row],[PIT2]]=Visualization!$AR$2,Table2[[#This Row],[PIT3]]=Visualization!$AR$2,Table2[[#This Row],[PIT4]]=Visualization!$AR$2,Table2[[#This Row],[PIT5]]=Visualization!$AR$2,Table2[[#This Row],[Goaltender]]=Visualization!$AR$2),1,0) -> 0 | AE3: 26 | AF3: =_xlfn.XLOOKUP(AE3,Table2[Shot No.],Table2[x2],300) -> 82 | AG3: =_xlfn.XLOOKUP(AE3,Table2[Shot No.],Table2[y2],300) -> -8 | AI3: 13 | AJ3: =_xlfn.XLOOKUP(AI3,Table2[Shot No.],Table2[x2],300) -> 75 | AK3: =_xlfn.XLOOKUP(AI3,Table2[Shot No.],Table2[y2],300) -> 9 | AM3: 7 | AN3: =_xlfn.XLOOKUP(AM3,Table2[Shot No.],Table2[x2],300) -> -52 | AO3: =_xlfn.XLOOKUP(AM3,Table2[Shot No.],Table2[y2],300) -> 21
A4: 1 | B4: PIT | C4: 23 | D4: Shot | E4: 65 | F4: -19 | G4: F3 | H4: D3 | K4: 35 | M4: EV | N4: 44481 | O4: =ROW(O3) -> 3 | P4: {=_xlfn.XLOOKUP(Table2[[#This Row],[Date]]&Table2[[#This Row],[Period]],Table3[Date]&Table3[Period],Table3[Coordinate])*Table2[[#This Row],[X]]} -> 65 | Q4: {=_xlfn.XLOOKUP(Table2[[#This Row],[Date]]&Table2[[#This Row],[Period]],Table3[Date]&Table3[Period],Table3[Coordinate])*Table2[[#This Row],[Y]]} -> -19 | R4: {=IFERROR(LARGE(_xlfn._xlws.FILTER(Table1[[F1]:[EN2]],IF(Table2[[#This Row],[F Line]]=Table1[[#Headers],[F1]:[EN2]],1,0))*Table1[No.]*IF(Table2[[#This Row],[Date]]=Table1[Date],1,0),1),0)} -> 53 | S4: {=IFERROR(LARGE(_xlfn._xlws.FILTER(Table1[[F1]:[EN2]],IF(Table2[[#This Row],[F Line]]=Table1[[#Headers],[F1]:[EN2]],1,0))*Table1[No.]*IF(Table2[[#This Row],[Date]]=Table1[Date],1,0),2),0)} -> 23 | T4: {=IFERROR(LARGE(_xlfn._xlws.FILTER(Table1[[F1]:[EN2]],IF(Table2[[#This Row],[F Line]]=Table1[[#Headers],[F1]:[EN2]],1,0))*Table1[No.]*IF(Table2[[#This Row],[Date]]=Table1[Date],1,0),3),0)} -> 12 | U4: {=IFERROR(IF(Table2[[#This Row],[D Pair]]="",LARGE(_xlfn._xlws.FILTER(Table1[[F1]:[EN2]],IF(Table2[[#This Row],[F Line]]=Table1[[#Headers],[F1]:[EN2]],1,0))*Table1[No.]*IF(Table2[[#This Row],[Date]]=Table1[Date],1,0),4),LARGE(_xlfn._xlws.FILTER(Table1[[F1]:[EN2]],IF(Table2[[#This Row],[D Pair]]=Table1[[#Headers],[F1]:[EN2]],1,0))*Table1[No.]*IF(Table2[[#This Row],[Date]]=Table1[Date],1,0),1)),0)} -> 59 | V4: {=IFERROR(IF(Table2[[#This Row],[D Pair]]="",LARGE(_xlfn._xlws.FILTER(Table1[[F1]:[EN2]],IF(Table2[[#This Row],[F Line]]=Table1[[#Headers],[F1]:[EN2]],1,0))*Table1[No.]*IF(Table2[[#This Row],[Date]]=Table1[Date],1,0),5),LARGE(_xlfn._xlws.FILTER(Table1[[F1]:[EN2]],IF(Table2[[#This Row],[D Pair]]=Table1[[#Headers],[F1]:[EN2]],1,0))*Table1[No.]*IF(Table2[[#This Row],[Date]]=Table1[Date],1,0),2)),0)} -> 2 | W4: =IF(Table2[[#This Row],[Type]]="Goal",1,0) -> 0 | X4: =IF(OR(Table2[[#This Row],[Type]]="Goal",Table2[[#This Row],[Type]]="Shot"),1,0) -> 1 | Y4: =IF(OR(Table2[[#This Row],[Type]]="Goal",Table2[[#This Row],[Type]]="Shot",Table2[[#This Row],[Type]]="Miss"),1,0) -> 1 | Z4: =IF(OR(Table2[[#This Row],[Type]]="Goal",Table2[[#This Row],[Type]]="Shot",Table2[[#This Row],[Type]]="Miss",Table2[[#This Row],[Type]]="Block"),1,0) -> 1 | AA4: =IF(OR(Table2[[#This Row],[Date]]=Visualization!$AH$12,Visualization!$AH$12="All"),1,0)*IF(OR(Visualization!$AS$12="All",Visualization!$AS$12=Table2[[#This Row],[Period]]),1,0)*IF(OR(Table2[[#This Row],[Type]]=Visualization!$BD$12,Visualization!$BD$12="All"),1,0)*IF(OR(Visualization!$BO$12="All",Visualization!$BO$12=Table2[[#This Row],[Strength]]),1,0) -> 1 | AB4: =IF(Table2[[#This Row],[Player]]=Visualization!$AR$2,1,0) -> 0 | AC4: =IF(OR(Table2[[#This Row],[PIT1]]=Visualization!$AR$2,Table2[[#This Row],[PIT2]]=Visualization!$AR$2,Table2[[#This Row],[PIT3]]=Visualization!$AR$2,Table2[[#This Row],[PIT4]]=Visualization!$AR$2,Table2[[#This Row],[PIT5]]=Visualization!$AR$2,Table2[[#This Row],[Goaltender]]=Visualization!$AR$2),1,0) -> 0 | AF4: =_xlfn.XLOOKUP(AE4,Table2[Shot No.],Table2[x2],300) -> 300 | AG4: =_xlfn.XLOOKUP(AE4,Table2[Shot No.],Table2[y2],300) -> 300 | AI4: 18 | AJ4: =_xlfn.XLOOKUP(AI4,Table2[Shot No.],Table2[x2],300) -> 72 | AK4: =_xlfn.XLOOKUP(AI4,Table2[Shot No.],Table2[y2],300) -> 0 | AM4: 11 | AN4: =_xlfn.XLOOKUP(AM4,Table2[Shot No.],Table2[x2],300) -> -64 | AO4: =_xlfn.XLOOKUP(AM4,Table2[Shot No.],Table2[y2],300) -> -31
A5: 1 | B5: T.B | D5: Shot | E5: 8 | F5: 27 | G5: F4 | H5: D3 | K5: 35 | M5: EV | N5: 44481 | O5: =ROW(O4) -> 4 | P5: {=_xlfn.XLOOKUP(Table2[[#This Row],[Date]]&Table2[[#This Row],[Period]],Table3[Date]&Table3[Period],Table3[Coordinate])*Table2[[#This Row],[X]]} -> 8 | Q5: {=_xlfn.XLOOKUP(Table2[[#This Row],[Date]]&Table2[[#This Row],[Period]],Table3[Date]&Table3[Period],Table3[Coordinate])*Table2[[#This Row],[Y]]} -> 27 | R5: {=IFERROR(LARGE(_xlfn._xlws.FILTER(Table1[[F1]:[EN2]],IF(Table2[[#This Row],[F Line]]=Table1[[#Headers],[F1]:[EN2]],1,0))*Table1[No.]*IF(Table2[[#This Row],[Date]]=Table1[Date],1,0),1),0)} -> 37 | S5: {=IFERROR(LARGE(_xlfn._xlws.FILTER(Table1[[F1]:[EN2]],IF(Table2[[#This Row],[F Line]]=Table1[[#Headers],[F1]:[EN2]],1,0))*Table1[No.]*IF(Table2[[#This Row],[Date]]=Table1[Date],1,0),2),0)} -> 11 | T5: {=IFERROR(LARGE(_xlfn._xlws.FILTER(Table1[[F1]:[EN2]],IF(Table2[[#This Row],[F Line]]=Table1[[#Headers],[F1]:[EN2]],1,0))*Table1[No.]*IF(Table2[[#This Row],[Date]]=Table1[Date],1,0),3),0)} -> 10 | U5: {=IFERROR(IF(Table2[[#This Row],[D Pair]]="",LARGE(_xlfn._xlws.FILTER(Table1[[F1]:[EN2]],IF(Table2[[#This Row],[F Line]]=Table1[[#Headers],[F1]:[EN2]],1,0))*Table1[No.]*IF(Table2[[#This Row],[Date]]=Table1[Date],1,0),4),LARGE(_xlfn._xlws.FILTER(Table1[[F1]:[EN2]],IF(Table2[[#This Row],[D Pair]]=Table1[[#Headers],[F1]:[EN2]],1,0))*Table1[No.]*IF(Table2[[#This Row],[Date]]=Table1[Date],1,0),1)),0)} -> 59 | V5: {=IFERROR(IF(Table2[[#This Row],[D Pair]]="",LARGE(_xlfn._xlws.FILTER(Table1[[F1]:[EN2]],IF(Table2[[#This Row],[F Line]]=Table1[[#Headers],[F1]:[EN2]],1,0))*Table1[No.]*IF(Table2[[#This Row],[Date]]=Table1[Date],1,0),5),LARGE(_xlfn._xlws.FILTER(Table1[[F1]:[EN2]],IF(Table2[[#This Row],[D Pair]]=Table1[[#Headers],[F1]:[EN2]],1,0))*Table1[No.]*IF(Table2[[#This Row],[Date]]=Table1[Date],1,0),2)),0)} -> 2 | W5: =IF(Table2[[#This Row],[Type]]="Goal",1,0) -> 0 | X5: =IF(OR(Table2[[#This Row],[Type]]="Goal",Table2[[#This Row],[Type]]="Shot"),1,0) -> 1 | Y5: =IF(OR(Table2[[#This Row],[Type]]="Goal",Table2[[#This Row],[Type]]="Shot",Table2[[#This Row],[Type]]="Miss"),1,0) -> 1 | Z5: =IF(OR(Table2[[#This Row],[Type]]="Goal",Table2[[#This Row],[Type]]="Shot",Table2[[#This Row],[Type]]="Miss",Table2[[#This Row],[Type]]="Block"),1,0) -> 1 | AA5: =IF(OR(Table2[[#This Row],[Date]]=Visualization!$AH$12,Visualization!$AH$12="All"),1,0)*IF(OR(Visualization!$AS$12="All",Visualization!$AS$12=Table2[[#This Row],[Period]]),1,0)*IF(OR(Table2[[#This Row],[Type]]=Visualization!$BD$12,Visualization!$BD$12="All"),1,0)*IF(OR(Visualization!$BO$12="All",Visualization!$BO$12=Table2[[#This Row],[Strength]]),1,0) -> 1 | AB5: =IF(Table2[[#This Row],[Player]]=Visualization!$AR$2,1,0) -> 0 | AC5: =IF(OR(Table2[[#This Row],[PIT1]]=Visualization!$AR$2,Table2[[#This Row],[PIT2]]=Visualization!$AR$2,Table2[[#This Row],[PIT3]]=Visualization!$AR$2,Table2[[#This Row],[PIT4]]=Visualization!$AR$2,Table2[[#This Row],[PIT5]]=Visualization!$AR$2,Table2[[#This Row],[Goaltender]]=Visualization!$AR$2),1,0) -> 0 | AF5: =_xlfn.XLOOKUP(AE5,Table2[Shot No.],Table2[x2],300) -> 300 | AG5: =_xlfn.XLOOKUP(AE5,Table2[Shot No.],Table2[y2],300) -> 300 | AI5: 24 | AJ5: =_xlfn.XLOOKUP(AI5,Table2[Shot No.],Table2[x2],300) -> 48 | AK5: =_xlfn.XLOOKUP(AI5,Table2[Shot No.],Table2[y2],300) -> -4 | AM5: 12 | AN5: =_xlfn.XLOOKUP(AM5,Table2[Shot No.],Table2[x2],300) -> -76 | AO5: =_xlfn.XLOOKUP(AM5,Table2[Shot No.],Table2[y2],300) -> 1
A6: 1 | B6: PIT | C6: 43 | D6: Shot | E6: 60 | F6: 4 | G6: F2 | H6: D1 | K6: 35 | M6: EV | N6: 44481 | O6: =ROW(O5) -> 5 | P6: {=_xlfn.XLOOKUP(Table2[[#This Row],[Date]]&Table2[[#This Row],[Period]],Table3[Date]&Table3[Period],Table3[Coordinate])*Table2[[#This Row],[X]]} -> 60 | Q6: {=_xlfn.XLOOKUP(Table2[[#This Row],[Date]]&Table2[[#This Row],[Period]],Table3[Date]&Table3[Period],Table3[Coordinate])*Table2[[#This Row],[Y]]} -> 4 | R6: {=IFERROR(LARGE(_xlfn._xlws.FILTER(Table1[[F1]:[EN2]],IF(Table2[[#This Row],[F Line]]=Table1[[#Headers],[F1]:[EN2]],1,0))*Table1[No.]*IF(Table2[[#This Row],[Date]]=Table1[Date],1,0),1),0)} -> 77 | S6: {=IFERROR(LARGE(_xlfn._xlws.FILTER(Table1[[F1]:[EN2]],IF(Table2[[#This Row],[F Line]]=Table1[[#Headers],[F1]:[EN2]],1,0))*Table1[No.]*IF(Table2[[#This Row],[Date]]=Table1[Date],1,0),2),0)} -> 43 | T6: {=IFERROR(LARGE(_xlfn._xlws.FILTER(Table1[[F1]:[EN2]],IF(Table2[[#This Row],[F Line]]=Table1[[#Headers],[F1]:[EN2]],1,0))*Table1[No.]*IF(Table2[[#This Row],[Date]]=Table1[Date],1,0),3),0)} -> 17 | U6: {=IFERROR(IF(Table2[[#This Row],[D Pair]]="",LARGE(_xlfn._xlws.FILTER(Table1[[F1]:[EN2]],IF(Table2[[#This Row],[F Line]]=Table1[[#Headers],[F1]:[EN2]],1,0))*Table1[No.]*IF(Table2[[#This Row],[Date]]=Table1[Date],1,0),4),LARGE(_xlfn._xlws.FILTER(Table1[[F1]:[EN2]],IF(Table2[[#This Row],[D Pair]]=Table1[[#Headers],[F1]:[EN2]],1,0))*Table1[No.]*IF(Table2[[#This Row],[Date]]=Table1[Date],1,0),1)),0)} -> 58 | V6: {=IFERROR(IF(Table2[[#This Row],[D Pair]]="",LARGE(_xlfn._xlws.FILTER(Table1[[F1]:[EN2]],IF(Table2[[#This Row],[F Line]]=Table1[[#Headers],[F1]:[EN2]],1,0))*Table1[No.]*IF(Table2[[#This Row],[Date]]=Table1[Date],1,0),5),LARGE(_xlfn._xlws.FILTER(Table1[[F1]:[EN2]],IF(Table2[[#This Row],[D Pair]]=Table1[[#Headers],[F1]:[EN2]],1,0))*Table1[No.]*IF(Table2[[#This Row],[Date]]=Table1[Date],1,0),2)),0)} -> 8 | W6: =IF(Table2[[#This Row],[Type]]="Goal",1,0) -> 0 | X6: =IF(OR(Table2[[#This Row],[Type]]="Goal",Table2[[#This Row],[Type]]="Shot"),1,0) -> 1 | Y6: =IF(OR(Table2[[#This Row],[Type]]="Goal",Table2[[#This Row],[Type]]="Shot",Table2[[#This Row],[Type]]="Miss"),1,0) -> 1 | Z6: =IF(OR(Table2[[#This Row],[Type]]="Goal",Table2[[#This Row],[Type]]="Shot",Table2[[#This Row],[Type]]="Miss",Table2[[#This Row],[Type]]="Block"),1,0) -> 1 | AA6: =IF(OR(Table2[[#This Row],[Date]]=Visualization!$AH$12,Visualization!$AH$12="All"),1,0)*IF(OR(Visualization!$AS$12="All",Visualization!$AS$12=Table2[[#This Row],[Period]]),1,0)*IF(OR(Table2[[#This Row],[Type]]=Visualization!$BD$12,Visualization!$BD$12="All"),1,0)*IF(OR(Visualization!$BO$12="All",Visualization!$BO$12=Table2[[#This Row],[Strength]]),1,0) -> 1 | AB6: =IF(Table2[[#This Row],[Player]]=Visualization!$AR$2,1,0) -> 0 | AC6: =IF(OR(Table2[[#This Row],[PIT1]]=Visualization!$AR$2,Table2[[#This Row],[PIT2]]=Visualization!$AR$2,Table2[[#This Row],[PIT3]]=Visualization!$AR$2,Table2[[#This Row],[PIT4]]=Visualization!$AR$2,Table2[[#This Row],[PIT5]]=Visualization!$AR$2,Table2[[#This Row],[Goaltender]]=Visualization!$AR$2),1,0) -> 1 | AF6: =_xlfn.XLOOKUP(AE6,Table2[Shot No.],Table2[x2],300) -> 300 | AG6: =_xlfn.XLOOKUP(AE6,Table2[Shot No.],Table2[y2],300) -> 300 | AI6: 26 | AJ6: =_xlfn.XLOOKUP(AI6,Table2[Shot No.],Table2[x2],300) -> 82 | AK6: =_xlfn.XLOOKUP(AI6,Table2[Shot No.],Table2[y2],300) -> -8 | AM6: 23 | AN6: =_xlfn.XLOOKUP(AM6,Table2[Shot No.],Table2[x2],300) -> -48 | AO6: =_xlfn.XLOOKUP(AM6,Table2[Shot No.],Table2[y2],300) -> -34
A7: 1 | B7: T.B | D7: Shot | E7: -63 | F7: -4 | G7: F2 | H7: D1 | K7: 35 | M7: EV | N7: 44481 | O7: =ROW(O6) -> 6 | P7: {=_xlfn.XLOOKUP(Table2[[#This Row],[Date]]&Table2[[#This Row],[Period]],Table3[Date]&Table3[Period],Table3[Coordinate])*Table2[[#This Row],[X]]} -> -63 | Q7: {=_xlfn.XLOOKUP(Table2[[#This Row],[Date]]&Table2[[#This Row],[Period]],Table3[Date]&Table3[Period],Table3[Coordinate])*Table2[[#This Row],[Y]]} -> -4 | R7: {=IFERROR(LARGE(_xlfn._xlws.FILTER(Table1[[F1]:[EN2]],IF(Table2[[#This Row],[F Line]]=Table1[[#Headers],[F1]:[EN2]],1,0))*Table1[No.]*IF(Table2[[#This Row],[Date]]=Table1[Date],1,0),1),0)} -> 77 | S7: {=IFERROR(LARGE(_xlfn._xlws.FILTER(Table1[[F1]:[EN2]],IF(Table2[[#This Row],[F Line]]=Table1[[#Headers],[F1]:[EN2]],1,0))*Table1[No.]*IF(Table2[[#This Row],[Date]]=Table1[Date],1,0),2),0)} -> 43 | T7: {=IFERROR(LARGE(_xlfn._xlws.FILTER(Table1[[F1]:[EN2]],IF(Table2[[#This Row],[F Line]]=Table1[[#Headers],[F1]:[EN2]],1,0))*Table1[No.]*IF(Table2[[#This Row],[Date]]=Table1[Date],1,0),3),0)} -> 17 | U7: {=IFERROR(IF(Table2[[#This Row],[D Pair]]="",LARGE(_xlfn._xlws.FILTER(Table1[[F1]:[EN2]],IF(Table2[[#This Row],[F Line]]=Table1[[#Headers],[F1]:[EN2]],1,0))*Table1[No.]*IF(Table2[[#This Row],[Date]]=Table1[Date],1,0),4),LARGE(_xlfn._xlws.FILTER(Table1[[F1]:[EN2]],IF(Table2[[#This Row],[D Pair]]=Table1[[#Headers],[F1]:[EN2]],1,0))*Table1[No.]*IF(Table2[[#This Row],[Date]]=Table1[Date],1,0),1)),0)} -> 58 | V7: {=IFERROR(IF(Table2[[#This Row],[D Pair]]="",LARGE(_xlfn._xlws.FILTER(Table1[[F1]:[EN2]],IF(Table2[[#This Row],[F Line]]=Table1[[#Headers],[F1]:[EN2]],1,0))*Table1[No.]*IF(Table2[[#This Row],[Date]]=Table1[Date],1,0),5),LARGE(_xlfn._xlws.FILTER(Table1[[F1]:[EN2]],IF(Table2[[#This Row],[D Pair]]=Table1[[#Headers],[F1]:[EN2]],1,0))*Table1[No.]*IF(Table2[[#This Row],[Date]]=Table1[Date],1,0),2)),0)} -> 8 | W7: =IF(Table2[[#This Row],[Type]]="Goal",1,0) -> 0 | X7: =IF(OR(Table2[[#This Row],[Type]]="Goal",Table2[[#This Row],[Type]]="Shot"),1,0) -> 1 | Y7: =IF(OR(Table2[[#This Row],[Type]]="Goal",Table2[[#This Row],[Type]]="Shot",Table2[[#This Row],[Type]]="Miss"),1,0) -> 1 | Z7: =IF(OR(Table2[[#This Row],[Type]]="Goal",Table2[[#This Row],[Type]]="Shot",Table2[[#This Row],[Type]]="Miss",Table2[[#This Row],[Type]]="Block"),1,0) -> 1 | AA7: =IF(OR(Table2[[#This Row],[Date]]=Visualization!$AH$12,Visualization!$AH$12="All"),1,0)*IF(OR(Visualization!$AS$12="All",Visualization!$AS$12=Table2[[#This Row],[Period]]),1,0)*IF(OR(Table2[[#This Row],[Type]]=Visualization!$BD$12,Visualization!$BD$12="All"),1,0)*IF(OR(Visualization!$BO$12="All",Visualization!$BO$12=Table2[[#This Row],[Strength]]),1,0) -> 1 | AB7: =IF(Table2[[#This Row],[Player]]=Visualization!$AR$2,1,0) -> 0 | AC7: =IF(OR(Table2[[#This Row],[PIT1]]=Visualization!$AR$2,Table2[[#This Row],[PIT2]]=Visualization!$AR$2,Table2[[#This Row],[PIT3]]=Visualization!$AR$2,Table2[[#This Row],[PIT4]]=Visualization!$AR$2,Table2[[#This Row],[PIT5]]=Visualization!$AR$2,Table2[[#This Row],[Goaltender]]=Visualization!$AR$2),1,0) -> 1 | AF7: =_xlfn.XLOOKUP(AE7,Table2[Shot No.],Table2[x2],300) -> 300 | AG7: =_xlfn.XLOOKUP(AE7,Table2[Shot No.],Table2[y2],300) -> 300 | AI7: 29 | AJ7: =_xlfn.XLOOKUP(AI7,Table2[Shot No.],Table2[x2],300) -> 37 | AK7: =_xlfn.XLOOKUP(AI7,Table2[Shot No.],Table2[y2],300) -> 31 | AM7: 25 | AN7: =_xlfn.XLOOKUP(AM7,Table2[Shot No.],Table2[x2],300) -> -49 | AO7: =_xlfn.XLOOKUP(AM7,Table2[Shot No.],Table2[y2],300) -> -28
A8: 1 | B8: T.B | D8: Block | E8: -52 | F8: 21 | G8: F2 | H8: D1 | K8: 35 | M8: EV | N8: 44481 | O8: =ROW(O7) -> 7 | P8: {=_xlfn.XLOOKUP(Table2[[#This Row],[Date]]&Table2[[#This Row],[Period]],Table3[Date]&Table3[Period],Table3[Coordinate])*Table2[[#This Row],[X]]} -> -52 | Q8: {=_xlfn.XLOOKUP(Table2[[#This Row],[Date]]&Table2[[#This Row],[Period]],Table3[Date]&Table3[Period],Table3[Coordinate])*Table2[[#This Row],[Y]]} -> 21 | R8: {=IFERROR(LARGE(_xlfn._xlws.FILTER(Table1[[F1]:[EN2]],IF(Table2[[#This Row],[F Line]]=Table1[[#Headers],[F1]:[EN2]],1,0))*Table1[No.]*IF(Table2[[#This Row],[Date]]=Table1[Date],1,0),1),0)} -> 77 | S8: {=IFERROR(LARGE(_xlfn._xlws.FILTER(Table1[[F1]:[EN2]],IF(Table2[[#This Row],[F Line]]=Table1[[#Headers],[F1]:[EN2]],1,0))*Table1[No.]*IF(Table2[[#This Row],[Date]]=Table1[Date],1,0),2),0)} -> 43 | T8: {=IFERROR(LARGE(_xlfn._xlws.FILTER(Table1[[F1]:[EN2]],IF(Table2[[#This Row],[F Line]]=Table1[[#Headers],[F1]:[EN2]],1,0))*Table1[No.]*IF(Table2[[#This Row],[Date]]=Table1[Date],1,0),3),0)} -> 17 | U8: {=IFERROR(IF(Table2[[#This Row],[D Pair]]="",LARGE(_xlfn._xlws.FILTER(Table1[[F1]:[EN2]],IF(Table2[[#This Row],[F Line]]=Table1[[#Headers],[F1]:[EN2]],1,0))*Table1[No.]*IF(Table2[[#This Row],[Date]]=Table1[Date],1,0),4),LARGE(_xlfn._xlws.FILTER(Table1[[F1]:[EN2]],IF(Table2[[#This Row],[D Pair]]=Table1[[#Headers],[F1]:[EN2]],1,0))*Table1[No.]*IF(Table2[[#This Row],[Date]]=Table1[Date],1,0),1)),0)} -> 58 | V8: {=IFERROR(IF(Table2[[#This Row],[D Pair]]="",LARGE(_xlfn._xlws.FILTER(Table1[[F1]:[EN2]],IF(Table2[[#This Row],[F Line]]=Table1[[#Headers],[F1]:[EN2]],1,0))*Table1[No.]*IF(Table2[[#This Row],[Date]]=Table1[Date],1,0),5),LARGE(_xlfn._xlws.FILTER(Table1[[F1]:[EN2]],IF(Table2[[#This Row],[D Pair]]=Table1[[#Headers],[F1]:[EN2]],1,0))*Table1[No.]*IF(Table2[[#This Row],[Date]]=Table1[Date],1,0),2)),0)} -> 8 | W8: =IF(Table2[[#This Row],[Type]]="Goal",1,0) -> 0 | X8: =IF(OR(Table2[[#This Row],[Type]]="Goal",Table2[[#This Row],[Type]]="Shot"),1,0) -> 0 | Y8: =IF(OR(Table2[[#This Row],[Type]]="Goal",Table2[[#This Row],[Type]]="Shot",Table2[[#This Row],[Type]]="Miss"),1,0) -> 0 | Z8: =IF(OR(Table2[[#This Row],[Type]]="Goal",Table2[[#This Row],[Type]]="Shot",Table2[[#This Row],[Type]]="Miss",Table2[[#This Row],[Type]]="Block"),1,0) -> 1 | AA8: =IF(OR(Table2[[#This Row],[Date]]=Visualization!$AH$12,Visualization!$AH$12="All"),1,0)*IF(OR(Visualization!$AS$12="All",Visualization!$AS$12=Table2[[#This Row],[Period]]),1,0)*IF(OR(Table2[[#This Row],[Type]]=Visualization!$BD$12,Visualization!$BD$12="All"),1,0)*IF(OR(Visualization!$BO$12="All",Visualization!$BO$12=Table2[[#This Row],[Strength]]),1,0) -> 1 | AB8: =IF(Table2[[#This Row],[Player]]=Visualization!$AR$2,1,0) -> 0 | AC8: =IF(OR(Table2[[#This Row],[PIT1]]=Visualization!$AR$2,Table2[[#This Row],[PIT2]]=Visualization!$AR$2,Table2[[#This Row],[PIT3]]=Visualization!$AR$2,Table2[[#This Row],[PIT4]]=Visualization!$AR$2,Table2[[#This Row],[PIT5]]=Visualization!$AR$2,Table2[[#This Row],[Goaltender]]=Visualization!$AR$2),1,0) -> 1 | AF8: =_xlfn.XLOOKUP(AE8,Table2[Shot No.],Table2[x2],300) -> 300 | AG8: =_xlfn.XLOOKUP(AE8,Table2[Shot No.],Table2[y2],300) -> 300 | AI8: 30 | AJ8: =_xlfn.XLOOKUP(AI8,Table2[Shot No.],Table2[x2],300) -> 42 | AK8: =_xlfn.XLOOKUP(AI8,Table2[Shot No.],Table2[y2],300) -> -30 | AM8: 31 | AN8: =_xlfn.XLOOKUP(AM8,Table2[Shot No.],Table2[x2],300) -> -41 | AO8: =_xlfn.XLOOKUP(AM8,Table2[Shot No.],Table2[y2],300) -> -8
A9: 1 | B9: PIT | C9: 71 | D9: Block | E9: 71 | F9: -11 | G9: F1 | H9: D2 | K9: 35 | M9: EV | N9: 44481 | O9: =ROW(O8) -> 8 | P9: {=_xlfn.XLOOKUP(Table2[[#This Row],[Date]]&Table2[[#This Row],[Period]],Table3[Date]&Table3[Period],Table3[Coordinate])*Table2[[#This Row],[X]]} -> 71 | Q9: {=_xlfn.XLOOKUP(Table2[[#This Row],[Date]]&Table2[[#This Row],[Period]],Table3[Date]&Table3[Period],Table3[Coordinate])*Table2[[#This Row],[Y]]} -> -11 | R9: {=IFERROR(LARGE(_xlfn._xlws.FILTER(Table1[[F1]:[EN2]],IF(Table2[[#This Row],[F Line]]=Table1[[#Headers],[F1]:[EN2]],1,0))*Table1[No.]*IF(Table2[[#This Row],[Date]]=Table1[Date],1,0),1),0)} -> 71 | S9: {=IFERROR(LARGE(_xlfn._xlws.FILTER(Table1[[F1]:[EN2]],IF(Table2[[#This Row],[F Line]]=Table1[[#Headers],[F1]:[EN2]],1,0))*Table1[No.]*IF(Table2[[#This Row],[Date]]=Table1[Date],1,0),2),0)} -> 24 | T9: {=IFERROR(LARGE(_xlfn._xlws.FILTER(Table1[[F1]:[EN2]],IF(Table2[[#This Row],[F Line]]=Table1[[#Headers],[F1]:[EN2]],1,0))*Table1[No.]*IF(Table2[[#This Row],[Date]]=Table1[Date],1,0),3),0)} -> 16 | U9: {=IFERROR(IF(Table2[[#This Row],[D Pair]]="",LARGE(_xlfn._xlws.FILTER(Table1[[F1]:[EN2]],IF(Table2[[#This Row],[F Line]]=Table1[[#Headers],[F1]:[EN2]],1,0))*Table1[No.]*IF(Table2[[#This Row],[Date]]=Table1[Date],1,0),4),LARGE(_xlfn._xlws.FILTER(Table1[[F1]:[EN2]],IF(Table2[[#This Row],[D Pair]]=Table1[[#Headers],[F1]:[EN2]],1,0))*Table1[No.]*IF(Table2[[#This Row],[Date]]=Table1[Date],1,0),1)),0)} -> 28 | V9: {=IFERROR(IF(Table2[[#This Row],[D Pair]]="",LARGE(_xlfn._xlws.FILTER(Table1[[F1]:[EN2]],IF(Table2[[#This Row],[F Line]]=Table1[[#Headers],[F1]:[EN2]],1,0))*Table1[No.]*IF(Table2[[#This Row],[Date]]=Table1[Date],1,0),5),LARGE(_xlfn._xlws.FILTER(Table1[[F1]:[EN2]],IF(Table2[[#This Row],[D Pair]]=Table1[[#Headers],[F1]:[EN2]],1,0))*Table1[No.]*IF(Table2[[#This Row],[Date]]=Table1[Date],1,0),2)),0)} -> 6 | W9: =IF(Table2[[#This Row],[Type]]="Goal",1,0) -> 0 | X9: =IF(OR(Table2[[#This Row],[Type]]="Goal",Table2[[#This Row],[Type]]="Shot"),1,0) -> 0 | Y9: =IF(OR(Table2[[#This Row],[Type]]="Goal",Table2[[#This Row],[Type]]="Shot",Table2[[#This Row],[Type]]="Miss"),1,0) -> 0 | Z9: =IF(OR(Table2[[#This Row],[Type]]="Goal",Table2[[#This Row],[Type]]="Shot",Table2[[#This Row],[Type]]="Miss",Table2[[#This Row],[Type]]="Block"),1,0) -> 1 | AA9: =IF(OR(Table2[[#This Row],[Date]]=Visualization!$AH$12,Visualization!$AH$12="All"),1,0)*IF(OR(Visualization!$AS$12="All",Visualization!$AS$12=Table2[[#This Row],[Period]]),1,0)*IF(OR(Table2[[#This Row],[Type]]=Visualization!$BD$12,Visualization!$BD$12="All"),1,0)*IF(OR(Visualization!$BO$12="All",Visualization!$BO$12=Table2[[#This Row],[Strength]]),1,0) -> 1 | AB9: =IF(Table2[[#This Row],[Player]]=Visualization!$AR$2,1,0) -> 0 | AC9: =IF(OR(Table2[[#This Row],[PIT1]]=Visualization!$AR$2,Table2[[#This Row],[PIT2]]=Visualization!$AR$2,Table2[[#This Row],[PIT3]]=Visualization!$AR$2,Table2[[#This Row],[PIT4]]=Visualization!$AR$2,Table2[[#This Row],[PIT5]]=Visualization!$AR$2,Table2[[#This Row],[Goaltender]]=Visualization!$AR$2),1,0) -> 0 | AF9: =_xlfn.XLOOKUP(AE9,Table2[Shot No.],Table2[x2],300) -> 300 | AG9: =_xlfn.XLOOKUP(AE9,Table2[Shot No.],Table2[y2],300) -> 300 | AI9: 37 | AJ9: =_xlfn.XLOOKUP(AI9,Table2[Shot No.],Table2[x2],300) -> 50 | AK9: =_xlfn.XLOOKUP(AI9,Table2[Shot No.],Table2[y2],300) -> -24 | AM9: 36 | AN9: =_xlfn.XLOOKUP(AM9,Table2[Shot No.],Table2[x2],300) -> -51 | AO9: =_xlfn.XLOOKUP(AM9,Table2[Shot No.],Table2[y2],300) -> 15
A10: 1 | B10: PIT | C10: 59 | D10: Shot | E10: 63 | F10: 33 | G10: F3 | H10: D3 | K10: 35 | M10: EV | N10: 44481 | O10: =ROW(O9) -> 9 | P10: {=_xlfn.XLOOKUP(Table2[[#This Row],[Date]]&Table2[[#This Row],[Period]],Table3[Date]&Table3[Period],Table3[Coordinate])*Table2[[#This Row],[X]]} -> 63 | Q10: {=_xlfn.XLOOKUP(Table2[[#This Row],[Date]]&Table2[[#This Row],[Period]],Table3[Date]&Table3[Period],Table3[Coordinate])*Table2[[#This Row],[Y]]} -> 33 | R10: {=IFERROR(LARGE(_xlfn._xlws.FILTER(Table1[[F1]:[EN2]],IF(Table2[[#This Row],[F Line]]=Table1[[#Headers],[F1]:[EN2]],1,0))*Table1[No.]*IF(Table2[[#This Row],[Date]]=Table1[Date],1,0),1),0)} -> 53 | S10: {=IFERROR(LARGE(_xlfn._xlws.FILTER(Table1[[F1]:[EN2]],IF(Table2[[#This Row],[F Line]]=Table1[[#Headers],[F1]:[EN2]],1,0))*Table1[No.]*IF(Table2[[#This Row],[Date]]=Table1[Date],1,0),2),0)} -> 23 | T10: {=IFERROR(LARGE(_xlfn._xlws.FILTER(Table1[[F1]:[EN2]],IF(Table2[[#This Row],[F Line]]=Table1[[#Headers],[F1]:[EN2]],1,0))*Table1[No.]*IF(Table2[[#This Row],[Date]]=Table1[Date],1,0),3),0)} -> 12 | U10: {=IFERROR(IF(Table2[[#This Row],[D Pair]]="",LARGE(_xlfn._xlws.FILTER(Table1[[F1]:[EN2]],IF(Table2[[#This Row],[F Line]]=Table1[[#Headers],[F1]:[EN2]],1,0))*Table1[No.]*IF(Table2[[#This Row],[Date]]=Table1[Date],1,0),4),LARGE(_xlfn._xlws.FILTER(Table1[[F1]:[EN2]],IF(Table2[[#This Row],[D Pair]]=Table1[[#Headers],[F1]:[EN2]],1,0))*Table1[No.]*IF(Table2[[#This Row],[Date]]=Table1[Date],1,0),1)),0)} -> 59 | V10: {=IFERROR(IF(Table2[[#This Row],[D Pair]]="",LARGE(_xlfn._xlws.FILTER(Table1[[F1]:[EN2]],IF(Table2[[#This Row],[F Line]]=Table1[[#Headers],[F1]:[EN2]],1,0))*Table1[No.]*IF(Table2[[#This Row],[Date]]=Table1[Date],1,0),5),LARGE(_xlfn._xlws.FILTER(Table1[[F1]:[EN2]],IF(Table2[[#This Row],[D Pair]]=Table1[[#Headers],[F1]:[EN2]],1,0))*Table1[No.]*IF(Table2[[#This Row],[Date]]=Table1[Date],1,0),2)),0)} -> 2 | W10: =IF(Table2[[#This Row],[Type]]="Goal",1,0) -> 0 | X10: =IF(OR(Table2[[#This Row],[Type]]="Goal",Table2[[#This Row],[Type]]="Shot"),1,0) -> 1 | Y10: =IF(OR(Table2[[#This Row],[Type]]="Goal",Table2[[#This Row],[Type]]="Shot",Table2[[#This Row],[Type]]="Miss"),1,0) -> 1 | Z10: =IF(OR(Table2[[#This Row],[Type]]="Goal",Table2[[#This Row],[Type]]="Shot",Table2[[#This Row],[Type]]="Miss",Table2[[#This Row],[Type]]="Block"),1,0) -> 1 | AA10: =IF(OR(Table2[[#This Row],[Date]]=Visualization!$AH$12,Visualization!$AH$12="All"),1,0)*IF(OR(Visualization!$AS$12="All",Visualization!$AS$12=Table2[[#This Row],[Period]]),1,0)*IF(OR(Table2[[#This Row],[Type]]=Visualization!$BD$12,Visualization!$BD$12="All"),1,0)*IF(OR(Visualization!$BO$12="All",Visualization!$BO$12=Table2[[#This Row],[Strength]]),1,0) -> 1 | AB10: =IF(Table2[[#This Row],[Player]]=Visualization!$AR$2,1,0) -> 0 | AC10: =IF(OR(Table2[[#This Row],[PIT1]]=Visualization!$AR$2,Table2[[#This Row],[PIT2]]=Visualization!$AR$2,Table2[[#This Row],[PIT3]]=Visualization!$AR$2,Table2[[#This Row],[PIT4]]=Visualization!$AR$2,Table2[[#This Row],[PIT5]]=Visualization!$AR$2,Table2[[#This Row],[Goaltender]]=Visualization!$AR$2),1,0) -> 0 | AF10: =_xlfn.XLOOKUP(AE10,Table2[Shot No.],Table2[x2],300) -> 300 | AG10: =_xlfn.XLOOKUP(AE10,Table2[Shot No.],Table2[y2],300) -> 300 | AI10: 38 | AJ10: =_xlfn.XLOOKUP(AI10,Table2[Shot No.],Table2[x2],300) -> 74 | AK10: =_xlfn.XLOOKUP(AI10,Table2[Shot No.],Table2[y2],300) -> -9 | AM10: 50 | AN10: =_xlfn.XLOOKUP(AM10,Table2[Shot No.],Table2[x2],300) -> -37 | AO10: =_xlfn.XLOOKUP(AM10,Table2[Shot No.],Table2[y2],300) -> -14
A11: 1 | B11: PIT | C11: 12 | D11: Shot | E11: 61 | F11: 10 | G11: F3 | H11: D3 | K11: 35 | M11: EV | N11: 44481 | O11: =ROW(O10) -> 10 | P11: {=_xlfn.XLOOKUP(Table2[[#This Row],[Date]]&Table2[[#This Row],[Period]],Table3[Date]&Table3[Period],Table3[Coordinate])*Table2[[#This Row],[X]]} -> 61 | Q11: {=_xlfn.XLOOKUP(Table2[[#This Row],[Date]]&Table2[[#This Row],[Period]],Table3[Date]&Table3[Period],Table3[Coordinate])*Table2[[#This Row],[Y]]} -> 10 | R11: {=IFERROR(LARGE(_xlfn._xlws.FILTER(Table1[[F1]:[EN2]],IF(Table2[[#This Row],[F Line]]=Table1[[#Headers],[F1]:[EN2]],1,0))*Table1[No.]*IF(Table2[[#This Row],[Date]]=Table1[Date],1,0),1),0)} -> 53 | S11: {=IFERROR(LARGE(_xlfn._xlws.FILTER(Table1[[F1]:[EN2]],IF(Table2[[#This Row],[F Line]]=Table1[[#Headers],[F1]:[EN2]],1,0))*Table1[No.]*IF(Table2[[#This Row],[Date]]=Table1[Date],1,0),2),0)} -> 23 | T11: {=IFERROR(LARGE(_xlfn._xlws.FILTER(Table1[[F1]:[EN2]],IF(Table2[[#This Row],[F Line]]=Table1[[#Headers],[F1]:[EN2]],1,0))*Table1[No.]*IF(Table2[[#This Row],[Date]]=Table1[Date],1,0),3),0)} -> 12 | U11: {=IFERROR(IF(Table2[[#This Row],[D Pair]]="",LARGE(_xlfn._xlws.FILTER(Table1[[F1]:[EN2]],IF(Table2[[#This Row],[F Line]]=Table1[[#Headers],[F1]:[EN2]],1,0))*Table1[No.]*IF(Table2[[#This Row],[Date]]=Table1[Date],1,0),4),LARGE(_xlfn._xlws.FILTER(Table1[[F1]:[EN2]],IF(Table2[[#This Row],[D Pair]]=Table1[[#Headers],[F1]:[EN2]],1,0))*Table1[No.]*IF(Table2[[#This Row],[Date]]=Table1[Date],1,0),1)),0)} -> 59 | V11: {=IFERROR(IF(Table2[[#This Row],[D Pair]]="",LARGE(_xlfn._xlws.FILTER(Table1[[F1]:[EN2]],IF(Table2[[#This Row],[F Line]]=Table1[[#Headers],[F1]:[EN2]],1,0))*Table1[No.]*IF(Table2[[#This Row],[Date]]=Table1[Date],1,0),5),LARGE(_xlfn._xlws.FILTER(Table1[[F1]:[EN2]],IF(Table2[[#This Row],[D Pair]]=Table1[[#Headers],[F1]:[EN2]],1,0))*Table1[No.]*IF(Table2[[#This Row],[Date]]=Table1[Date],1,0),2)),0)} -> 2 | W11: =IF(Table2[[#This Row],[Type]]="Goal",1,0) -> 0 | X11: =IF(OR(Table2[[#This Row],[Type]]="Goal",Table2[[#This Row],[Type]]="Shot"),1,0) -> 1 | Y11: =IF(OR(Table2[[#This Row],[Type]]="Goal",Table2[[#This Row],[Type]]="Shot",Table2[[#This Row],[Type]]="Miss"),1,0) -> 1 | Z11: =IF(OR(Table2[[#This Row],[Type]]="Goal",Table2[[#This Row],[Type]]="Shot",Table2[[#This Row],[Type]]="Miss",Table2[[#This Row],[Type]]="Block"),1,0) -> 1 | AA11: =IF(OR(Table2[[#This Row],[Date]]=Visualization!$AH$12,Visualization!$AH$12="All"),1,0)*IF(OR(Visualization!$AS$12="All",Visualization!$AS$12=Table2[[#This Row],[Period]]),1,0)*IF(OR(Table2[[#This Row],[Type]]=Visualization!$BD$12,Visualization!$BD$12="All"),1,0)*IF(OR(Visualization!$BO$12="All",Visualization!$BO$12=Table2[[#This Row],[Strength]]),1,0) -> 1 | AB11: =IF(Table2[[#This Row],[Player]]=Visualization!$AR$2,1,0) -> 0 | AC11: =IF(OR(Table2[[#This Row],[PIT1]]=Visualization!$AR$2,Table2[[#This Row],[PIT2]]=Visualization!$AR$2,Table2[[#This Row],[PIT3]]=Visualization!$AR$2,Table2[[#This Row],[PIT4]]=Visualization!$AR$2,Table2[[#This Row],[PIT5]]=Visualization!$AR$2,Table2[[#This Row],[Goaltender]]=Visualization!$AR$2),1,0) -> 0 | AF11: =_xlfn.XLOOKUP(AE11,Table2[Shot No.],Table2[x2],300) -> 300 | AG11: =_xlfn.XLOOKUP(AE11,Table2[Shot No.],Table2[y2],300) -> 300 | AI11: 49 | AJ11: =_xlfn.XLOOKUP(AI11,Table2[Shot No.],Table2[x2],300) -> 76 | AK11: =_xlfn.XLOOKUP(AI11,Table2[Shot No.],Table2[y2],300) -> 23 | AM11: 65 | AN11: =_xlfn.XLOOKUP(AM11,Table2[Shot No.],Table2[x2],300) -> -45 | AO11: =_xlfn.XLOOKUP(AM11,Table2[Shot No.],Table2[y2],300) -> 31
A12: 1 | B12: T.B | D12: Shot | E12: -64 | F12: -31 | G12: F2 | H12: D3 | K12: 35 | M12: EV | N12: 44481 | O12: =ROW(O11) -> 11 | P12: {=_xlfn.XLOOKUP(Table2[[#This Row],[Date]]&Table2[[#This Row],[Period]],Table3[Date]&Table3[Period],Table3[Coordinate])*Table2[[#This Row],[X]]} -> -64 | Q12: {=_xlfn.XLOOKUP(Table2[[#This Row],[Date]]&Table2[[#This Row],[Period]],Table3[Date]&Table3[Period],Table3[Coordinate])*Table2[[#This Row],[Y]]} -> -31 | R12: {=IFERROR(LARGE(_xlfn._xlws.FILTER(Table1[[F1]:[EN2]],IF(Table2[[#This Row],[F Line]]=Table1[[#Headers],[F1]:[EN2]],1,0))*Table1[No.]*IF(Table2[[#This Row],[Date]]=Table1[Date],1,0),1),0)} -> 77 | S12: {=IFERROR(LARGE(_xlfn._xlws.FILTER(Table1[[F1]:[EN2]],IF(Table2[[#This Row],[F Line]]=Table1[[#Headers],[F1]:[EN2]],1,0))*Table1[No.]*IF(Table2[[#This Row],[Date]]=Table1[Date],1,0),2),0)} -> 43 | T12: {=IFERROR(LARGE(_xlfn._xlws.FILTER(Table1[[F1]:[EN2]],IF(Table2[[#This Row],[F Line]]=Table1[[#Headers],[F1]:[EN2]],1,0))*Table1[No.]*IF(Table2[[#This Row],[Date]]=Table1[Date],1,0),3),0)} -> 17 | U12: {=IFERROR(IF(Table2[[#This Row],[D Pair]]="",LARGE(_xlfn._xlws.FILTER(Table1[[F1]:[EN2]],IF(Table2[[#This Row],[F Line]]=Table1[[#Headers],[F1]:[EN2]],1,0))*Table1[No.]*IF(Table2[[#This Row],[Date]]=Table1[Date],1,0),4),LARGE(_xlfn._xlws.FILTER(Table1[[F1]:[EN2]],IF(Table2[[#This Row],[D Pair]]=Table1[[#Headers],[F1]:[EN2]],1,0))*Table1[No.]*IF(Table2[[#This Row],[Date]]=Table1[Date],1,0),1)),0)} -> 59 | V12: {=IFERROR(IF(Table2[[#This Row],[D Pair]]="",LARGE(_xlfn._xlws.FILTER(Table1[[F1]:[EN2]],IF(Table2[[#This Row],[F Line]]=Table1[[#Headers],[F1]:[EN2]],1,0))*Table1[No.]*IF(Table2[[#This Row],[Date]]=Table1[Date],1,0),5),LARGE(_xlfn._xlws.FILTER(Table1[[F1]:[EN2]],IF(Table2[[#This Row],[D Pair]]=Table1[[#Headers],[F1]:[EN2]],1,0))*Table1[No.]*IF(Table2[[#This Row],[Date]]=Table1[Date],1,0),2)),0)} -> 2 | W12: =IF(Table2[[#This Row],[Type]]="Goal",1,0) -> 0 | X12: =IF(OR(Table2[[#This Row],[Type]]="Goal",Table2[[#This Row],[Type]]="Shot"),1,0) -> 1 | Y12: =IF(OR(Table2[[#This Row],[Type]]="Goal",Table2[[#This Row],[Type]]="Shot",Table2[[#This Row],[Type]]="Miss"),1,0) -> 1 | Z12: =IF(OR(Table2[[#This Row],[Type]]="Goal",Table2[[#This Row],[Type]]="Shot",Table2[[#This Row],[Type]]="Miss",Table2[[#This Row],[Type]]="Block"),1,0) -> 1 | AA12: =IF(OR(Table2[[#This Row],[Date]]=Visualization!$AH$12,Visualization!$AH$12="All"),1,0)*IF(OR(Visualization!$AS$12="All",Visualization!$AS$12=Table2[[#This Row],[Period]]),1,0)*IF(OR(Table2[[#This Row],[Type]]=Visualization!$BD$12,Visualization!$BD$12="All"),1,0)*IF(OR(Visualization!$BO$12="All",Visualization!$BO$12=Table2[[#This Row],[Strength]]),1,0) -> 1 | AB12: =IF(Table2[[#This Row],[Player]]=Visualization!$AR$2,1,0) -> 0 | AC12: =IF(OR(Table2[[#This Row],[PIT1]]=Visualization!$AR$2,Table2[[#This Row],[PIT2]]=Visualization!$AR$2,Table2[[#This Row],[PIT3]]=Visualization!$AR$2,Table2[[#This Row],[PIT4]]=Visualization!$AR$2,Table2[[#This Row],[PIT5]]=Visualization!$AR$2,Table2[[#This Row],[Goaltender]]=Visualization!$AR$2),1,0) -> 1 | AF12: =_xlfn.XLOOKUP(AE12,Table2[Shot No.],Table2[x2],300) -> 300 | AG12: =_xlfn.XLOOKUP(AE12,Table2[Shot No.],Table2[y2],300) -> 300 | AI12: 54 | AJ12: =_xlfn.XLOOKUP(AI12,Table2[Shot No.],Table2[x2],300) -> 83 | AK12: =_xlfn.XLOOKUP(AI12,Table2[Shot No.],Table2[y2],300) -> 6 | AM12: 66 | AN12: =_xlfn.XLOOKUP(AM12,Table2[Shot No.],Table2[x2],300) -> -77 | AO12: =_xlfn.XLOOKUP(AM12,Table2[Shot No.],Table2[y2],300) -> -2
A13: 1 | B13: T.B | D13: Block | E13: -76 | F13: 1 | G13: F2 | H13: D3 | K13: 35 | M13: EV | N13: 44481 | O13: =ROW(O12) -> 12 | P13: {=_xlfn.XLOOKUP(Table2[[#This Row],[Date]]&Table2[[#This Row],[Period]],Table3[Date]&Table3[Period],Table3[Coordinate])*Table2[[#This Row],[X]]} -> -76 | Q13: {=_xlfn.XLOOKUP(Table2[[#This Row],[Date]]&Table2[[#This Row],[Period]],Table3[Date]&Table3[Period],Table3[Coordinate])*Table2[[#This Row],[Y]]} -> 1 | R13: {=IFERROR(LARGE(_xlfn._xlws.FILTER(Table1[[F1]:[EN2]],IF(Table2[[#This Row],[F Line]]=Table1[[#Headers],[F1]:[EN2]],1,0))*Table1[No.]*IF(Table2[[#This Row],[Date]]=Table1[Date],1,0),1),0)} -> 77 | S13: {=IFERROR(LARGE(_xlfn._xlws.FILTER(Table1[[F1]:[EN2]],IF(Table2[[#This Row],[F Line]]=Table1[[#Headers],[F1]:[EN2]],1,0))*Table1[No.]*IF(Table2[[#This Row],[Date]]=Table1[Date],1,0),2),0)} -> 43 | T13: {=IFERROR(LARGE(_xlfn._xlws.FILTER(Table1[[F1]:[EN2]],IF(Table2[[#This Row],[F Line]]=Table1[[#Headers],[F1]:[EN2]],1,0))*Table1[No.]*IF(Table2[[#This Row],[Date]]=Table1[Date],1,0),3),0)} -> 17 | U13: {=IFERROR(IF(Table2[[#This Row],[D Pair]]="",LARGE(_xlfn._xlws.FILTER(Table1[[F1]:[EN2]],IF(Table2[[#This Row],[F Line]]=Table1[[#Headers],[F1]:[EN2]],1,0))*Table1[No.]*IF(Table2[[#This Row],[Date]]=Table1[Date],1,0),4),LARGE(_xlfn._xlws.FILTER(Table1[[F1]:[EN2]],IF(Table2[[#This Row],[D Pair]]=Table1[[#Headers],[F1]:[EN2]],1,0))*Table1[No.]*IF(Table2[[#This Row],[Date]]=Table1[Date],1,0),1)),0)} -> 59 | V13: {=IFERROR(IF(Table2[[#This Row],[D Pair]]="",LARGE(_xlfn._xlws.FILTER(Table1[[F1]:[EN2]],IF(Table2[[#This Row],[F Line]]=Table1[[#Headers],[F1]:[EN2]],1,0))*Table1[No.]*IF(Table2[[#This Row],[Date]]=Table1[Date],1,0),5),LARGE(_xlfn._xlws.FILTER(Table1[[F1]:[EN2]],IF(Table2[[#This Row],[D Pair]]=Table1[[#Headers],[F1]:[EN2]],1,0))*Table1[No.]*IF(Table2[[#This Row],[Date]]=Table1[Date],1,0),2)),0)} -> 2 | W13: =IF(Table2[[#This Row],[Type]]="Goal",1,0) -> 0 | X13: =IF(OR(Table2[[#This Row],[Type]]="Goal",Table2[[#This Row],[Type]]="Shot"),1,0) -> 0 | Y13: =IF(OR(Table2[[#This Row],[Type]]="Goal",Table2[[#This Row],[Type]]="Shot",Table2[[#This Row],[Type]]="Miss"),1,0) -> 0 | Z13: =IF(OR(Table2[[#This Row],[Type]]="Goal",Table2[[#This Row],[Type]]="Shot",Table2[[#This Row],[Type]]="Miss",Table2[[#This Row],[Type]]="Block"),1,0) -> 1 | AA13: =IF(OR(Table2[[#This Row],[Date]]=Visualization!$AH$12,Visualization!$AH$12="All"),1,0)*IF(OR(Visualization!$AS$12="All",Visualization!$AS$12=Table2[[#This Row],[Period]]),1,0)*IF(OR(Table2[[#This Row],[Type]]=Visualization!$BD$12,Visualization!$BD$12="All"),1,0)*IF(OR(Visualization!$BO$12="All",Visualization!$BO$12=Table2[[#This Row],[Strength]]),1,0) -> 1 | AB13: =IF(Table2[[#This Row],[Player]]=Visualization!$AR$2,1,0) -> 0 | AC13: =IF(OR(Table2[[#This Row],[PIT1]]=Visualization!$AR$2,Table2[[#This Row],[PIT2]]=Visualization!$AR$2,Table2[[#This Row],[PIT3]]=Visualization!$AR$2,Table2[[#This Row],[PIT4]]=Visualization!$AR$2,Table2[[#This Row],[PIT5]]=Visualization!$AR$2,Table2[[#This Row],[Goaltender]]=Visualization!$AR$2),1,0) -> 1 | AF13: =_xlfn.XLOOKUP(AE13,Table2[Shot No.],Table2[x2],300) -> 300 | AG13: =_xlfn.XLOOKUP(AE13,Table2[Shot No.],Table2[y2],300) -> 300 | AI13: 55 | AJ13: =_xlfn.XLOOKUP(AI13,Table2[Shot No.],Table2[x2],300) -> 74 | AK13: =_xlfn.XLOOKUP(AI13,Table2[Shot No.],Table2[y2],300) -> 10 | AM13: 67 | AN13: =_xlfn.XLOOKUP(AM13,Table2[Shot No.],Table2[x2],300) -> -81 | AO13: =_xlfn.XLOOKUP(AM13,Table2[Shot No.],Table2[y2],300) -> 6
A14: 1 | B14: PIT | C14: 17 | D14: Shot | E14: 75 | F14: 9 | G14: F2 | H14: D3 | K14: 35 | M14: EV | N14: 44481 | O14: =ROW(O13) -> 13 | P14: {=_xlfn.XLOOKUP(Table2[[#This Row],[Date]]&Table2[[#This Row],[Period]],Table3[Date]&Table3[Period],Table3[Coordinate])*Table2[[#This Row],[X]]} -> 75 | Q14: {=_xlfn.XLOOKUP(Table2[[#This Row],[Date]]&Table2[[#This Row],[Period]],Table3[Date]&Table3[Period],Table3[Coordinate])*Table2[[#This Row],[Y]]} -> 9 | R14: {=IFERROR(LARGE(_xlfn._xlws.FILTER(Table1[[F1]:[EN2]],IF(Table2[[#This Row],[F Line]]=Table1[[#Headers],[F1]:[EN2]],1,0))*Table1[No.]*IF(Table2[[#This Row],[Date]]=Table1[Date],1,0),1),0)} -> 77 | S14: {=IFERROR(LARGE(_xlfn._xlws.FILTER(Table1[[F1]:[EN2]],IF(Table2[[#This Row],[F Line]]=Table1[[#Headers],[F1]:[EN2]],1,0))*Table1[No.]*IF(Table2[[#This Row],[Date]]=Table1[Date],1,0),2),0)} -> 43 | T14: {=IFERROR(LARGE(_xlfn._xlws.FILTER(Table1[[F1]:[EN2]],IF(Table2[[#This Row],[F Line]]=Table1[[#Headers],[F1]:[EN2]],1,0))*Table1[No.]*IF(Table2[[#This Row],[Date]]=Table1[Date],1,0),3),0)} -> 17 | U14: {=IFERROR(IF(Table2[[#This Row],[D Pair]]="",LARGE(_xlfn._xlws.FILTER(Table1[[F1]:[EN2]],IF(Table2[[#This Row],[F Line]]=Table1[[#Headers],[F1]:[EN2]],1,0))*Table1[No.]*IF(Table2[[#This Row],[Date]]=Table1[Date],1,0),4),LARGE(_xlfn._xlws.FILTER(Table1[[F1]:[EN2]],IF(Table2[[#This Row],[D Pair]]=Table1[[#Headers],[F1]:[EN2]],1,0))*Table1[No.]*IF(Table2[[#This Row],[Date]]=Table1[Date],1,0),1)),0)} -> 59 | V14: {=IFERROR(IF(Table2[[#This Row],[D Pair]]="",LARGE(_xlfn._xlws.FILTER(Table1[[F1]:[EN2]],IF(Table2[[#This Row],[F Line]]=Table1[[#Headers],[F1]:[EN2]],1,0))*Table1[No.]*IF(Table2[[#This Row],[Date]]=Table1[Date],1,0),5),LARGE(_xlfn._xlws.FILTER(Table1[[F1]:[EN2]],IF(Table2[[#This Row],[D Pair]]=Table1[[#Headers],[F1]:[EN2]],1,0))*Table1[No.]*IF(Table2[[#This Row],[Date]]=Table1[Date],1,0),2)),0)} -> 2 | W14: =IF(Table2[[#This Row],[Type]]="Goal",1,0) -> 0 | X14: =IF(OR(Table2[[#This Row],[Type]]="Goal",Table2[[#This Row],[Type]]="Shot"),1,0) -> 1 | Y14: =IF(OR(Table2[[#This Row],[Type]]="Goal",Table2[[#This Row],[Type]]="Shot",Table2[[#This Row],[Type]]="Miss"),1,0) -> 1 | Z14: =IF(OR(Table2[[#This Row],[Type]]="Goal",Table2[[#This Row],[Type]]="Shot",Table2[[#This Row],[Type]]="Miss",Table2[[#This Row],[Type]]="Block"),1,0) -> 1 | AA14: =IF(OR(Table2[[#This Row],[Date]]=Visualization!$AH$12,Visualization!$AH$12="All"),1,0)*IF(OR(Visualization!$AS$12="All",Visualization!$AS$12=Table2[[#This Row],[Period]]),1,0)*IF(OR(Table2[[#This Row],[Type]]=Visualization!$BD$12,Visualization!$BD$12="All"),1,0)*IF(OR(Visualization!$BO$12="All",Visualization!$BO$12=Table2[[#This Row],[Strength]]),1,0) -> 1 | AB14: =IF(Table2[[#This Row],[Player]]=Visualization!$AR$2,1,0) -> 0 | AC14: =IF(OR(Table2[[#This Row],[PIT1]]=Visualization!$AR$2,Table2[[#This Row],[PIT2]]=Visualization!$AR$2,Table2[[#This Row],[PIT3]]=Visualization!$AR$2,Table2[[#This Row],[PIT4]]=Visualization!$AR$2,Table2[[#This Row],[PIT5]]=Visualization!$AR$2,Table2[[#This Row],[Goaltender]]=Visualization!$AR$2),1,0) -> 1 | AF14: =_xlfn.XLOOKUP(AE14,Table2[Shot No.],Table2[x2],300) -> 300 | AG14: =_xlfn.XLOOKUP(AE14,Table2[Shot No.],Table2[y2],300) -> 300 | AI14: 74 | AJ14: =_xlfn.XLOOKUP(AI14,Table2[Shot No.],Table2[x2],300) -> 30 | AK14: =_xlfn.XLOOKUP(AI14,Table2[Shot No.],Table2[y2],300) -> 27 | AM14: 68 | AN14: =_xlfn.XLOOKUP(AM14,Table2[Shot No.],Table2[x2],300) -> -78 | AO14: =_xlfn.XLOOKUP(AM14,Table2[Shot No.],Table2[y2],300) -> 2
A15: 1 | B15: PIT | C15: 10 | D15: Shot | E15: 73 | F15: -12 | G15: F4 | H15: D1 | K15: 35 | M15: EV | N15: 44481 | O15: =ROW(O14) -> 14 | P15: {=_xlfn.XLOOKUP(Table2[[#This Row],[Date]]&Table2[[#This Row],[Period]],Table3[Date]&Table3[Period],Table3[Coordinate])*Table2[[#This Row],[X]]} -> 73 | Q15: {=_xlfn.XLOOKUP(Table2[[#This Row],[Date]]&Table2[[#This Row],[Period]],Table3[Date]&Table3[Period],Table3[Coordinate])*Table2[[#This Row],[Y]]} -> -12 | R15: {=IFERROR(LARGE(_xlfn._xlws.FILTER(Table1[[F1]:[EN2]],IF(Table2[[#This Row],[F Line]]=Table1[[#Headers],[F1]:[EN2]],1,0))*Table1[No.]*IF(Table2[[#This Row],[Date]]=Table1[Date],1,0),1),0)} -> 37 | S15: {=IFERROR(LARGE(_xlfn._xlws.FILTER(Table1[[F1]:[EN2]],IF(Table2[[#This Row],[F Line]]=Table1[[#Headers],[F1]:[EN2]],1,0))*Table1[No.]*IF(Table2[[#This Row],[Date]]=Table1[Date],1,0),2),0)} -> 11 | T15: {=IFERROR(LARGE(_xlfn._xlws.FILTER(Table1[[F1]:[EN2]],IF(Table2[[#This Row],[F Line]]=Table1[[#Headers],[F1]:[EN2]],1,0))*Table1[No.]*IF(Table2[[#This Row],[Date]]=Table1[Date],1,0),3),0)} -> 10 | U15: {=IFERROR(IF(Table2[[#This Row],[D Pair]]="",LARGE(_xlfn._xlws.FILTER(Table1[[F1]:[EN2]],IF(Table2[[#This Row],[F Line]]=Table1[[#Headers],[F1]:[EN2]],1,0))*Table1[No.]*IF(Table2[[#This Row],[Date]]=Table1[Date],1,0),4),LARGE(_xlfn._xlws.FILTER(Table1[[F1]:[EN2]],IF(Table2[[#This Row],[D Pair]]=Table1[[#Headers],[F1]:[EN2]],1,0))*Table1[No.]*IF(Table2[[#This Row],[Date]]=Table1[Date],1,0),1)),0)} -> 58 | V15: {=IFERROR(IF(Table2[[#This Row],[D Pair]]="",LARGE(_xlfn._xlws.FILTER(Table1[[F1]:[EN2]],IF(Table2[[#This Row],[F Line]]=Table1[[#Headers],[F1]:[EN2]],1,0))*Table1[No.]*IF(Table2[[#This Row],[Date]]=Table1[Date],1,0),5),LARGE(_xlfn._xlws.FILTER(Table1[[F1]:[EN2]],IF(Table2[[#This Row],[D Pair]]=Table1[[#Headers],[F1]:[EN2]],1,0))*Table1[No.]*IF(Table2[[#This Row],[Date]]=Table1[Date],1,0),2)),0)} -> 8 | W15: =IF(Table2[[#This Row],[Type]]="Goal",1,0) -> 0 | X15: =IF(OR(Table2[[#This Row],[Type]]="Goal",Table2[[#This Row],[Type]]="Shot"),1,0) -> 1 | Y15: =IF(OR(Table2[[#This Row],[Type]]="Goal",Table2[[#This Row],[Type]]="Shot",Table2[[#This Row],[Type]]="Miss"),1,0) -> 1 | Z15: =IF(OR(Table2[[#This Row],[Type]]="Goal",Table2[[#This Row],[Type]]="Shot",Table2[[#This Row],[Type]]="Miss",Table2[[#This Row],[Type]]="Block"),1,0) -> 1 | AA15: =IF(OR(Table2[[#This Row],[Date]]=Visualization!$AH$12,Visualization!$AH$12="All"),1,0)*IF(OR(Visualization!$AS$12="All",Visualization!$AS$12=Table2[[#This Row],[Period]]),1,0)*IF(OR(Table2[[#This Row],[Type]]=Visualization!$BD$12,Visualization!$BD$12="All"),1,0)*IF(OR(Visualization!$BO$12="All",Visualization!$BO$12=Table2[[#This Row],[Strength]]),1,0) -> 1 | AB15: =IF(Table2[[#This Row],[Player]]=Visualization!$AR$2,1,0) -> 0 | AC15: =IF(OR(Table2[[#This Row],[PIT1]]=Visualization!$AR$2,Table2[[#This Row],[PIT2]]=Visualization!$AR$2,Table2[[#This Row],[PIT3]]=Visualization!$AR$2,Table2[[#This Row],[PIT4]]=Visualization!$AR$2,Table2[[#This Row],[PIT5]]=Visualization!$AR$2,Table2[[#This Row],[Goaltender]]=Visualization!$AR$2),1,0) -> 0 | AF15: =_xlfn.XLOOKUP(AE15,Table2[Shot No.],Table2[x2],300) -> 300 | AG15: =_xlfn.XLOOKUP(AE15,Table2[Shot No.],Table2[y2],300) -> 300 | AI15: 87 | AJ15: =_xlfn.XLOOKUP(AI15,Table2[Shot No.],Table2[x2],300) -> 42 | AK15: =_xlfn.XLOOKUP(AI15,Table2[Shot No.],Table2[y2],300) -> -4 | AM15: 75 | AN15: =_xlfn.XLOOKUP(AM15,Table2[Shot No.],Table2[x2],300) -> -74 | AO15: =_xlfn.XLOOKUP(AM15,Table2[Shot No.],Table2[y2],300) -> 20
A16: 1 | B16: PIT | C16: 58 | D16: Block | E16: 76 | F16: -1 | G16: F4 | H16: D1 | K16: 35 | M16: EV | N16: 44481 | O16: =ROW(O15) -> 15 | P16: {=_xlfn.XLOOKUP(Table2[[#This Row],[Date]]&Table2[[#This Row],[Period]],Table3[Date]&Table3[Period],Table3[Coordinate])*Table2[[#This Row],[X]]} -> 76 | Q16: {=_xlfn.XLOOKUP(Table2[[#This Row],[Date]]&Table2[[#This Row],[Period]],Table3[Date]&Table3[Period],Table3[Coordinate])*Table2[[#This Row],[Y]]} -> -1 | R16: {=IFERROR(LARGE(_xlfn._xlws.FILTER(Table1[[F1]:[EN2]],IF(Table2[[#This Row],[F Line]]=Table1[[#Headers],[F1]:[EN2]],1,0))*Table1[No.]*IF(Table2[[#This Row],[Date]]=Table1[Date],1,0),1),0)} -> 37 | S16: {=IFERROR(LARGE(_xlfn._xlws.FILTER(Table1[[F1]:[EN2]],IF(Table2[[#This Row],[F Line]]=Table1[[#Headers],[F1]:[EN2]],1,0))*Table1[No.]*IF(Table2[[#This Row],[Date]]=Table1[Date],1,0),2),0)} -> 11 | T16: {=IFERROR(LARGE(_xlfn._xlws.FILTER(Table1[[F1]:[EN2]],IF(Table2[[#This Row],[F Line]]=Table1[[#Headers],[F1]:[EN2]],1,0))*Table1[No.]*IF(Table2[[#This Row],[Date]]=Table1[Date],1,0),3),0)} -> 10 | U16: {=IFERROR(IF(Table2[[#This Row],[D Pair]]="",LARGE(_xlfn._xlws.FILTER(Table1[[F1]:[EN2]],IF(Table2[[#This Row],[F Line]]=Table1[[#Headers],[F1]:[EN2]],1,0))*Table1[No.]*IF(Table2[[#This Row],[Date]]=Table1[Date],1,0),4),LARGE(_xlfn._xlws.FILTER(Table1[[F1]:[EN2]],IF(Table2[[#This Row],[D Pair]]=Table1[[#Headers],[F1]:[EN2]],1,0))*Table1[No.]*IF(Table2[[#This Row],[Date]]=Table1[Date],1,0),1)),0)} -> 58 | V16: {=IFERROR(IF(Table2[[#This Row],[D Pair]]="",LARGE(_xlfn._xlws.FILTER(Table1[[F1]:[EN2]],IF(Table2[[#This Row],[F Line]]=Table1[[#Headers],[F1]:[EN2]],1,0))*Table1[No.]*IF(Table2[[#This Row],[Date]]=Table1[Date],1,0),5),LARGE(_xlfn._xlws.FILTER(Table1[[F1]:[EN2]],IF(Table2[[#This Row],[D Pair]]=Table1[[#Headers],[F1]:[EN2]],1,0))*Table1[No.]*IF(Table2[[#This Row],[Date]]=Table1[Date],1,0),2)),0)} -> 8 | W16: =IF(Table2[[#This Row],[Type]]="Goal",1,0) -> 0 | X16: =IF(OR(Table2[[#This Row],[Type]]="Goal",Table2[[#This Row],[Type]]="Shot"),1,0) -> 0 | Y16: =IF(OR(Table2[[#This Row],[Type]]="Goal",Table2[[#This Row],[Type]]="Shot",Table2[[#This Row],[Type]]="Miss"),1,0) -> 0 | Z16: =IF(OR(Table2[[#This Row],[Type]]="Goal",Table2[[#This Row],[Type]]="Shot",Table2[[#This Row],[Type]]="Miss",Table2[[#This Row],[Type]]="Block"),1,0) -> 1 | AA16: =IF(OR(Table2[[#This Row],[Date]]=Visualization!$AH$12,Visualization!$AH$12="All"),1,0)*IF(OR(Visualization!$AS$12="All",Visualization!$AS$12=Table2[[#This Row],[Period]]),1,0)*IF(OR(Table2[[#This Row],[Type]]=Visualization!$BD$12,Visualization!$BD$12="All"),1,0)*IF(OR(Visualization!$BO$12="All",Visualization!$BO$12=Table2[[#This Row],[Strength]]),1,0) -> 1 | AB16: =IF(Table2[[#This Row],[Player]]=Visualization!$AR$2,1,0) -> 0 | AC16: =IF(OR(Table2[[#This Row],[PIT1]]=Visualization!$AR$2,Table2[[#This Row],[PIT2]]=Visualization!$AR$2,Table2[[#This Row],[PIT3]]=Visualization!$AR$2,Table2[[#This Row],[PIT4]]=Visualization!$AR$2,Table2[[#This Row],[PIT5]]=Visualization!$AR$2,Table2[[#This Row],[Goaltender]]=Visualization!$AR$2),1,0) -> 0 | AF16: =_xlfn.XLOOKUP(AE16,Table2[Shot No.],Table2[x2],300) -> 300 | AG16: =_xlfn.XLOOKUP(AE16,Table2[Shot No.],Table2[y2],300) -> 300 | AI16: 88 | AJ16: =_xlfn.XLOOKUP(AI16,Table2[Shot No.],Table2[x2],300) -> 79 | AK16: =_xlfn.XLOOKUP(AI16,Table2[Shot No.],Table2[y2],300) -> -2 | AM16: 76 | AN16: =_xlfn.XLOOKUP(AM16,Table2[Shot No.],Table2[x2],300) -> -39 | AO16: =_xlfn.XLOOKUP(AM16,Table2[Shot No.],Table2[y2],300) -> -21
A17: 1 | B17: PIT | C17: 11 | D17: Shot | E17: 66 | F17: 17 | G17: F4 | H17: D1 | K17: 35 | M17: EV | N17: 44481 | O17: =ROW(O16) -> 16 | P17: {=_xlfn.XLOOKUP(Table2[[#This Row],[Date]]&Table2[[#This Row],[Period]],Table3[Date]&Table3[Period],Table3[Coordinate])*Table2[[#This Row],[X]]} -> 66 | Q17: {=_xlfn.XLOOKUP(Table2[[#This Row],[Date]]&Table2[[#This Row],[Period]],Table3[Date]&Table3[Period],Table3[Coordinate])*Table2[[#This Row],[Y]]} -> 17 | R17: {=IFERROR(LARGE(_xlfn._xlws.FILTER(Table1[[F1]:[EN2]],IF(Table2[[#This Row],[F Line]]=Table1[[#Headers],[F1]:[EN2]],1,0))*Table1[No.]*IF(Table2[[#This Row],[Date]]=Table1[Date],1,0),1),0)} -> 37 | S17: {=IFERROR(LARGE(_xlfn._xlws.FILTER(Table1[[F1]:[EN2]],IF(Table2[[#This Row],[F Line]]=Table1[[#Headers],[F1]:[EN2]],1,0))*Table1[No.]*IF(Table2[[#This Row],[Date]]=Table1[Date],1,0),2),0)} -> 11 | T17: {=IFERROR(LARGE(_xlfn._xlws.FILTER(Table1[[F1]:[EN2]],IF(Table2[[#This Row],[F Line]]=Table1[[#Headers],[F1]:[EN2]],1,0))*Table1[No.]*IF(Table2[[#This Row],[Date]]=Table1[Date],1,0),3),0)} -> 10 | U17: {=IFERROR(IF(Table2[[#This Row],[D Pair]]="",LARGE(_xlfn._xlws.FILTER(Table1[[F1]:[EN2]],IF(Table2[[#This Row],[F Line]]=Table1[[#Headers],[F1]:[EN2]],1,0))*Table1[No.]*IF(Table2[[#This Row],[Date]]=Table1[Date],1,0),4),LARGE(_xlfn._xlws.FILTER(Table1[[F1]:[EN2]],IF(Table2[[#This Row],[D Pair]]=Table1[[#Headers],[F1]:[EN2]],1,0))*Table1[No.]*IF(Table2[[#This Row],[Date]]=Table1[Date],1,0),1)),0)} -> 58 | V17: {=IFERROR(IF(Table2[[#This Row],[D Pair]]="",LARGE(_xlfn._xlws.FILTER(Table1[[F1]:[EN2]],IF(Table2[[#This Row],[F Line]]=Table1[[#Headers],[F1]:[EN2]],1,0))*Table1[No.]*IF(Table2[[#This Row],[Date]]=Table1[Date],1,0),5),LARGE(_xlfn._xlws.FILTER(Table1[[F1]:[EN2]],IF(Table2[[#This Row],[D Pair]]=Table1[[#Headers],[F1]:[EN2]],1,0))*Table1[No.]*IF(Table2[[#This Row],[Date]]=Table1[Date],1,0),2)),0)} -> 8 | W17: =IF(Table2[[#This Row],[Type]]="Goal",1,0) -> 0 | X17: =IF(OR(Table2[[#This Row],[Type]]="Goal",Table2[[#This Row],[Type]]="Shot"),1,0) -> 1 | Y17: =IF(OR(Table2[[#This Row],[Type]]="Goal",Table2[[#This Row],[Type]]="Shot",Table2[[#This Row],[Type]]="Miss"),1,0) -> 1 | Z17: =IF(OR(Table2[[#This Row],[Type]]="Goal",Table2[[#This Row],[Type]]="Shot",Table2[[#This Row],[Type]]="Miss",Table2[[#This Row],[Type]]="Block"),1,0) -> 1 | AA17: =IF(OR(Table2[[#This Row],[Date]]=Visualization!$AH$12,Visualization!$AH$12="All"),1,0)*IF(OR(Visualization!$AS$12="All",Visualization!$AS$12=Table2[[#This Row],[Period]]),1,0)*IF(OR(Table2[[#This Row],[Type]]=Visualization!$BD$12,Visualization!$BD$12="All"),1,0)*IF(OR(Visualization!$BO$12="All",Visualization!$BO$12=Table2[[#This Row],[Strength]]),1,0) -> 1 | AB17: =IF(Table2[[#This Row],[Player]]=Visualization!$AR$2,1,0) -> 0 | AC17: =IF(OR(Table2[[#This Row],[PIT1]]=Visualization!$AR$2,Table2[[#This Row],[PIT2]]=Visualization!$AR$2,Table2[[#This Row],[PIT3]]=Visualization!$AR$2,Table2[[#This Row],[PIT4]]=Visualization!$AR$2,Table2[[#This Row],[PIT5]]=Visualization!$AR$2,Table2[[#This Row],[Goaltender]]=Visualization!$AR$2),1,0) -> 0 | AF17: =_xlfn.XLOOKUP(AE17,Table2[Shot No.],Table2[x2],300) -> 300 | AG17: =_xlfn.XLOOKUP(AE17,Table2[Shot No.],Table2[y2],300) -> 300 | AI17: 103 | AJ17: =_xlfn.XLOOKUP(AI17,Table2[Shot No.],Table2[x2],300) -> 51 | AK17: =_xlfn.XLOOKUP(AI17,Table2[Shot No.],Table2[y2],300) -> -11 | AM17: 95 | AN17: =_xlfn.XLOOKUP(AM17,Table2[Shot No.],Table2[x2],300) -> 8 | AO17: =_xlfn.XLOOKUP(AM17,Table2[Shot No.],Table2[y2],300) -> -35
A18: 1 | B18: PIT | C18: 24 | D18: Shot | E18: 58 | F18: -7 | G18: F1 | H18: D1 | K18: 35 | M18: EV | N18: 44481 | O18: =ROW(O17) -> 17 | P18: {=_xlfn.XLOOKUP(Table2[[#This Row],[Date]]&Table2[[#This Row],[Period]],Table3[Date]&Table3[Period],Table3[Coordinate])*Table2[[#This Row],[X]]} -> 58 | Q18: {=_xlfn.XLOOKUP(Table2[[#This Row],[Date]]&Table2[[#This Row],[Period]],Table3[Date]&Table3[Period],Table3[Coordinate])*Table2[[#This Row],[Y]]} -> -7 | R18: {=IFERROR(LARGE(_xlfn._xlws.FILTER(Table1[[F1]:[EN2]],IF(Table2[[#This Row],[F Line]]=Table1[[#Headers],[F1]:[EN2]],1,0))*Table1[No.]*IF(Table2[[#This Row],[Date]]=Table1[Date],1,0),1),0)} -> 71 | S18: {=IFERROR(LARGE(_xlfn._xlws.FILTER(Table1[[F1]:[EN2]],IF(Table2[[#This Row],[F Line]]=Table1[[#Headers],[F1]:[EN2]],1,0))*Table1[No.]*IF(Table2[[#This Row],[Date]]=Table1[Date],1,0),2),0)} -> 24 | T18: {=IFERROR(LARGE(_xlfn._xlws.FILTER(Table1[[F1]:[EN2]],IF(Table2[[#This Row],[F Line]]=Table1[[#Headers],[F1]:[EN2]],1,0))*Table1[No.]*IF(Table2[[#This Row],[Date]]=Table1[Date],1,0),3),0)} -> 16 | U18: {=IFERROR(IF(Table2[[#This Row],[D Pair]]="",LARGE(_xlfn._xlws.FILTER(Table1[[F1]:[EN2]],IF(Table2[[#This Row],[F Line]]=Table1[[#Headers],[F1]:[EN2]],1,0))*Table1[No.]*IF(Table2[[#This Row],[Date]]=Table1[Date],1,0),4),LARGE(_xlfn._xlws.FILTER(Table1[[F1]:[EN2]],IF(Table2[[#This Row],[D Pair]]=Table1[[#Headers],[F1]:[EN2]],1,0))*Table1[No.]*IF(Table2[[#This Row],[Date]]=Table1[Date],1,0),1)),0)} -> 58 | V18: {=IFERROR(IF(Table2[[#This Row],[D Pair]]="",LARGE(_xlfn._xlws.FILTER(Table1[[F1]:[EN2]],IF(Table2[[#This Row],[F Line]]=Table1[[#Headers],[F1]:[EN2]],1,0))*Table1[No.]*IF(Table2[[#This Row],[Date]]=Table1[Date],1,0),5),LARGE(_xlfn._xlws.FILTER(Table1[[F1]:[EN2]],IF(Table2[[#This Row],[D Pair]]=Table1[[#Headers],[F1]:[EN2]],1,0))*Table1[No.]*IF(Table2[[#This Row],[Date]]=Table1[Date],1,0),2)),0)} -> 8 | W18: =IF(Table2[[#This Row],[Type]]="Goal",1,0) -> 0 | X18: =IF(OR(Table2[[#This Row],[Type]]="Goal",Table2[[#This Row],[Type]]="Shot"),1,0) -> 1 | Y18: =IF(OR(Table2[[#This Row],[Type]]="Goal",Table2[[#This Row],[Type]]="Shot",Table2[[#This Row],[Type]]="Miss"),1,0) -> 1 | Z18: =IF(OR(Table2[[#This Row],[Type]]="Goal",Table2[[#This Row],[Type]]="Shot",Table2[[#This Row],[Type]]="Miss",Table2[[#This Row],[Type]]="Block"),1,0) -> 1 | AA18: =IF(OR(Table2[[#This Row],[Date]]=Visualization!$AH$12,Visualization!$AH$12="All"),1,0)*IF(OR(Visualization!$AS$12="All",Visualization!$AS$12=Table2[[#This Row],[Period]]),1,0)*IF(OR(Table2[[#This Row],[Type]]=Visualization!$BD$12,Visualization!$BD$12="All"),1,0)*IF(OR(Visualization!$BO$12="All",Visualization!$BO$12=Table2[[#This Row],[Strength]]),1,0) -> 1 | AB18: =IF(Table2[[#This Row],[Player]]=Visualization!$AR$2,1,0) -> 0 | AC18: =IF(OR(Table2[[#This Row],[PIT1]]=Visualization!$AR$2,Table2[[#This Row],[PIT2]]=Visualization!$AR$2,Table2[[#This Row],[PIT3]]=Visualization!$AR$2,Table2[[#This Row],[PIT4]]=Visualization!$AR$2,Table2[[#This Row],[PIT5]]=Visualization!$AR$2,Table2[[#This Row],[Goaltender]]=Visualization!$AR$2),1,0) -> 0 | AF18: =_xlfn.XLOOKUP(AE18,Table2[Shot No.],Table2[x2],300) -> 300 | AG18: =_xlfn.XLOOKUP(AE18,Table2[Shot No.],Table2[y2],300) -> 300 | AI18: 104 | AJ18: =_xlfn.XLOOKUP(AI18,Table2[Shot No.],Table2[x2],300) -> 51 | AK18: =_xlfn.XLOOKUP(AI18,Table2[Shot No.],Table2[y2],300) -> -19 | AM18: 96 | AN18: =_xlfn.XLOOKUP(AM18,Table2[Shot No.],Table2[x2],300) -> -40 | AO18: =_xlfn.XLOOKUP(AM18,Table2[Shot No.],Table2[y2],300) -> 24
A19: 1 | B19: PIT | C19: 58 | D19: Shot | E19: 72 | F19: 0 | G19: F2 | H19: D1 | K19: 35 | M19: EV | N19: 44481 | O19: =ROW(O18) -> 18 | P19: {=_xlfn.XLOOKUP(Table2[[#This Row],[Date]]&Table2[[#This Row],[Period]],Table3[Date]&Table3[Period],Table3[Coordinate])*Table2[[#This Row],[X]]} -> 72 | Q19: {=_xlfn.XLOOKUP(Table2[[#This Row],[Date]]&Table2[[#This Row],[Period]],Table3[Date]&Table3[Period],Table3[Coordinate])*Table2[[#This Row],[Y]]} -> 0 | R19: {=IFERROR(LARGE(_xlfn._xlws.FILTER(Table1[[F1]:[EN2]],IF(Table2[[#This Row],[F Line]]=Table1[[#Headers],[F1]:[EN2]],1,0))*Table1[No.]*IF(Table2[[#This Row],[Date]]=Table1[Date],1,0),1),0)} -> 77 | S19: {=IFERROR(LARGE(_xlfn._xlws.FILTER(Table1[[F1]:[EN2]],IF(Table2[[#This Row],[F Line]]=Table1[[#Headers],[F1]:[EN2]],1,0))*Table1[No.]*IF(Table2[[#This Row],[Date]]=Table1[Date],1,0),2),0)} -> 43 | T19: {=IFERROR(LARGE(_xlfn._xlws.FILTER(Table1[[F1]:[EN2]],IF(Table2[[#This Row],[F Line]]=Table1[[#Headers],[F1]:[EN2]],1,0))*Table1[No.]*IF(Table2[[#This Row],[Date]]=Table1[Date],1,0),3),0)} -> 17 | U19: {=IFERROR(IF(Table2[[#This Row],[D Pair]]="",LARGE(_xlfn._xlws.FILTER(Table1[[F1]:[EN2]],IF(Table2[[#This Row],[F Line]]=Table1[[#Headers],[F1]:[EN2]],1,0))*Table1[No.]*IF(Table2[[#This Row],[Date]]=Table1[Date],1,0),4),LARGE(_xlfn._xlws.FILTER(Table1[[F1]:[EN2]],IF(Table2[[#This Row],[D Pair]]=Table1[[#Headers],[F1]:[EN2]],1,0))*Table1[No.]*IF(Table2[[#This Row],[Date]]=Table1[Date],1,0),1)),0)} -> 58 | V19: {=IFERROR(IF(Table2[[#This Row],[D Pair]]="",LARGE(_xlfn._xlws.FILTER(Table1[[F1]:[EN2]],IF(Table2[[#This Row],[F Line]]=Table1[[#Headers],[F1]:[EN2]],1,0))*Table1[No.]*IF(Table2[[#This Row],[Date]]=Table1[Date],1,0),5),LARGE(_xlfn._xlws.FILTER(Table1[[F1]:[EN2]],IF(Table2[[#This Row],[D Pair]]=Table1[[#Headers],[F1]:[EN2]],1,0))*Table1[No.]*IF(Table2[[#This Row],[Date]]=Table1[Date],1,0),2)),0)} -> 8 | W19: =IF(Table2[[#This Row],[Type]]="Goal",1,0) -> 0 | X19: =IF(OR(Table2[[#This Row],[Type]]="Goal",Table2[[#This Row],[Type]]="Shot"),1,0) -> 1 | Y19: =IF(OR(Table2[[#This Row],[Type]]="Goal",Table2[[#This Row],[Type]]="Shot",Table2[[#This Row],[Type]]="Miss"),1,0) -> 1 | Z19: =IF(OR(Table2[[#This Row],[Type]]="Goal",Table2[[#This Row],[Type]]="Shot",Table2[[#This Row],[Type]]="Miss",Table2[[#This Row],[Type]]="Block"),1,0) -> 1 | AA19: =IF(OR(Table2[[#This Row],[Date]]=Visualization!$AH$12,Visualization!$AH$12="All"),1,0)*IF(OR(Visualization!$AS$12="All",Visualization!$AS$12=Table2[[#This Row],[Period]]),1,0)*IF(OR(Table2[[#This Row],[Type]]=Visualization!$BD$12,Visualization!$BD$12="All"),1,0)*IF(OR(Visualization!$BO$12="All",Visualization!$BO$12=Table2[[#This Row],[Strength]]),1,0) -> 1 | AB19: =IF(Table2[[#This Row],[Player]]=Visualization!$AR$2,1,0) -> 0 | AC19: =IF(OR(Table2[[#This Row],[PIT1]]=Visualization!$AR$2,Table2[[#This Row],[PIT2]]=Visualization!$AR$2,Table2[[#This Row],[PIT3]]=Visualization!$AR$2,Table2[[#This Row],[PIT4]]=Visualization!$AR$2,Table2[[#This Row],[PIT5]]=Visualization!$AR$2,Table2[[#This Row],[Goaltender]]=Visualization!$AR$2),1,0) -> 1 | AF19: =_xlfn.XLOOKUP(AE19,Table2[Shot No.],Table2[x2],300) -> 300 | AG19: =_xlfn.XLOOKUP(AE19,Table2[Shot No.],Table2[y2],300) -> 300 | AJ19: =_xlfn.XLOOKUP(AI19,Table2[Shot No.],Table2[x2],300) -> 300 | AK19: =_xlfn.XLOOKUP(AI19,Table2[Shot No.],Table2[y2],300) -> 300 | AN19: =_xlfn.XLOOKUP(AM19,Table2[Shot No.],Table2[x2],300) -> 300 | AO19: =_xlfn.XLOOKUP(AM19,Table2[Shot No.],Table2[y2],300) -> 300
A20: 1 | B20: PIT | C20: 2 | D20: Block | E20: 73 | F20: -9 | G20: F3 | H20: D3 | K20: 35 | M20: EV | N20: 44481 | O20: =ROW(O19) -> 19 | P20: {=_xlfn.XLOOKUP(Table2[[#This Row],[Date]]&Table2[[#This Row],[Period]],Table3[Date]&Table3[Period],Table3[Coordinate])*Table2[[#This Row],[X]]} -> 73 | Q20: {=_xlfn.XLOOKUP(Table2[[#This Row],[Date]]&Table2[[#This Row],[Period]],Table3[Date]&Table3[Period],Table3[Coordinate])*Table2[[#This Row],[Y]]} -> -9 | R20: {=IFERROR(LARGE(_xlfn._xlws.FILTER(Table1[[F1]:[EN2]],IF(Table2[[#This Row],[F Line]]=Table1[[#Headers],[F1]:[EN2]],1,0))*Table1[No.]*IF(Table2[[#This Row],[Date]]=Table1[Date],1,0),1),0)} -> 53 | S20: {=IFERROR(LARGE(_xlfn._xlws.FILTER(Table1[[F1]:[EN2]],IF(Table2[[#This Row],[F Line]]=Table1[[#Headers],[F1]:[EN2]],1,0))*Table1[No.]*IF(Table2[[#This Row],[Date]]=Table1[Date],1,0),2),0)} -> 23 | T20: {=IFERROR(LARGE(_xlfn._xlws.FILTER(Table1[[F1]:[EN2]],IF(Table2[[#This Row],[F Line]]=Table1[[#Headers],[F1]:[EN2]],1,0))*Table1[No.]*IF(Table2[[#This Row],[Date]]=Table1[Date],1,0),3),0)} -> 12 | U20: {=IFERROR(IF(Table2[[#This Row],[D Pair]]="",LARGE(_xlfn._xlws.FILTER(Table1[[F1]:[EN2]],IF(Table2[[#This Row],[F Line]]=Table1[[#Headers],[F1]:[EN2]],1,0))*Table1[No.]*IF(Table2[[#This Row],[Date]]=Table1[Date],1,0),4),LARGE(_xlfn._xlws.FILTER(Table1[[F1]:[EN2]],IF(Table2[[#This Row],[D Pair]]=Table1[[#Headers],[F1]:[EN2]],1,0))*Table1[No.]*IF(Table2[[#This Row],[Date]]=Table1[Date],1,0),1)),0)} -> 59 | V20: {=IFERROR(IF(Table2[[#This Row],[D Pair]]="",LARGE(_xlfn._xlws.FILTER(Table1[[F1]:[EN2]],IF(Table2[[#This Row],[F Line]]=Table1[[#Headers],[F1]:[EN2]],1,0))*Table1[No.]*IF(Table2[[#This Row],[Date]]=Table1[Date],1,0),5),LARGE(_xlfn._xlws.FILTER(Table1[[F1]:[EN2]],IF(Table2[[#This Row],[D Pair]]=Table1[[#Headers],[F1]:[EN2]],1,0))*Table1[No.]*IF(Table2[[#This Row],[Date]]=Table1[Date],1,0),2)),0)} -> 2 | W20: =IF(Table2[[#This Row],[Type]]="Goal",1,0) -> 0 | X20: =IF(OR(Table2[[#This Row],[Type]]="Goal",Table2[[#This Row],[Type]]="Shot"),1,0) -> 0 | Y20: =IF(OR(Table2[[#This Row],[Type]]="Goal",Table2[[#This Row],[Type]]="Shot",Table2[[#This Row],[Type]]="Miss"),1,0) -> 0 | Z20: =IF(OR(Table2[[#This Row],[Type]]="Goal",Table2[[#This Row],[Type]]="Shot",Table2[[#This Row],[Type]]="Miss",Table2[[#This Row],[Type]]="Block"),1,0) -> 1 | AA20: =IF(OR(Table2[[#This Row],[Date]]=Visualization!$AH$12,Visualization!$AH$12="All"),1,0)*IF(OR(Visualization!$AS$12="All",Visualization!$AS$12=Table2[[#This Row],[Period]]),1,0)*IF(OR(Table2[[#This Row],[Type]]=Visualization!$BD$12,Visualization!$BD$12="All"),1,0)*IF(OR(Visualization!$BO$12="All",Visualization!$BO$12=Table2[[#This Row],[Strength]]),1,0) -> 1 | AB20: =IF(Table2[[#This Row],[Player]]=Visualization!$AR$2,1,0) -> 0 | AC20: =IF(OR(Table2[[#This Row],[PIT1]]=Visualization!$AR$2,Table2[[#This Row],[PIT2]]=Visualization!$AR$2,Table2[[#This Row],[PIT3]]=Visualization!$AR$2,Table2[[#This Row],[PIT4]]=Visualization!$AR$2,Table2[[#This Row],[PIT5]]=Visualization!$AR$2,Table2[[#This Row],[Goaltender]]=Visualization!$AR$2),1,0) -> 0 | AF20: =_xlfn.XLOOKUP(AE20,Table2[Shot No.],Table2[x2],300) -> 300 | AG20: =_xlfn.XLOOKUP(AE20,Table2[Shot No.],Table2[y2],300) -> 300 | AJ20: =_xlfn.XLOOKUP(AI20,Table2[Shot No.],Table2[x2],300) -> 300 | AK20: =_xlfn.XLOOKUP(AI20,Table2[Shot No.],Table2[y2],300) -> 300 | AN20: =_xlfn.XLOOKUP(AM20,Table2[Shot No.],Table2[x2],300) -> 300 | AO20: =_xlfn.XLOOKUP(AM20,Table2[Shot No.],Table2[y2],300) -> 300
A21: 1 | B21: PIT | C21: 2 | D21: Miss | E21: 32 | F21: -35 | G21: F3 | H21: D3 | K21: 35 | M21: EV | N21: 44481 | O21: =ROW(O20) -> 20 | P21: {=_xlfn.XLOOKUP(Table2[[#This Row],[Date]]&Table2[[#This Row],[Period]],Table3[Date]&Table3[Period],Table3[Coordinate])*Table2[[#This Row],[X]]} -> 32 | Q21: {=_xlfn.XLOOKUP(Table2[[#This Row],[Date]]&Table2[[#This Row],[Period]],Table3[Date]&Table3[Period],Table3[Coordinate])*Table2[[#This Row],[Y]]} -> -35 | R21: {=IFERROR(LARGE(_xlfn._xlws.FILTER(Table1[[F1]:[EN2]],IF(Table2[[#This Row],[F Line]]=Table1[[#Headers],[F1]:[EN2]],1,0))*Table1[No.]*IF(Table2[[#This Row],[Date]]=Table1[Date],1,0),1),0)} -> 53 | S21: {=IFERROR(LARGE(_xlfn._xlws.FILTER(Table1[[F1]:[EN2]],IF(Table2[[#This Row],[F Line]]=Table1[[#Headers],[F1]:[EN2]],1,0))*Table1[No.]*IF(Table2[[#This Row],[Date]]=Table1[Date],1,0),2),0)} -> 23 | T21: {=IFERROR(LARGE(_xlfn._xlws.FILTER(Table1[[F1]:[EN2]],IF(Table2[[#This Row],[F Line]]=Table1[[#Headers],[F1]:[EN2]],1,0))*Table1[No.]*IF(Table2[[#This Row],[Date]]=Table1[Date],1,0),3),0)} -> 12 | U21: {=IFERROR(IF(Table2[[#This Row],[D Pair]]="",LARGE(_xlfn._xlws.FILTER(Table1[[F1]:[EN2]],IF(Table2[[#This Row],[F Line]]=Table1[[#Headers],[F1]:[EN2]],1,0))*Table1[No.]*IF(Table2[[#This Row],[Date]]=Table1[Date],1,0),4),LARGE(_xlfn._xlws.FILTER(Table1[[F1]:[EN2]],IF(Table2[[#This Row],[D Pair]]=Table1[[#Headers],[F1]:[EN2]],1,0))*Table1[No.]*IF(Table2[[#This Row],[Date]]=Table1[Date],1,0),1)),0)} -> 59 | V21: {=IFERROR(IF(Table2[[#This Row],[D Pair]]="",LARGE(_xlfn._xlws.FILTER(Table1[[F1]:[EN2]],IF(Table2[[#This Row],[F Line]]=Table1[[#Headers],[F1]:[EN2]],1,0))*Table1[No.]*IF(Table2[[#This Row],[Date]]=Table1[Date],1,0),5),LARGE(_xlfn._xlws.FILTER(Table1[[F1]:[EN2]],IF(Table2[[#This Row],[D Pair]]=Table1[[#Headers],[F1]:[EN2]],1,0))*Table1[No.]*IF(Table2[[#This Row],[Date]]=Table1[Date],1,0),2)),0)} -> 2 | W21: =IF(Table2[[#This Row],[Type]]="Goal",1,0) -> 0 | X21: =IF(OR(Table2[[#This Row],[Type]]="Goal",Table2[[#This Row],[Type]]="Shot"),1,0) -> 0 | Y21: =IF(OR(Table2[[#This Row],[Type]]="Goal",Table2[[#This Row],[Type]]="Shot",Table2[[#This Row],[Type]]="Miss"),1,0) -> 1 | Z21: =IF(OR(Table2[[#This Row],[Type]]="Goal",Table2[[#This Row],[Type]]="Shot",Table2[[#This Row],[Type]]="Miss",Table2[[#This Row],[Type]]="Block"),1,0) -> 1 | AA21: =IF(OR(Table2[[#This Row],[Date]]=Visualization!$AH$12,Visualization!$AH$12="All"),1,0)*IF(OR(Visualization!$AS$12="All",Visualization!$AS$12=Table2[[#This Row],[Period]]),1,0)*IF(OR(Table2[[#This Row],[Type]]=Visualization!$BD$12,Visualization!$BD$12="All"),1,0)*IF(OR(Visualization!$BO$12="All",Visualization!$BO$12=Table2[[#This Row],[Strength]]),1,0) -> 1 | AB21: =IF(Table2[[#This Row],[Player]]=Visualization!$AR$2,1,0) -> 0 | AC21: =IF(OR(Table2[[#This Row],[PIT1]]=Visualization!$AR$2,Table2[[#This Row],[PIT2]]=Visualization!$AR$2,Table2[[#This Row],[PIT3]]=Visualization!$AR$2,Table2[[#This Row],[PIT4]]=Visualization!$AR$2,Table2[[#This Row],[PIT5]]=Visualization!$AR$2,Table2[[#This Row],[Goaltender]]=Visualization!$AR$2),1,0) -> 0 | AF21: =_xlfn.XLOOKUP(AE21,Table2[Shot No.],Table2[x2],300) -> 300 | AG21: =_xlfn.XLOOKUP(AE21,Table2[Shot No.],Table2[y2],300) -> 300 | AJ21: =_xlfn.XLOOKUP(AI21,Table2[Shot No.],Table2[x2],300) -> 300 | AK21: =_xlfn.XLOOKUP(AI21,Table2[Shot No.],Table2[y2],300) -> 300 | AN21: =_xlfn.XLOOKUP(AM21,Table2[Shot No.],Table2[x2],300) -> 300 | AO21: =_xlfn.XLOOKUP(AM21,Table2[Shot No.],Table2[y2],300) -> 300
A22: 1 | B22: PIT | C22: 12 | D22: Shot | E22: 81 | F22: 4 | G22: F3 | H22: D3 | K22: 35 | M22: EV | N22: 44481 | O22: =ROW(O21) -> 21 | P22: {=_xlfn.XLOOKUP(Table2[[#This Row],[Date]]&Table2[[#This Row],[Period]],Table3[Date]&Table3[Period],Table3[Coordinate])*Table2[[#This Row],[X]]} -> 81 | Q22: {=_xlfn.XLOOKUP(Table2[[#This Row],[Date]]&Table2[[#This Row],[Period]],Table3[Date]&Table3[Period],Table3[Coordinate])*Table2[[#This Row],[Y]]} -> 4 | R22: {=IFERROR(LARGE(_xlfn._xlws.FILTER(Table1[[F1]:[EN2]],IF(Table2[[#This Row],[F Line]]=Table1[[#Headers],[F1]:[EN2]],1,0))*Table1[No.]*IF(Table2[[#This Row],[Date]]=Table1[Date],1,0),1),0)} -> 53 | S22: {=IFERROR(LARGE(_xlfn._xlws.FILTER(Table1[[F1]:[EN2]],IF(Table2[[#This Row],[F Line]]=Table1[[#Headers],[F1]:[EN2]],1,0))*Table1[No.]*IF(Table2[[#This Row],[Date]]=Table1[Date],1,0),2),0)} -> 23 | T22: {=IFERROR(LARGE(_xlfn._xlws.FILTER(Table1[[F1]:[EN2]],IF(Table2[[#This Row],[F Line]]=Table1[[#Headers],[F1]:[EN2]],1,0))*Table1[No.]*IF(Table2[[#This Row],[Date]]=Table1[Date],1,0),3),0)} -> 12 | U22: {=IFERROR(IF(Table2[[#This Row],[D Pair]]="",LARGE(_xlfn._xlws.FILTER(Table1[[F1]:[EN2]],IF(Table2[[#This Row],[F Line]]=Table1[[#Headers],[F1]:[EN2]],1,0))*Table1[No.]*IF(Table2[[#This Row],[Date]]=Table1[Date],1,0),4),LARGE(_xlfn._xlws.FILTER(Table1[[F1]:[EN2]],IF(Table2[[#This Row],[D Pair]]=Table1[[#Headers],[F1]:[EN2]],1,0))*Table1[No.]*IF(Table2[[#This Row],[Date]]=Table1[Date],1,0),1)),0)} -> 59 | V22: {=IFERROR(IF(Table2[[#This Row],[D Pair]]="",LARGE(_xlfn._xlws.FILTER(Table1[[F1]:[EN2]],IF(Table2[[#This Row],[F Line]]=Table1[[#Headers],[F1]:[EN2]],1,0))*Table1[No.]*IF(Table2[[#This Row],[Date]]=Table1[Date],1,0),5),LARGE(_xlfn._xlws.FILTER(Table1[[F1]:[EN2]],IF(Table2[[#This Row],[D Pair]]=Table1[[#Headers],[F1]:[EN2]],1,0))*Table1[No.]*IF(Table2[[#This Row],[Date]]=Table1[Date],1,0),2)),0)} -> 2 | W22: =IF(Table2[[#This Row],[Type]]="Goal",1,0) -> 0 | X22: =IF(OR(Table2[[#This Row],[Type]]="Goal",Table2[[#This Row],[Type]]="Shot"),1,0) -> 1 | Y22: =IF(OR(Table2[[#This Row],[Type]]="Goal",Table2[[#This Row],[Type]]="Shot",Table2[[#This Row],[Type]]="Miss"),1,0) -> 1 | Z22: =IF(OR(Table2[[#This Row],[Type]]="Goal",Table2[[#This Row],[Type]]="Shot",Table2[[#This Row],[Type]]="Miss",Table2[[#This Row],[Type]]="Block"),1,0) -> 1 | AA22: =IF(OR(Table2[[#This Row],[Date]]=Visualization!$AH$12,Visualization!$AH$12="All"),1,0)*IF(OR(Visualization!$AS$12="All",Visualization!$AS$12=Table2[[#This Row],[Period]]),1,0)*IF(OR(Table2[[#This Row],[Type]]=Visualization!$BD$12,Visualization!$BD$12="All"),1,0)*IF(OR(Visualization!$BO$12="All",Visualization!$BO$12=Table2[[#This Row],[Strength]]),1,0) -> 1 | AB22: =IF(Table2[[#This Row],[Player]]=Visualization!$AR$2,1,0) -> 0 | AC22: =IF(OR(Table2[[#This Row],[PIT1]]=Visualization!$AR$2,Table2[[#This Row],[PIT2]]=Visualization!$AR$2,Table2[[#This Row],[PIT3]]=Visualization!$AR$2,Table2[[#This Row],[PIT4]]=Visualization!$AR$2,Table2[[#This Row],[PIT5]]=Visualization!$AR$2,Table2[[#This Row],[Goaltender]]=Visualization!$AR$2),1,0) -> 0 | AF22: =_xlfn.XLOOKUP(AE22,Table2[Shot No.],Table2[x2],300) -> 300 | AG22: =_xlfn.XLOOKUP(AE22,Table2[Shot No.],Table2[y2],300) -> 300 | AJ22: =_xlfn.XLOOKUP(AI22,Table2[Shot No.],Table2[x2],300) -> 300 | AK22: =_xlfn.XLOOKUP(AI22,Table2[Shot No.],Table2[y2],300) -> 300 | AN22: =_xlfn.XLOOKUP(AM22,Table2[Shot No.],Table2[x2],300) -> 300 | AO22: =_xlfn.XLOOKUP(AM22,Table2[Shot No.],Table2[y2],300) -> 300
A23: 1 | B23: T.B | D23: Block | E23: -75 | F23: 4 | G23: F1 | H23: D2 | K23: 35 | M23: EV | N23: 44481 | O23: =ROW(O22) -> 22 | P23: {=_xlfn.XLOOKUP(Table2[[#This Row],[Date]]&Table2[[#This Row],[Period]],Table3[Date]&Table3[Period],Table3[Coordinate])*Table2[[#This Row],[X]]} -> -75 | Q23: {=_xlfn.XLOOKUP(Table2[[#This Row],[Date]]&Table2[[#This Row],[Period]],Table3[Date]&Table3[Period],Table3[Coordinate])*Table2[[#This Row],[Y]]} -> 4 | R23: {=IFERROR(LARGE(_xlfn._xlws.FILTER(Table1[[F1]:[EN2]],IF(Table2[[#This Row],[F Line]]=Table1[[#Headers],[F1]:[EN2]],1,0))*Table1[No.]*IF(Table2[[#This Row],[Date]]=Table1[Date],1,0),1),0)} -> 71 | S23: {=IFERROR(LARGE(_xlfn._xlws.FILTER(Table1[[F1]:[EN2]],IF(Table2[[#This Row],[F Line]]=Table1[[#Headers],[F1]:[EN2]],1,0))*Table1[No.]*IF(Table2[[#This Row],[Date]]=Table1[Date],1,0),2),0)} -> 24 | T23: {=IFERROR(LARGE(_xlfn._xlws.FILTER(Table1[[F1]:[EN2]],IF(Table2[[#This Row],[F Line]]=Table1[[#Headers],[F1]:[EN2]],1,0))*Table1[No.]*IF(Table2[[#This Row],[Date]]=Table1[Date],1,0),3),0)} -> 16 | U23: {=IFERROR(IF(Table2[[#This Row],[D Pair]]="",LARGE(_xlfn._xlws.FILTER(Table1[[F1]:[EN2]],IF(Table2[[#This Row],[F Line]]=Table1[[#Headers],[F1]:[EN2]],1,0))*Table1[No.]*IF(Table2[[#This Row],[Date]]=Table1[Date],1,0),4),LARGE(_xlfn._xlws.FILTER(Table1[[F1]:[EN2]],IF(Table2[[#This Row],[D Pair]]=Table1[[#Headers],[F1]:[EN2]],1,0))*Table1[No.]*IF(Table2[[#This Row],[Date]]=Table1[Date],1,0),1)),0)} -> 28 | V23: {=IFERROR(IF(Table2[[#This Row],[D Pair]]="",LARGE(_xlfn._xlws.FILTER(Table1[[F1]:[EN2]],IF(Table2[[#This Row],[F Line]]=Table1[[#Headers],[F1]:[EN2]],1,0))*Table1[No.]*IF(Table2[[#This Row],[Date]]=Table1[Date],1,0),5),LARGE(_xlfn._xlws.FILTER(Table1[[F1]:[EN2]],IF(Table2[[#This Row],[D Pair]]=Table1[[#Headers],[F1]:[EN2]],1,0))*Table1[No.]*IF(Table2[[#This Row],[Date]]=Table1[Date],1,0),2)),0)} -> 6 | W23: =IF(Table2[[#This Row],[Type]]="Goal",1,0) -> 0 | X23: =IF(OR(Table2[[#This Row],[Type]]="Goal",Table2[[#This Row],[Type]]="Shot"),1,0) -> 0 | Y23: =IF(OR(Table2[[#This Row],[Type]]="Goal",Table2[[#This Row],[Type]]="Shot",Table2[[#This Row],[Type]]="Miss"),1,0) -> 0 | Z23: =IF(OR(Table2[[#This Row],[Type]]="Goal",Table2[[#This Row],[Type]]="Shot",Table2[[#This Row],[Type]]="Miss",Table2[[#This Row],[Type]]="Block"),1,0) -> 1 | AA23: =IF(OR(Table2[[#This Row],[Date]]=Visualization!$AH$12,Visualization!$AH$12="All"),1,0)*IF(OR(Visualization!$AS$12="All",Visualization!$AS$12=Table2[[#This Row],[Period]]),1,0)*IF(OR(Table2[[#This Row],[Type]]=Visualization!$BD$12,Visualization!$BD$12="All"),1,0)*IF(OR(Visualization!$BO$12="All",Visualization!$BO$12=Table2[[#This Row],[Strength]]),1,0) -> 1 | AB23: =IF(Table2[[#This Row],[Player]]=Visualization!$AR$2,1,0) -> 0 | AC23: =IF(OR(Table2[[#This Row],[PIT1]]=Visualization!$AR$2,Table2[[#This Row],[PIT2]]=Visualization!$AR$2,Table2[[#This Row],[PIT3]]=Visualization!$AR$2,Table2[[#This Row],[PIT4]]=Visualization!$AR$2,Table2[[#This Row],[PIT5]]=Visualization!$AR$2,Table2[[#This Row],[Goaltender]]=Visualization!$AR$2),1,0) -> 0 | AF23: =_xlfn.XLOOKUP(AE23,Table2[Shot No.],Table2[x2],300) -> 300 | AG23: =_xlfn.XLOOKUP(AE23,Table2[Shot No.],Table2[y2],300) -> 300 | AJ23: =_xlfn.XLOOKUP(AI23,Table2[Shot No.],Table2[x2],300) -> 300 | AK23: =_xlfn.XLOOKUP(AI23,Table2[Shot No.],Table2[y2],300) -> 300 | AN23: =_xlfn.XLOOKUP(AM23,Table2[Shot No.],Table2[x2],300) -> 300 | AO23: =_xlfn.XLOOKUP(AM23,Table2[Shot No.],Table2[y2],300) -> 300
A24: 1 | B24: T.B | D24: Miss | E24: -48 | F24: -34 | G24: F2 | H24: D2 | K24: 35 | M24: EV | N24: 44481 | O24: =ROW(O23) -> 23 | P24: {=_xlfn.XLOOKUP(Table2[[#This Row],[Date]]&Table2[[#This Row],[Period]],Table3[Date]&Table3[Period],Table3[Coordinate])*Table2[[#This Row],[X]]} -> -48 | Q24: {=_xlfn.XLOOKUP(Table2[[#This Row],[Date]]&Table2[[#This Row],[Period]],Table3[Date]&Table3[Period],Table3[Coordinate])*Table2[[#This Row],[Y]]} -> -34 | R24: {=IFERROR(LARGE(_xlfn._xlws.FILTER(Table1[[F1]:[EN2]],IF(Table2[[#This Row],[F Line]]=Table1[[#Headers],[F1]:[EN2]],1,0))*Table1[No.]*IF(Table2[[#This Row],[Date]]=Table1[Date],1,0),1),0)} -> 77 | S24: {=IFERROR(LARGE(_xlfn._xlws.FILTER(Table1[[F1]:[EN2]],IF(Table2[[#This Row],[F Line]]=Table1[[#Headers],[F1]:[EN2]],1,0))*Table1[No.]*IF(Table2[[#This Row],[Date]]=Table1[Date],1,0),2),0)} -> 43 | T24: {=IFERROR(LARGE(_xlfn._xlws.FILTER(Table1[[F1]:[EN2]],IF(Table2[[#This Row],[F Line]]=Table1[[#Headers],[F1]:[EN2]],1,0))*Table1[No.]*IF(Table2[[#This Row],[Date]]=Table1[Date],1,0),3),0)} -> 17 | U24: {=IFERROR(IF(Table2[[#This Row],[D Pair]]="",LARGE(_xlfn._xlws.FILTER(Table1[[F1]:[EN2]],IF(Table2[[#This Row],[F Line]]=Table1[[#Headers],[F1]:[EN2]],1,0))*Table1[No.]*IF(Table2[[#This Row],[Date]]=Table1[Date],1,0),4),LARGE(_xlfn._xlws.FILTER(Table1[[F1]:[EN2]],IF(Table2[[#This Row],[D Pair]]=Table1[[#Headers],[F1]:[EN2]],1,0))*Table1[No.]*IF(Table2[[#This Row],[Date]]=Table1[Date],1,0),1)),0)} -> 28 | V24: {=IFERROR(IF(Table2[[#This Row],[D Pair]]="",LARGE(_xlfn._xlws.FILTER(Table1[[F1]:[EN2]],IF(Table2[[#This Row],[F Line]]=Table1[[#Headers],[F1]:[EN2]],1,0))*Table1[No.]*IF(Table2[[#This Row],[Date]]=Table1[Date],1,0),5),LARGE(_xlfn._xlws.FILTER(Table1[[F1]:[EN2]],IF(Table2[[#This Row],[D Pair]]=Table1[[#Headers],[F1]:[EN2]],1,0))*Table1[No.]*IF(Table2[[#This Row],[Date]]=Table1[Date],1,0),2)),0)} -> 6 | W24: =IF(Table2[[#This Row],[Type]]="Goal",1,0) -> 0 | X24: =IF(OR(Table2[[#This Row],[Type]]="Goal",Table2[[#This Row],[Type]]="Shot"),1,0) -> 0 | Y24: =IF(OR(Table2[[#This Row],[Type]]="Goal",Table2[[#This Row],[Type]]="Shot",Table2[[#This Row],[Type]]="Miss"),1,0) -> 1 | Z24: =IF(OR(Table2[[#This Row],[Type]]="Goal",Table2[[#This Row],[Type]]="Shot",Table2[[#This Row],[Type]]="Miss",Table2[[#This Row],[Type]]="Block"),1,0) -> 1 | AA24: =IF(OR(Table2[[#This Row],[Date]]=Visualization!$AH$12,Visualization!$AH$12="All"),1,0)*IF(OR(Visualization!$AS$12="All",Visualization!$AS$12=Table2[[#This Row],[Period]]),1,0)*IF(OR(Table2[[#This Row],[Type]]=Visualization!$BD$12,Visualization!$BD$12="All"),1,0)*IF(OR(Visualization!$BO$12="All",Visualization!$BO$12=Table2[[#This Row],[Strength]]),1,0) -> 1 | AB24: =IF(Table2[[#This Row],[Player]]=Visualization!$AR$2,1,0) -> 0 | AC24: =IF(OR(Table2[[#This Row],[PIT1]]=Visualization!$AR$2,Table2[[#This Row],[PIT2]]=Visualization!$AR$2,Table2[[#This Row],[PIT3]]=Visualization!$AR$2,Table2[[#This Row],[PIT4]]=Visualization!$AR$2,Table2[[#This Row],[PIT5]]=Visualization!$AR$2,Table2[[#This Row],[Goaltender]]=Visualization!$AR$2),1,0) -> 1 | AF24: =_xlfn.XLOOKUP(AE24,Table2[Shot No.],Table2[x2],300) -> 300 | AG24: =_xlfn.XLOOKUP(AE24,Table2[Shot No.],Table2[y2],300) -> 300 | AJ24: =_xlfn.XLOOKUP(AI24,Table2[Shot No.],Table2[x2],300) -> 300 | AK24: =_xlfn.XLOOKUP(AI24,Table2[Shot No.],Table2[y2],300) -> 300 | AN24: =_xlfn.XLOOKUP(AM24,Table2[Shot No.],Table2[x2],300) -> 300 | AO24: =_xlfn.XLOOKUP(AM24,Table2[Shot No.],Table2[y2],300) -> 300
A25: 1 | B25: PIT | C25: 77 | D25: Shot | E25: 48 | F25: -4 | G25: F2 | H25: D1 | K25: 35 | M25: EV | N25: 44481 | O25: =ROW(O24) -> 24 | P25: {=_xlfn.XLOOKUP(Table2[[#This Row],[Date]]&Table2[[#This Row],[Period]],Table3[Date]&Table3[Period],Table3[Coordinate])*Table2[[#This Row],[X]]} -> 48 | Q25: {=_xlfn.XLOOKUP(Table2[[#This Row],[Date]]&Table2[[#This Row],[Period]],Table3[Date]&Table3[Period],Table3[Coordinate])*Table2[[#This Row],[Y]]} -> -4 | R25: {=IFERROR(LARGE(_xlfn._xlws.FILTER(Table1[[F1]:[EN2]],IF(Table2[[#This Row],[F Line]]=Table1[[#Headers],[F1]:[EN2]],1,0))*Table1[No.]*IF(Table2[[#This Row],[Date]]=Table1[Date],1,0),1),0)} -> 77 | S25: {=IFERROR(LARGE(_xlfn._xlws.FILTER(Table1[[F1]:[EN2]],IF(Table2[[#This Row],[F Line]]=Table1[[#Headers],[F1]:[EN2]],1,0))*Table1[No.]*IF(Table2[[#This Row],[Date]]=Table1[Date],1,0),2),0)} -> 43 | T25: {=IFERROR(LARGE(_xlfn._xlws.FILTER(Table1[[F1]:[EN2]],IF(Table2[[#This Row],[F Line]]=Table1[[#Headers],[F1]:[EN2]],1,0))*Table1[No.]*IF(Table2[[#This Row],[Date]]=Table1[Date],1,0),3),0)} -> 17 | U25: {=IFERROR(IF(Table2[[#This Row],[D Pair]]="",LARGE(_xlfn._xlws.FILTER(Table1[[F1]:[EN2]],IF(Table2[[#This Row],[F Line]]=Table1[[#Headers],[F1]:[EN2]],1,0))*Table1[No.]*IF(Table2[[#This Row],[Date]]=Table1[Date],1,0),4),LARGE(_xlfn._xlws.FILTER(Table1[[F1]:[EN2]],IF(Table2[[#This Row],[D Pair]]=Table1[[#Headers],[F1]:[EN2]],1,0))*Table1[No.]*IF(Table2[[#This Row],[Date]]=Table1[Date],1,0),1)),0)} -> 58 | V25: {=IFERROR(IF(Table2[[#This Row],[D Pair]]="",LARGE(_xlfn._xlws.FILTER(Table1[[F1]:[EN2]],IF(Table2[[#This Row],[F Line]]=Table1[[#Headers],[F1]:[EN2]],1,0))*Table1[No.]*IF(Table2[[#This Row],[Date]]=Table1[Date],1,0),5),LARGE(_xlfn._xlws.FILTER(Table1[[F1]:[EN2]],IF(Table2[[#This Row],[D Pair]]=Table1[[#Headers],[F1]:[EN2]],1,0))*Table1[No.]*IF(Table2[[#This Row],[Date]]=Table1[Date],1,0),2)),0)} -> 8 | W25: =IF(Table2[[#This Row],[Type]]="Goal",1,0) -> 0 | X25: =IF(OR(Table2[[#This Row],[Type]]="Goal",Table2[[#This Row],[Type]]="Shot"),1,0) -> 1 | Y25: =IF(OR(Table2[[#This Row],[Type]]="Goal",Table2[[#This Row],[Type]]="Shot",Table2[[#This Row],[Type]]="Miss"),1,0) -> 1 | Z25: =IF(OR(Table2[[#This Row],[Type]]="Goal",Table2[[#This Row],[Type]]="Shot",Table2[[#This Row],[Type]]="Miss",Table2[[#This Row],[Type]]="Block"),1,0) -> 1 | AA25: =IF(OR(Table2[[#This Row],[Date]]=Visualization!$AH$12,Visualization!$AH$12="All"),1,0)*IF(OR(Visualization!$AS$12="All",Visualization!$AS$12=Table2[[#This Row],[Period]]),1,0)*IF(OR(Table2[[#This Row],[Type]]=Visualization!$BD$12,Visualization!$BD$12="All"),1,0)*IF(OR(Visualization!$BO$12="All",Visualization!$BO$12=Table2[[#This Row],[Strength]]),1,0) -> 1 | AB25: =IF(Table2[[#This Row],[Player]]=Visualization!$AR$2,1,0) -> 1 | AC25: =IF(OR(Table2[[#This Row],[PIT1]]=Visualization!$AR$2,Table2[[#This Row],[PIT2]]=Visualization!$AR$2,Table2[[#This Row],[PIT3]]=Visualization!$AR$2,Table2[[#This Row],[PIT4]]=Visualization!$AR$2,Table2[[#This Row],[PIT5]]=Visualization!$AR$2,Table2[[#This Row],[Goaltender]]=Visualization!$AR$2),1,0) -> 1 | AF25: =_xlfn.XLOOKUP(AE25,Table2[Shot No.],Table2[x2],300) -> 300 | AG25: =_xlfn.XLOOKUP(AE25,Table2[Shot No.],Table2[y2],300) -> 300 | AJ25: =_xlfn.XLOOKUP(AI25,Table2[Shot No.],Table2[x2],300) -> 300 | AK25: =_xlfn.XLOOKUP(AI25,Table2[Shot No.],Table2[y2],300) -> 300 | AN25: =_xlfn.XLOOKUP(AM25,Table2[Shot No.],Table2[x2],300) -> 300 | AO25: =_xlfn.XLOOKUP(AM25,Table2[Shot No.],Table2[y2],300) -> 300
A26: 1 | B26: T.B | D26: Miss | E26: -49 | F26: -28 | G26: F2 | H26: D2 | K26: 35 | M26: EV | N26: 44481 | O26: =ROW(O25) -> 25 | P26: {=_xlfn.XLOOKUP(Table2[[#This Row],[Date]]&Table2[[#This Row],[Period]],Table3[Date]&Table3[Period],Table3[Coordinate])*Table2[[#This Row],[X]]} -> -49 | Q26: {=_xlfn.XLOOKUP(Table2[[#This Row],[Date]]&Table2[[#This Row],[Period]],Table3[Date]&Table3[Period],Table3[Coordinate])*Table2[[#This Row],[Y]]} -> -28 | R26: {=IFERROR(LARGE(_xlfn._xlws.FILTER(Table1[[F1]:[EN2]],IF(Table2[[#This Row],[F Line]]=Table1[[#Headers],[F1]:[EN2]],1,0))*Table1[No.]*IF(Table2[[#This Row],[Date]]=Table1[Date],1,0),1),0)} -> 77 | S26: {=IFERROR(LARGE(_xlfn._xlws.FILTER(Table1[[F1]:[EN2]],IF(Table2[[#This Row],[F Line]]=Table1[[#Headers],[F1]:[EN2]],1,0))*Table1[No.]*IF(Table2[[#This Row],[Date]]=Table1[Date],1,0),2),0)} -> 43 | T26: {=IFERROR(LARGE(_xlfn._xlws.FILTER(Table1[[F1]:[EN2]],IF(Table2[[#This Row],[F Line]]=Table1[[#Headers],[F1]:[EN2]],1,0))*Table1[No.]*IF(Table2[[#This Row],[Date]]=Table1[Date],1,0),3),0)} -> 17 | U26: {=IFERROR(IF(Table2[[#This Row],[D Pair]]="",LARGE(_xlfn._xlws.FILTER(Table1[[F1]:[EN2]],IF(Table2[[#This Row],[F Line]]=Table1[[#Headers],[F1]:[EN2]],1,0))*Table1[No.]*IF(Table2[[#This Row],[Date]]=Table1[Date],1,0),4),LARGE(_xlfn._xlws.FILTER(Table1[[F1]:[EN2]],IF(Table2[[#This Row],[D Pair]]=Table1[[#Headers],[F1]:[EN2]],1,0))*Table1[No.]*IF(Table2[[#This Row],[Date]]=Table1[Date],1,0),1)),0)} -> 28 | V26: {=IFERROR(IF(Table2[[#This Row],[D Pair]]="",LARGE(_xlfn._xlws.FILTER(Table1[[F1]:[EN2]],IF(Table2[[#This Row],[F Line]]=Table1[[#Headers],[F1]:[EN2]],1,0))*Table1[No.]*IF(Table2[[#This Row],[Date]]=Table1[Date],1,0),5),LARGE(_xlfn._xlws.FILTER(Table1[[F1]:[EN2]],IF(Table2[[#This Row],[D Pair]]=Table1[[#Headers],[F1]:[EN2]],1,0))*Table1[No.]*IF(Table2[[#This Row],[Date]]=Table1[Date],1,0),2)),0)} -> 6 | W26: =IF(Table2[[#This Row],[Type]]="Goal",1,0) -> 0 | X26: =IF(OR(Table2[[#This Row],[Type]]="Goal",Table2[[#This Row],[Type]]="Shot"),1,0) -> 0 | Y26: =IF(OR(Table2[[#This Row],[Type]]="Goal",Table2[[#This Row],[Type]]="Shot",Table2[[#This Row],[Type]]="Miss"),1,0) -> 1 | Z26: =IF(OR(Table2[[#This Row],[Type]]="Goal",Table2[[#This Row],[Type]]="Shot",Table2[[#This Row],[Type]]="Miss",Table2[[#This Row],[Type]]="Block"),1,0) -> 1 | AA26: =IF(OR(Table2[[#This Row],[Date]]=Visualization!$AH$12,Visualization!$AH$12="All"),1,0)*IF(OR(Visualization!$AS$12="All",Visualization!$AS$12=Table2[[#This Row],[Period]]),1,0)*IF(OR(Table2[[#This Row],[Type]]=Visualization!$BD$12,Visualization!$BD$12="All"),1,0)*IF(OR(Visualization!$BO$12="All",Visualization!$BO$12=Table2[[#This Row],[Strength]]),1,0) -> 1 | AB26: =IF(Table2[[#This Row],[Player]]=Visualization!$AR$2,1,0) -> 0 | AC26: =IF(OR(Table2[[#This Row],[PIT1]]=Visualization!$AR$2,Table2[[#This Row],[PIT2]]=Visualization!$AR$2,Table2[[#This Row],[PIT3]]=Visualization!$AR$2,Table2[[#This Row],[PIT4]]=Visualization!$AR$2,Table2[[#This Row],[PIT5]]=Visualization!$AR$2,Table2[[#This Row],[Goaltender]]=Visualization!$AR$2),1,0) -> 1 | AF26: =_xlfn.XLOOKUP(AE26,Table2[Shot No.],Table2[x2],300) -> 300 | AG26: =_xlfn.XLOOKUP(AE26,Table2[Shot No.],Table2[y2],300) -> 300 | AJ26: =_xlfn.XLOOKUP(AI26,Table2[Shot No.],Table2[x2],300) -> 300 | AK26: =_xlfn.XLOOKUP(AI26,Table2[Shot No.],Table2[y2],300) -> 300 | AN26: =_xlfn.XLOOKUP(AM26,Table2[Shot No.],Table2[x2],300) -> 300 | AO26: =_xlfn.XLOOKUP(AM26,Table2[Shot No.],Table2[y2],300) -> 300
A27: 1 | B27: PIT | C27: 77 | D27: Block | E27: 82 | F27: -8 | G27: F2 | H27: D2 | K27: 35 | M27: EV | N27: 44481 | O27: =ROW(O26) -> 26 | P27: {=_xlfn.XLOOKUP(Table2[[#This Row],[Date]]&Table2[[#This Row],[Period]],Table3[Date]&Table3[Period],Table3[Coordinate])*Table2[[#This Row],[X]]} -> 82 | Q27: {=_xlfn.XLOOKUP(Table2[[#This Row],[Date]]&Table2[[#This Row],[Period]],Table3[Date]&Table3[Period],Table3[Coordinate])*Table2[[#This Row],[Y]]} -> -8 | R27: {=IFERROR(LARGE(_xlfn._xlws.FILTER(Table1[[F1]:[EN2]],IF(Table2[[#This Row],[F Line]]=Table1[[#Headers],[F1]:[EN2]],1,0))*Table1[No.]*IF(Table2[[#This Row],[Date]]=Table1[Date],1,0),1),0)} -> 77 | S27: {=IFERROR(LARGE(_xlfn._xlws.FILTER(Table1[[F1]:[EN2]],IF(Table2[[#This Row],[F Line]]=Table1[[#Headers],[F1]:[EN2]],1,0))*Table1[No.]*IF(Table2[[#This Row],[Date]]=Table1[Date],1,0),2),0)} -> 43 | T27: {=IFERROR(LARGE(_xlfn._xlws.FILTER(Table1[[F1]:[EN2]],IF(Table2[[#This Row],[F Line]]=Table1[[#Headers],[F1]:[EN2]],1,0))*Table1[No.]*IF(Table2[[#This Row],[Date]]=Table1[Date],1,0),3),0)} -> 17 | U27: {=IFERROR(IF(Table2[[#This Row],[D Pair]]="",LARGE(_xlfn._xlws.FILTER(Table1[[F1]:[EN2]],IF(Table2[[#This Row],[F Line]]=Table1[[#Headers],[F1]:[EN2]],1,0))*Table1[No.]*IF(Table2[[#This Row],[Date]]=Table1[Date],1,0),4),LARGE(_xlfn._xlws.FILTER(Table1[[F1]:[EN2]],IF(Table2[[#This Row],[D Pair]]=Table1[[#Headers],[F1]:[EN2]],1,0))*Table1[No.]*IF(Table2[[#This Row],[Date]]=Table1[Date],1,0),1)),0)} -> 28 | V27: {=IFERROR(IF(Table2[[#This Row],[D Pair]]="",LARGE(_xlfn._xlws.FILTER(Table1[[F1]:[EN2]],IF(Table2[[#This Row],[F Line]]=Table1[[#Headers],[F1]:[EN2]],1,0))*Table1[No.]*IF(Table2[[#This Row],[Date]]=Table1[Date],1,0),5),LARGE(_xlfn._xlws.FILTER(Table1[[F1]:[EN2]],IF(Table2[[#This Row],[D Pair]]=Table1[[#Headers],[F1]:[EN2]],1,0))*Table1[No.]*IF(Table2[[#This Row],[Date]]=Table1[Date],1,0),2)),0)} -> 6 | W27: =IF(Table2[[#This Row],[Type]]="Goal",1,0) -> 0 | X27: =IF(OR(Table2[[#This Row],[Type]]="Goal",Table2[[#This Row],[Type]]="Shot"),1,0) -> 0 | Y27: =IF(OR(Table2[[#This Row],[Type]]="Goal",Table2[[#This Row],[Type]]="Shot",Table2[[#This Row],[Type]]="Miss"),1,0) -> 0 | Z27: =IF(OR(Table2[[#This Row],[Type]]="Goal",Table2[[#This Row],[Type]]="Shot",Table2[[#This Row],[Type]]="Miss",Table2[[#This Row],[Type]]="Block"),1,0) -> 1 | AA27: =IF(OR(Table2[[#This Row],[Date]]=Visualization!$AH$12,Visualization!$AH$12="All"),1,0)*IF(OR(Visualization!$AS$12="All",Visualization!$AS$12=Table2[[#This Row],[Period]]),1,0)*IF(OR(Table2[[#This Row],[Type]]=Visualization!$BD$12,Visualization!$BD$12="All"),1,0)*IF(OR(Visualization!$BO$12="All",Visualization!$BO$12=Table2[[#This Row],[Strength]]),1,0) -> 1 | AB27: =IF(Table2[[#This Row],[Player]]=Visualization!$AR$2,1,0) -> 1 | AC27: =IF(OR(Table2[[#This Row],[PIT1]]=Visualization!$AR$2,Table2[[#This Row],[PIT2]]=Visualization!$AR$2,Table2[[#This Row],[PIT3]]=Visualization!$AR$2,Table2[[#This Row],[PIT4]]=Visualization!$AR$2,Table2[[#This Row],[PIT5]]=Visualization!$AR$2,Table2[[#This Row],[Goaltender]]=Visualization!$AR$2),1,0) -> 1 | AF27: =_xlfn.XLOOKUP(AE27,Table2[Shot No.],Table2[x2],300) -> 300 | AG27: =_xlfn.XLOOKUP(AE27,Table2[Shot No.],Table2[y2],300) -> 300 | AJ27: =_xlfn.XLOOKUP(AI27,Table2[Shot No.],Table2[x2],300) -> 300 | AK27: =_xlfn.XLOOKUP(AI27,Table2[Shot No.],Table2[y2],300) -> 300 | AN27: =_xlfn.XLOOKUP(AM27,Table2[Shot No.],Table2[x2],300) -> 300 | AO27: =_xlfn.XLOOKUP(AM27,Table2[Shot No.],Table2[y2],300) -> 300
A28: 1 | B28: PIT | C28: 53 | D28: Miss | E28: 61 | F28: -33 | G28: F3 | H28: D3 | K28: 35 | M28: EV | N28: 44481 | O28: =ROW(O27) -> 27 | P28: {=_xlfn.XLOOKUP(Table2[[#This Row],[Date]]&Table2[[#This Row],[Period]],Table3[Date]&Table3[Period],Table3[Coordinate])*Table2[[#This Row],[X]]} -> 61 | Q28: {=_xlfn.XLOOKUP(Table2[[#This Row],[Date]]&Table2[[#This Row],[Period]],Table3[Date]&Table3[Period],Table3[Coordinate])*Table2[[#This Row],[Y]]} -> -33 | R28: {=IFERROR(LARGE(_xlfn._xlws.FILTER(Table1[[F1]:[EN2]],IF(Table2[[#This Row],[F Line]]=Table1[[#Headers],[F1]:[EN2]],1,0))*Table1[No.]*IF(Table2[[#This Row],[Date]]=Table1[Date],1,0),1),0)} -> 53 | S28: {=IFERROR(LARGE(_xlfn._xlws.FILTER(Table1[[F1]:[EN2]],IF(Table2[[#This Row],[F Line]]=Table1[[#Headers],[F1]:[EN2]],1,0))*Table1[No.]*IF(Table2[[#This Row],[Date]]=Table1[Date],1,0),2),0)} -> 23 | T28: {=IFERROR(LARGE(_xlfn._xlws.FILTER(Table1[[F1]:[EN2]],IF(Table2[[#This Row],[F Line]]=Table1[[#Headers],[F1]:[EN2]],1,0))*Table1[No.]*IF(Table2[[#This Row],[Date]]=Table1[Date],1,0),3),0)} -> 12 | U28: {=IFERROR(IF(Table2[[#This Row],[D Pair]]="",LARGE(_xlfn._xlws.FILTER(Table1[[F1]:[EN2]],IF(Table2[[#This Row],[F Line]]=Table1[[#Headers],[F1]:[EN2]],1,0))*Table1[No.]*IF(Table2[[#This Row],[Date]]=Table1[Date],1,0),4),LARGE(_xlfn._xlws.FILTER(Table1[[F1]:[EN2]],IF(Table2[[#This Row],[D Pair]]=Table1[[#Headers],[F1]:[EN2]],1,0))*Table1[No.]*IF(Table2[[#This Row],[Date]]=Table1[Date],1,0),1)),0)} -> 59 | V28: {=IFERROR(IF(Table2[[#This Row],[D Pair]]="",LARGE(_xlfn._xlws.FILTER(Table1[[F1]:[EN2]],IF(Table2[[#This Row],[F Line]]=Table1[[#Headers],[F1]:[EN2]],1,0))*Table1[No.]*IF(Table2[[#This Row],[Date]]=Table1[Date],1,0),5),LARGE(_xlfn._xlws.FILTER(Table1[[F1]:[EN2]],IF(Table2[[#This Row],[D Pair]]=Table1[[#Headers],[F1]:[EN2]],1,0))*Table1[No.]*IF(Table2[[#This Row],[Date]]=Table1[Date],1,0),2)),0)} -> 2 | W28: =IF(Table2[[#This Row],[Type]]="Goal",1,0) -> 0 | X28: =IF(OR(Table2[[#This Row],[Type]]="Goal",Table2[[#This Row],[Type]]="Shot"),1,0) -> 0 | Y28: =IF(OR(Table2[[#This Row],[Type]]="Goal",Table2[[#This Row],[Type]]="Shot",Table2[[#This Row],[Type]]="Miss"),1,0) -> 1 | Z28: =IF(OR(Table2[[#This Row],[Type]]="Goal",Table2[[#This Row],[Type]]="Shot",Table2[[#This Row],[Type]]="Miss",Table2[[#This Row],[Type]]="Block"),1,0) -> 1 | AA28: =IF(OR(Table2[[#This Row],[Date]]=Visualization!$AH$12,Visualization!$AH$12="All"),1,0)*IF(OR(Visualization!$AS$12="All",Visualization!$AS$12=Table2[[#This Row],[Period]]),1,0)*IF(OR(Table2[[#This Row],[Type]]=Visualization!$BD$12,Visualization!$BD$12="All"),1,0)*IF(OR(Visualization!$BO$12="All",Visualization!$BO$12=Table2[[#This Row],[Strength]]),1,0) -> 1 | AB28: =IF(Table2[[#This Row],[Player]]=Visualization!$AR$2,1,0) -> 0 | AC28: =IF(OR(Table2[[#This Row],[PIT1]]=Visualization!$AR$2,Table2[[#This Row],[PIT2]]=Visualization!$AR$2,Table2[[#This Row],[PIT3]]=Visualization!$AR$2,Table2[[#This Row],[PIT4]]=Visualization!$AR$2,Table2[[#This Row],[PIT5]]=Visualization!$AR$2,Table2[[#This Row],[Goaltender]]=Visualization!$AR$2),1,0) -> 0 | AF28: =_xlfn.XLOOKUP(AE28,Table2[Shot No.],Table2[x2],300) -> 300 | AG28: =_xlfn.XLOOKUP(AE28,Table2[Shot No.],Table2[y2],300) -> 300 | AJ28: =_xlfn.XLOOKUP(AI28,Table2[Shot No.],Table2[x2],300) -> 300 | AK28: =_xlfn.XLOOKUP(AI28,Table2[Shot No.],Table2[y2],300) -> 300 | AN28: =_xlfn.XLOOKUP(AM28,Table2[Shot No.],Table2[x2],300) -> 300 | AO28: =_xlfn.XLOOKUP(AM28,Table2[Shot No.],Table2[y2],300) -> 300
A29: 1 | B29: T.B | D29: Shot | E29: -63 | F29: -6 | G29: F4 | H29: D2 | K29: 35 | M29: EV | N29: 44481 | O29: =ROW(O28) -> 28 | P29: {=_xlfn.XLOOKUP(Table2[[#This Row],[Date]]&Table2[[#This Row],[Period]],Table3[Date]&Table3[Period],Table3[Coordinate])*Table2[[#This Row],[X]]} -> -63 | Q29: {=_xlfn.XLOOKUP(Table2[[#This Row],[Date]]&Table2[[#This Row],[Period]],Table3[Date]&Table3[Period],Table3[Coordinate])*Table2[[#This Row],[Y]]} -> -6 | R29: {=IFERROR(LARGE(_xlfn._xlws.FILTER(Table1[[F1]:[EN2]],IF(Table2[[#This Row],[F Line]]=Table1[[#Headers],[F1]:[EN2]],1,0))*Table1[No.]*IF(Table2[[#This Row],[Date]]=Table1[Date],1,0),1),0)} -> 37 | S29: {=IFERROR(LARGE(_xlfn._xlws.FILTER(Table1[[F1]:[EN2]],IF(Table2[[#This Row],[F Line]]=Table1[[#Headers],[F1]:[EN2]],1,0))*Table1[No.]*IF(Table2[[#This Row],[Date]]=Table1[Date],1,0),2),0)} -> 11 | T29: {=IFERROR(LARGE(_xlfn._xlws.FILTER(Table1[[F1]:[EN2]],IF(Table2[[#This Row],[F Line]]=Table1[[#Headers],[F1]:[EN2]],1,0))*Table1[No.]*IF(Table2[[#This Row],[Date]]=Table1[Date],1,0),3),0)} -> 10 | U29: {=IFERROR(IF(Table2[[#This Row],[D Pair]]="",LARGE(_xlfn._xlws.FILTER(Table1[[F1]:[EN2]],IF(Table2[[#This Row],[F Line]]=Table1[[#Headers],[F1]:[EN2]],1,0))*Table1[No.]*IF(Table2[[#This Row],[Date]]=Table1[Date],1,0),4),LARGE(_xlfn._xlws.FILTER(Table1[[F1]:[EN2]],IF(Table2[[#This Row],[D Pair]]=Table1[[#Headers],[F1]:[EN2]],1,0))*Table1[No.]*IF(Table2[[#This Row],[Date]]=Table1[Date],1,0),1)),0)} -> 28 | V29: {=IFERROR(IF(Table2[[#This Row],[D Pair]]="",LARGE(_xlfn._xlws.FILTER(Table1[[F1]:[EN2]],IF(Table2[[#This Row],[F Line]]=Table1[[#Headers],[F1]:[EN2]],1,0))*Table1[No.]*IF(Table2[[#This Row],[Date]]=Table1[Date],1,0),5),LARGE(_xlfn._xlws.FILTER(Table1[[F1]:[EN2]],IF(Table2[[#This Row],[D Pair]]=Table1[[#Headers],[F1]:[EN2]],1,0))*Table1[No.]*IF(Table2[[#This Row],[Date]]=Table1[Date],1,0),2)),0)} -> 6 | W29: =IF(Table2[[#This Row],[Type]]="Goal",1,0) -> 0 | X29: =IF(OR(Table2[[#This Row],[Type]]="Goal",Table2[[#This Row],[Type]]="Shot"),1,0) -> 1 | Y29: =IF(OR(Table2[[#This Row],[Type]]="Goal",Table2[[#This Row],[Type]]="Shot",Table2[[#This Row],[Type]]="Miss"),1,0) -> 1 | Z29: =IF(OR(Table2[[#This Row],[Type]]="Goal",Table2[[#This Row],[Type]]="Shot",Table2[[#This Row],[Type]]="Miss",Table2[[#This Row],[Type]]="Block"),1,0) -> 1 | AA29: =IF(OR(Table2[[#This Row],[Date]]=Visualization!$AH$12,Visualization!$AH$12="All"),1,0)*IF(OR(Visualization!$AS$12="All",Visualization!$AS$12=Table2[[#This Row],[Period]]),1,0)*IF(OR(Table2[[#This Row],[Type]]=Visualization!$BD$12,Visualization!$BD$12="All"),1,0)*IF(OR(Visualization!$BO$12="All",Visualization!$BO$12=Table2[[#This Row],[Strength]]),1,0) -> 1 | AB29: =IF(Table2[[#This Row],[Player]]=Visualization!$AR$2,1,0) -> 0 | AC29: =IF(OR(Table2[[#This Row],[PIT1]]=Visualization!$AR$2,Table2[[#This Row],[PIT2]]=Visualization!$AR$2,Table2[[#This Row],[PIT3]]=Visualization!$AR$2,Table2[[#This Row],[PIT4]]=Visualization!$AR$2,Table2[[#This Row],[PIT5]]=Visualization!$AR$2,Table2[[#This Row],[Goaltender]]=Visualization!$AR$2),1,0) -> 0 | AF29: =_xlfn.XLOOKUP(AE29,Table2[Shot No.],Table2[x2],300) -> 300 | AG29: =_xlfn.XLOOKUP(AE29,Table2[Shot No.],Table2[y2],300) -> 300 | AJ29: =_xlfn.XLOOKUP(AI29,Table2[Shot No.],Table2[x2],300) -> 300 | AK29: =_xlfn.XLOOKUP(AI29,Table2[Shot No.],Table2[y2],300) -> 300 | AN29: =_xlfn.XLOOKUP(AM29,Table2[Shot No.],Table2[x2],300) -> 300 | AO29: =_xlfn.XLOOKUP(AM29,Table2[Shot No.],Table2[y2],300) -> 300
A30: 1 | B30: PIT | C30: 8 | D30: Miss | E30: 37 | F30: 31 | G30: F2 | H30: D1 | K30: 35 | M30: EV | N30: 44481 | O30: =ROW(O29) -> 29 | P30: {=_xlfn.XLOOKUP(Table2[[#This Row],[Date]]&Table2[[#This Row],[Period]],Table3[Date]&Table3[Period],Table3[Coordinate])*Table2[[#This Row],[X]]} -> 37 | Q30: {=_xlfn.XLOOKUP(Table2[[#This Row],[Date]]&Table2[[#This Row],[Period]],Table3[Date]&Table3[Period],Table3[Coordinate])*Table2[[#This Row],[Y]]} -> 31 | R30: {=IFERROR(LARGE(_xlfn._xlws.FILTER(Table1[[F1]:[EN2]],IF(Table2[[#This Row],[F Line]]=Table1[[#Headers],[F1]:[EN2]],1,0))*Table1[No.]*IF(Table2[[#This Row],[Date]]=Table1[Date],1,0),1),0)} -> 77 | S30: {=IFERROR(LARGE(_xlfn._xlws.FILTER(Table1[[F1]:[EN2]],IF(Table2[[#This Row],[F Line]]=Table1[[#Headers],[F1]:[EN2]],1,0))*Table1[No.]*IF(Table2[[#This Row],[Date]]=Table1[Date],1,0),2),0)} -> 43 | T30: {=IFERROR(LARGE(_xlfn._xlws.FILTER(Table1[[F1]:[EN2]],IF(Table2[[#This Row],[F Line]]=Table1[[#Headers],[F1]:[EN2]],1,0))*Table1[No.]*IF(Table2[[#This Row],[Date]]=Table1[Date],1,0),3),0)} -> 17 | U30: {=IFERROR(IF(Table2[[#This Row],[D Pair]]="",LARGE(_xlfn._xlws.FILTER(Table1[[F1]:[EN2]],IF(Table2[[#This Row],[F Line]]=Table1[[#Headers],[F1]:[EN2]],1,0))*Table1[No.]*IF(Table2[[#This Row],[Date]]=Table1[Date],1,0),4),LARGE(_xlfn._xlws.FILTER(Table1[[F1]:[EN2]],IF(Table2[[#This Row],[D Pair]]=Table1[[#Headers],[F1]:[EN2]],1,0))*Table1[No.]*IF(Table2[[#This Row],[Date]]=Table1[Date],1,0),1)),0)} -> 58 | V30: {=IFERROR(IF(Table2[[#This Row],[D Pair]]="",LARGE(_xlfn._xlws.FILTER(Table1[[F1]:[EN2]],IF(Table2[[#This Row],[F Line]]=Table1[[#Headers],[F1]:[EN2]],1,0))*Table1[No.]*IF(Table2[[#This Row],[Date]]=Table1[Date],1,0),5),LARGE(_xlfn._xlws.FILTER(Table1[[F1]:[EN2]],IF(Table2[[#This Row],[D Pair]]=Table1[[#Headers],[F1]:[EN2]],1,0))*Table1[No.]*IF(Table2[[#This Row],[Date]]=Table1[Date],1,0),2)),0)} -> 8 | W30: =IF(Table2[[#This Row],[Type]]="Goal",1,0) -> 0 | X30: =IF(OR(Table2[[#This Row],[Type]]="Goal",Table2[[#This Row],[Type]]="Shot"),1,0) -> 0 | Y30: =IF(OR(Table2[[#This Row],[Type]]="Goal",Table2[[#This Row],[Type]]="Shot",Table2[[#This Row],[Type]]="Miss"),1,0) -> 1 | Z30: =IF(OR(Table2[[#This Row],[Type]]="Goal",Table2[[#This Row],[Type]]="Shot",Table2[[#This Row],[Type]]="Miss",Table2[[#This Row],[Type]]="Block"),1,0) -> 1 | AA30: =IF(OR(Table2[[#This Row],[Date]]=Visualization!$AH$12,Visualization!$AH$12="All"),1,0)*IF(OR(Visualization!$AS$12="All",Visualization!$AS$12=Table2[[#This Row],[Period]]),1,0)*IF(OR(Table2[[#This Row],[Type]]=Visualization!$BD$12,Visualization!$BD$12="All"),1,0)*IF(OR(Visualization!$BO$12="All",Visualization!$BO$12=Table2[[#This Row],[Strength]]),1,0) -> 1 | AB30: =IF(Table2[[#This Row],[Player]]=Visualization!$AR$2,1,0) -> 0 | AC30: =IF(OR(Table2[[#This Row],[PIT1]]=Visualization!$AR$2,Table2[[#This Row],[PIT2]]=Visualization!$AR$2,Table2[[#This Row],[PIT3]]=Visualization!$AR$2,Table2[[#This Row],[PIT4]]=Visualization!$AR$2,Table2[[#This Row],[PIT5]]=Visualization!$AR$2,Table2[[#This Row],[Goaltender]]=Visualization!$AR$2),1,0) -> 1 | AF30: =_xlfn.XLOOKUP(AE30,Table2[Shot No.],Table2[x2],300) -> 300 | AG30: =_xlfn.XLOOKUP(AE30,Table2[Shot No.],Table2[y2],300) -> 300 | AJ30: =_xlfn.XLOOKUP(AI30,Table2[Shot No.],Table2[x2],300) -> 300 | AK30: =_xlfn.XLOOKUP(AI30,Table2[Shot No.],Table2[y2],300) -> 300 | AN30: =_xlfn.XLOOKUP(AM30,Table2[Shot No.],Table2[x2],300) -> 300 | AO30: =_xlfn.XLOOKUP(AM30,Table2[Shot No.],Table2[y2],300) -> 300
A31: 1 | B31: PIT | C31: 58 | D31: Miss | E31: 42 | F31: -30 | G31: F2 | H31: D1 | K31: 35 | M31: EV | N31: 44481 | O31: =ROW(O30) -> 30 | P31: {=_xlfn.XLOOKUP(Table2[[#This Row],[Date]]&Table2[[#This Row],[Period]],Table3[Date]&Table3[Period],Table3[Coordinate])*Table2[[#This Row],[X]]} -> 42 | Q31: {=_xlfn.XLOOKUP(Table2[[#This Row],[Date]]&Table2[[#This Row],[Period]],Table3[Date]&Table3[Period],Table3[Coordinate])*Table2[[#This Row],[Y]]} -> -30 | R31: {=IFERROR(LARGE(_xlfn._xlws.FILTER(Table1[[F1]:[EN2]],IF(Table2[[#This Row],[F Line]]=Table1[[#Headers],[F1]:[EN2]],1,0))*Table1[No.]*IF(Table2[[#This Row],[Date]]=Table1[Date],1,0),1),0)} -> 77 | S31: {=IFERROR(LARGE(_xlfn._xlws.FILTER(Table1[[F1]:[EN2]],IF(Table2[[#This Row],[F Line]]=Table1[[#Headers],[F1]:[EN2]],1,0))*Table1[No.]*IF(Table2[[#This Row],[Date]]=Table1[Date],1,0),2),0)} -> 43 | T31: {=IFERROR(LARGE(_xlfn._xlws.FILTER(Table1[[F1]:[EN2]],IF(Table2[[#This Row],[F Line]]=Table1[[#Headers],[F1]:[EN2]],1,0))*Table1[No.]*IF(Table2[[#This Row],[Date]]=Table1[Date],1,0),3),0)} -> 17 | U31: {=IFERROR(IF(Table2[[#This Row],[D Pair]]="",LARGE(_xlfn._xlws.FILTER(Table1[[F1]:[EN2]],IF(Table2[[#This Row],[F Line]]=Table1[[#Headers],[F1]:[EN2]],1,0))*Table1[No.]*IF(Table2[[#This Row],[Date]]=Table1[Date],1,0),4),LARGE(_xlfn._xlws.FILTER(Table1[[F1]:[EN2]],IF(Table2[[#This Row],[D Pair]]=Table1[[#Headers],[F1]:[EN2]],1,0))*Table1[No.]*IF(Table2[[#This Row],[Date]]=Table1[Date],1,0),1)),0)} -> 58 | V31: {=IFERROR(IF(Table2[[#This Row],[D Pair]]="",LARGE(_xlfn._xlws.FILTER(Table1[[F1]:[EN2]],IF(Table2[[#This Row],[F Line]]=Table1[[#Headers],[F1]:[EN2]],1,0))*Table1[No.]*IF(Table2[[#This Row],[Date]]=Table1[Date],1,0),5),LARGE(_xlfn._xlws.FILTER(Table1[[F1]:[EN2]],IF(Table2[[#This Row],[D Pair]]=Table1[[#Headers],[F1]:[EN2]],1,0))*Table1[No.]*IF(Table2[[#This Row],[Date]]=Table1[Date],1,0),2)),0)} -> 8 | W31: =IF(Table2[[#This Row],[Type]]="Goal",1,0) -> 0 | X31: =IF(OR(Table2[[#This Row],[Type]]="Goal",Table2[[#This Row],[Type]]="Shot"),1,0) -> 0 | Y31: =IF(OR(Table2[[#This Row],[Type]]="Goal",Table2[[#This Row],[Type]]="Shot",Table2[[#This Row],[Type]]="Miss"),1,0) -> 1 | Z31: =IF(OR(Table2[[#This Row],[Type]]="Goal",Table2[[#This Row],[Type]]="Shot",Table2[[#This Row],[Type]]="Miss",Table2[[#This Row],[Type]]="Block"),1,0) -> 1 | AA31: =IF(OR(Table2[[#This Row],[Date]]=Visualization!$AH$12,Visualization!$AH$12="All"),1,0)*IF(OR(Visualization!$AS$12="All",Visualization!$AS$12=Table2[[#This Row],[Period]]),1,0)*IF(OR(Table2[[#This Row],[Type]]=Visualization!$BD$12,Visualization!$BD$12="All"),1,0)*IF(OR(Visualization!$BO$12="All",Visualization!$BO$12=Table2[[#This Row],[Strength]]),1,0) -> 1 | AB31: =IF(Table2[[#This Row],[Player]]=Visualization!$AR$2,1,0) -> 0 | AC31: =IF(OR(Table2[[#This Row],[PIT1]]=Visualization!$AR$2,Table2[[#This Row],[PIT2]]=Visualization!$AR$2,Table2[[#This Row],[PIT3]]=Visualization!$AR$2,Table2[[#This Row],[PIT4]]=Visualization!$AR$2,Table2[[#This Row],[PIT5]]=Visualization!$AR$2,Table2[[#This Row],[Goaltender]]=Visualization!$AR$2),1,0) -> 1 | AF31: =_xlfn.XLOOKUP(AE31,Table2[Shot No.],Table2[x2],300) -> 300 | AG31: =_xlfn.XLOOKUP(AE31,Table2[Shot No.],Table2[y2],300) -> 300 | AJ31: =_xlfn.XLOOKUP(AI31,Table2[Shot No.],Table2[x2],300) -> 300 | AK31: =_xlfn.XLOOKUP(AI31,Table2[Shot No.],Table2[y2],300) -> 300 | AN31: =_xlfn.XLOOKUP(AM31,Table2[Shot No.],Table2[x2],300) -> 300 | AO31: =_xlfn.XLOOKUP(AM31,Table2[Shot No.],Table2[y2],300) -> 300
A32: 1 | B32: T.B | D32: Shot | E32: -41 | F32: -8 | G32: F2 | H32: D1 | K32: 35 | M32: EV | N32: 44481 | O32: =ROW(O31) -> 31 | P32: {=_xlfn.XLOOKUP(Table2[[#This Row],[Date]]&Table2[[#This Row],[Period]],Table3[Date]&Table3[Period],Table3[Coordinate])*Table2[[#This Row],[X]]} -> -41 | Q32: {=_xlfn.XLOOKUP(Table2[[#This Row],[Date]]&Table2[[#This Row],[Period]],Table3[Date]&Table3[Period],Table3[Coordinate])*Table2[[#This Row],[Y]]} -> -8 | R32: {=IFERROR(LARGE(_xlfn._xlws.FILTER(Table1[[F1]:[EN2]],IF(Table2[[#This Row],[F Line]]=Table1[[#Headers],[F1]:[EN2]],1,0))*Table1[No.]*IF(Table2[[#This Row],[Date]]=Table1[Date],1,0),1),0)} -> 77 | S32: {=IFERROR(LARGE(_xlfn._xlws.FILTER(Table1[[F1]:[EN2]],IF(Table2[[#This Row],[F Line]]=Table1[[#Headers],[F1]:[EN2]],1,0))*Table1[No.]*IF(Table2[[#This Row],[Date]]=Table1[Date],1,0),2),0)} -> 43 | T32: {=IFERROR(LARGE(_xlfn._xlws.FILTER(Table1[[F1]:[EN2]],IF(Table2[[#This Row],[F Line]]=Table1[[#Headers],[F1]:[EN2]],1,0))*Table1[No.]*IF(Table2[[#This Row],[Date]]=Table1[Date],1,0),3),0)} -> 17 | U32: {=IFERROR(IF(Table2[[#This Row],[D Pair]]="",LARGE(_xlfn._xlws.FILTER(Table1[[F1]:[EN2]],IF(Table2[[#This Row],[F Line]]=Table1[[#Headers],[F1]:[EN2]],1,0))*Table1[No.]*IF(Table2[[#This Row],[Date]]=Table1[Date],1,0),4),LARGE(_xlfn._xlws.FILTER(Table1[[F1]:[EN2]],IF(Table2[[#This Row],[D Pair]]=Table1[[#Headers],[F1]:[EN2]],1,0))*Table1[No.]*IF(Table2[[#This Row],[Date]]=Table1[Date],1,0),1)),0)} -> 58 | V32: {=IFERROR(IF(Table2[[#This Row],[D Pair]]="",LARGE(_xlfn._xlws.FILTER(Table1[[F1]:[EN2]],IF(Table2[[#This Row],[F Line]]=Table1[[#Headers],[F1]:[EN2]],1,0))*Table1[No.]*IF(Table2[[#This Row],[Date]]=Table1[Date],1,0),5),LARGE(_xlfn._xlws.FILTER(Table1[[F1]:[EN2]],IF(Table2[[#This Row],[D Pair]]=Table1[[#Headers],[F1]:[EN2]],1,0))*Table1[No.]*IF(Table2[[#This Row],[Date]]=Table1[Date],1,0),2)),0)} -> 8 | W32: =IF(Table2[[#This Row],[Type]]="Goal",1,0) -> 0 | X32: =IF(OR(Table2[[#This Row],[Type]]="Goal",Table2[[#This Row],[Type]]="Shot"),1,0) -> 1 | Y32: =IF(OR(Table2[[#This Row],[Type]]="Goal",Table2[[#This Row],[Type]]="Shot",Table2[[#This Row],[Type]]="Miss"),1,0) -> 1 | Z32: =IF(OR(Table2[[#This Row],[Type]]="Goal",Table2[[#This Row],[Type]]="Shot",Table2[[#This Row],[Type]]="Miss",Table2[[#This Row],[Type]]="Block"),1,0) -> 1 | AA32: =IF(OR(Table2[[#This Row],[Date]]=Visualization!$AH$12,Visualization!$AH$12="All"),1,0)*IF(OR(Visualization!$AS$12="All",Visualization!$AS$12=Table2[[#This Row],[Period]]),1,0)*IF(OR(Table2[[#This Row],[Type]]=Visualization!$BD$12,Visualization!$BD$12="All"),1,0)*IF(OR(Visualization!$BO$12="All",Visualization!$BO$12=Table2[[#This Row],[Strength]]),1,0) -> 1 | AB32: =IF(Table2[[#This Row],[Player]]=Visualization!$AR$2,1,0) -> 0 | AC32: =IF(OR(Table2[[#This Row],[PIT1]]=Visualization!$AR$2,Table2[[#This Row],[PIT2]]=Visualization!$AR$2,Table2[[#This Row],[PIT3]]=Visualization!$AR$2,Table2[[#This Row],[PIT4]]=Visualization!$AR$2,Table2[[#This Row],[PIT5]]=Visualization!$AR$2,Table2[[#This Row],[Goaltender]]=Visualization!$AR$2),1,0) -> 1 | AF32: =_xlfn.XLOOKUP(AE32,Table2[Shot No.],Table2[x2],300) -> 300 | AG32: =_xlfn.XLOOKUP(AE32,Table2[Shot No.],Table2[y2],300) -> 300 | AJ32: =_xlfn.XLOOKUP(AI32,Table2[Shot No.],Table2[x2],300) -> 300 | AK32: =_xlfn.XLOOKUP(AI32,Table2[Shot No.],Table2[y2],300) -> 300 | AN32: =_xlfn.XLOOKUP(AM32,Table2[Shot No.],Table2[x2],300) -> 300 | AO32: =_xlfn.XLOOKUP(AM32,Table2[Shot No.],Table2[y2],300) -> 300
A33: 1 | B33: T.B | D33: Block | E33: -72 | F33: -4 | G33: F4 | H33: D2 | K33: 35 | M33: EV | N33: 44481 | O33: =ROW(O32) -> 32 | P33: {=_xlfn.XLOOKUP(Table2[[#This Row],[Date]]&Table2[[#This Row],[Period]],Table3[Date]&Table3[Period],Table3[Coordinate])*Table2[[#This Row],[X]]} -> -72 | Q33: {=_xlfn.XLOOKUP(Table2[[#This Row],[Date]]&Table2[[#This Row],[Period]],Table3[Date]&Table3[Period],Table3[Coordinate])*Table2[[#This Row],[Y]]} -> -4 | R33: {=IFERROR(LARGE(_xlfn._xlws.FILTER(Table1[[F1]:[EN2]],IF(Table2[[#This Row],[F Line]]=Table1[[#Headers],[F1]:[EN2]],1,0))*Table1[No.]*IF(Table2[[#This Row],[Date]]=Table1[Date],1,0),1),0)} -> 37 | S33: {=IFERROR(LARGE(_xlfn._xlws.FILTER(Table1[[F1]:[EN2]],IF(Table2[[#This Row],[F Line]]=Table1[[#Headers],[F1]:[EN2]],1,0))*Table1[No.]*IF(Table2[[#This Row],[Date]]=Table1[Date],1,0),2),0)} -> 11 | T33: {=IFERROR(LARGE(_xlfn._xlws.FILTER(Table1[[F1]:[EN2]],IF(Table2[[#This Row],[F Line]]=Table1[[#Headers],[F1]:[EN2]],1,0))*Table1[No.]*IF(Table2[[#This Row],[Date]]=Table1[Date],1,0),3),0)} -> 10 | U33: {=IFERROR(IF(Table2[[#This Row],[D Pair]]="",LARGE(_xlfn._xlws.FILTER(Table1[[F1]:[EN2]],IF(Table2[[#This Row],[F Line]]=Table1[[#Headers],[F1]:[EN2]],1,0))*Table1[No.]*IF(Table2[[#This Row],[Date]]=Table1[Date],1,0),4),LARGE(_xlfn._xlws.FILTER(Table1[[F1]:[EN2]],IF(Table2[[#This Row],[D Pair]]=Table1[[#Headers],[F1]:[EN2]],1,0))*Table1[No.]*IF(Table2[[#This Row],[Date]]=Table1[Date],1,0),1)),0)} -> 28 | V33: {=IFERROR(IF(Table2[[#This Row],[D Pair]]="",LARGE(_xlfn._xlws.FILTER(Table1[[F1]:[EN2]],IF(Table2[[#This Row],[F Line]]=Table1[[#Headers],[F1]:[EN2]],1,0))*Table1[No.]*IF(Table2[[#This Row],[Date]]=Table1[Date],1,0),5),LARGE(_xlfn._xlws.FILTER(Table1[[F1]:[EN2]],IF(Table2[[#This Row],[D Pair]]=Table1[[#Headers],[F1]:[EN2]],1,0))*Table1[No.]*IF(Table2[[#This Row],[Date]]=Table1[Date],1,0),2)),0)} -> 6 | W33: =IF(Table2[[#This Row],[Type]]="Goal",1,0) -> 0 | X33: =IF(OR(Table2[[#This Row],[Type]]="Goal",Table2[[#This Row],[Type]]="Shot"),1,0) -> 0 | Y33: =IF(OR(Table2[[#This Row],[Type]]="Goal",Table2[[#This Row],[Type]]="Shot",Table2[[#This Row],[Type]]="Miss"),1,0) -> 0 | Z33: =IF(OR(Table2[[#This Row],[Type]]="Goal",Table2[[#This Row],[Type]]="Shot",Table2[[#This Row],[Type]]="Miss",Table2[[#This Row],[Type]]="Block"),1,0) -> 1 | AA33: =IF(OR(Table2[[#This Row],[Date]]=Visualization!$AH$12,Visualization!$AH$12="All"),1,0)*IF(OR(Visualization!$AS$12="All",Visualization!$AS$12=Table2[[#This Row],[Period]]),1,0)*IF(OR(Table2[[#This Row],[Type]]=Visualization!$BD$12,Visualization!$BD$12="All"),1,0)*IF(OR(Visualization!$BO$12="All",Visualization!$BO$12=Table2[[#This Row],[Strength]]),1,0) -> 1 | AB33: =IF(Table2[[#This Row],[Player]]=Visualization!$AR$2,1,0) -> 0 | AC33: =IF(OR(Table2[[#This Row],[PIT1]]=Visualization!$AR$2,Table2[[#This Row],[PIT2]]=Visualization!$AR$2,Table2[[#This Row],[PIT3]]=Visualization!$AR$2,Table2[[#This Row],[PIT4]]=Visualization!$AR$2,Table2[[#This Row],[PIT5]]=Visualization!$AR$2,Table2[[#This Row],[Goaltender]]=Visualization!$AR$2),1,0) -> 0 | AF33: =_xlfn.XLOOKUP(AE33,Table2[Shot No.],Table2[x2],300) -> 300 | AG33: =_xlfn.XLOOKUP(AE33,Table2[Shot No.],Table2[y2],300) -> 300 | AJ33: =_xlfn.XLOOKUP(AI33,Table2[Shot No.],Table2[x2],300) -> 300 | AK33: =_xlfn.XLOOKUP(AI33,Table2[Shot No.],Table2[y2],300) -> 300 | AN33: =_xlfn.XLOOKUP(AM33,Table2[Shot No.],Table2[x2],300) -> 300 | AO33: =_xlfn.XLOOKUP(AM33,Table2[Shot No.],Table2[y2],300) -> 300
A34: 1 | B34: T.B | D34: Block | E34: -76 | F34: 1 | G34: F4 | H34: D2 | K34: 35 | M34: EV | N34: 44481 | O34: =ROW(O33) -> 33 | P34: {=_xlfn.XLOOKUP(Table2[[#This Row],[Date]]&Table2[[#This Row],[Period]],Table3[Date]&Table3[Period],Table3[Coordinate])*Table2[[#This Row],[X]]} -> -76 | Q34: {=_xlfn.XLOOKUP(Table2[[#This Row],[Date]]&Table2[[#This Row],[Period]],Table3[Date]&Table3[Period],Table3[Coordinate])*Table2[[#This Row],[Y]]} -> 1 | R34: {=IFERROR(LARGE(_xlfn._xlws.FILTER(Table1[[F1]:[EN2]],IF(Table2[[#This Row],[F Line]]=Table1[[#Headers],[F1]:[EN2]],1,0))*Table1[No.]*IF(Table2[[#This Row],[Date]]=Table1[Date],1,0),1),0)} -> 37 | S34: {=IFERROR(LARGE(_xlfn._xlws.FILTER(Table1[[F1]:[EN2]],IF(Table2[[#This Row],[F Line]]=Table1[[#Headers],[F1]:[EN2]],1,0))*Table1[No.]*IF(Table2[[#This Row],[Date]]=Table1[Date],1,0),2),0)} -> 11 | T34: {=IFERROR(LARGE(_xlfn._xlws.FILTER(Table1[[F1]:[EN2]],IF(Table2[[#This Row],[F Line]]=Table1[[#Headers],[F1]:[EN2]],1,0))*Table1[No.]*IF(Table2[[#This Row],[Date]]=Table1[Date],1,0),3),0)} -> 10 | U34: {=IFERROR(IF(Table2[[#This Row],[D Pair]]="",LARGE(_xlfn._xlws.FILTER(Table1[[F1]:[EN2]],IF(Table2[[#This Row],[F Line]]=Table1[[#Headers],[F1]:[EN2]],1,0))*Table1[No.]*IF(Table2[[#This Row],[Date]]=Table1[Date],1,0),4),LARGE(_xlfn._xlws.FILTER(Table1[[F1]:[EN2]],IF(Table2[[#This Row],[D Pair]]=Table1[[#Headers],[F1]:[EN2]],1,0))*Table1[No.]*IF(Table2[[#This Row],[Date]]=Table1[Date],1,0),1)),0)} -> 28 | V34: {=IFERROR(IF(Table2[[#This Row],[D Pair]]="",LARGE(_xlfn._xlws.FILTER(Table1[[F1]:[EN2]],IF(Table2[[#This Row],[F Line]]=Table1[[#Headers],[F1]:[EN2]],1,0))*Table1[No.]*IF(Table2[[#This Row],[Date]]=Table1[Date],1,0),5),LARGE(_xlfn._xlws.FILTER(Table1[[F1]:[EN2]],IF(Table2[[#This Row],[D Pair]]=Table1[[#Headers],[F1]:[EN2]],1,0))*Table1[No.]*IF(Table2[[#This Row],[Date]]=Table1[Date],1,0),2)),0)} -> 6 | W34: =IF(Table2[[#This Row],[Type]]="Goal",1,0) -> 0 | X34: =IF(OR(Table2[[#This Row],[Type]]="Goal",Table2[[#This Row],[Type]]="Shot"),1,0) -> 0 | Y34: =IF(OR(Table2[[#This Row],[Type]]="Goal",Table2[[#This Row],[Type]]="Shot",Table2[[#This Row],[Type]]="Miss"),1,0) -> 0 | Z34: =IF(OR(Table2[[#This Row],[Type]]="Goal",Table2[[#This Row],[Type]]="Shot",Table2[[#This Row],[Type]]="Miss",Table2[[#This Row],[Type]]="Block"),1,0) -> 1 | AA34: =IF(OR(Table2[[#This Row],[Date]]=Visualization!$AH$12,Visualization!$AH$12="All"),1,0)*IF(OR(Visualization!$AS$12="All",Visualization!$AS$12=Table2[[#This Row],[Period]]),1,0)*IF(OR(Table2[[#This Row],[Type]]=Visualization!$BD$12,Visualization!$BD$12="All"),1,0)*IF(OR(Visualization!$BO$12="All",Visualization!$BO$12=Table2[[#This Row],[Strength]]),1,0) -> 1 | AB34: =IF(Table2[[#This Row],[Player]]=Visualization!$AR$2,1,0) -> 0 | AC34: =IF(OR(Table2[[#This Row],[PIT1]]=Visualization!$AR$2,Table2[[#This Row],[PIT2]]=Visualization!$AR$2,Table2[[#This Row],[PIT3]]=Visualization!$AR$2,Table2[[#This Row],[PIT4]]=Visualization!$AR$2,Table2[[#This Row],[PIT5]]=Visualization!$AR$2,Table2[[#This Row],[Goaltender]]=Visualization!$AR$2),1,0) -> 0 | AF34: =_xlfn.XLOOKUP(AE34,Table2[Shot No.],Table2[x2],300) -> 300 | AG34: =_xlfn.XLOOKUP(AE34,Table2[Shot No.],Table2[y2],300) -> 300 | AJ34: =_xlfn.XLOOKUP(AI34,Table2[Shot No.],Table2[x2],300) -> 300 | AK34: =_xlfn.XLOOKUP(AI34,Table2[Shot No.],Table2[y2],300) -> 300 | AN34: =_xlfn.XLOOKUP(AM34,Table2[Shot No.],Table2[x2],300) -> 300 | AO34: =_xlfn.XLOOKUP(AM34,Table2[Shot No.],Table2[y2],300) -> 300
A35: 1 | B35: PIT | C35: 16 | D35: Shot | E35: 75 | F35: -28 | G35: F1 | H35: D1 | K35: 35 | M35: EV | N35: 44481 | O35: =ROW(O34) -> 34 | P35: {=_xlfn.XLOOKUP(Table2[[#This Row],[Date]]&Table2[[#This Row],[Period]],Table3[Date]&Table3[Period],Table3[Coordinate])*Table2[[#This Row],[X]]} -> 75 | Q35: {=_xlfn.XLOOKUP(Table2[[#This Row],[Date]]&Table2[[#This Row],[Period]],Table3[Date]&Table3[Period],Table3[Coordinate])*Table2[[#This Row],[Y]]} -> -28 | R35: {=IFERROR(LARGE(_xlfn._xlws.FILTER(Table1[[F1]:[EN2]],IF(Table2[[#This Row],[F Line]]=Table1[[#Headers],[F1]:[EN2]],1,0))*Table1[No.]*IF(Table2[[#This Row],[Date]]=Table1[Date],1,0),1),0)} -> 71 | S35: {=IFERROR(LARGE(_xlfn._xlws.FILTER(Table1[[F1]:[EN2]],IF(Table2[[#This Row],[F Line]]=Table1[[#Headers],[F1]:[EN2]],1,0))*Table1[No.]*IF(Table2[[#This Row],[Date]]=Table1[Date],1,0),2),0)} -> 24 | T35: {=IFERROR(LARGE(_xlfn._xlws.FILTER(Table1[[F1]:[EN2]],IF(Table2[[#This Row],[F Line]]=Table1[[#Headers],[F1]:[EN2]],1,0))*Table1[No.]*IF(Table2[[#This Row],[Date]]=Table1[Date],1,0),3),0)} -> 16 | U35: {=IFERROR(IF(Table2[[#This Row],[D Pair]]="",LARGE(_xlfn._xlws.FILTER(Table1[[F1]:[EN2]],IF(Table2[[#This Row],[F Line]]=Table1[[#Headers],[F1]:[EN2]],1,0))*Table1[No.]*IF(Table2[[#This Row],[Date]]=Table1[Date],1,0),4),LARGE(_xlfn._xlws.FILTER(Table1[[F1]:[EN2]],IF(Table2[[#This Row],[D Pair]]=Table1[[#Headers],[F1]:[EN2]],1,0))*Table1[No.]*IF(Table2[[#This Row],[Date]]=Table1[Date],1,0),1)),0)} -> 58 | V35: {=IFERROR(IF(Table2[[#This Row],[D Pair]]="",LARGE(_xlfn._xlws.FILTER(Table1[[F1]:[EN2]],IF(Table2[[#This Row],[F Line]]=Table1[[#Headers],[F1]:[EN2]],1,0))*Table1[No.]*IF(Table2[[#This Row],[Date]]=Table1[Date],1,0),5),LARGE(_xlfn._xlws.FILTER(Table1[[F1]:[EN2]],IF(Table2[[#This Row],[D Pair]]=Table1[[#Headers],[F1]:[EN2]],1,0))*Table1[No.]*IF(Table2[[#This Row],[Date]]=Table1[Date],1,0),2)),0)} -> 8 | W35: =IF(Table2[[#This Row],[Type]]="Goal",1,0) -> 0 | X35: =IF(OR(Table2[[#This Row],[Type]]="Goal",Table2[[#This Row],[Type]]="Shot"),1,0) -> 1 | Y35: =IF(OR(Table2[[#This Row],[Type]]="Goal",Table2[[#This Row],[Type]]="Shot",Table2[[#This Row],[Type]]="Miss"),1,0) -> 1 | Z35: =IF(OR(Table2[[#This Row],[Type]]="Goal",Table2[[#This Row],[Type]]="Shot",Table2[[#This Row],[Type]]="Miss",Table2[[#This Row],[Type]]="Block"),1,0) -> 1 | AA35: =IF(OR(Table2[[#This Row],[Date]]=Visualization!$AH$12,Visualization!$AH$12="All"),1,0)*IF(OR(Visualization!$AS$12="All",Visualization!$AS$12=Table2[[#This Row],[Period]]),1,0)*IF(OR(Table2[[#This Row],[Type]]=Visualization!$BD$12,Visualization!$BD$12="All"),1,0)*IF(OR(Visualization!$BO$12="All",Visualization!$BO$12=Table2[[#This Row],[Strength]]),1,0) -> 1 | AB35: =IF(Table2[[#This Row],[Player]]=Visualization!$AR$2,1,0) -> 0 | AC35: =IF(OR(Table2[[#This Row],[PIT1]]=Visualization!$AR$2,Table2[[#This Row],[PIT2]]=Visualization!$AR$2,Table2[[#This Row],[PIT3]]=Visualization!$AR$2,Table2[[#This Row],[PIT4]]=Visualization!$AR$2,Table2[[#This Row],[PIT5]]=Visualization!$AR$2,Table2[[#This Row],[Goaltender]]=Visualization!$AR$2),1,0) -> 0 | AF35: =_xlfn.XLOOKUP(AE35,Table2[Shot No.],Table2[x2],300) -> 300 | AG35: =_xlfn.XLOOKUP(AE35,Table2[Shot No.],Table2[y2],300) -> 300 | AJ35: =_xlfn.XLOOKUP(AI35,Table2[Shot No.],Table2[x2],300) -> 300 | AK35: =_xlfn.XLOOKUP(AI35,Table2[Shot No.],Table2[y2],300) -> 300 | AN35: =_xlfn.XLOOKUP(AM35,Table2[Shot No.],Table2[x2],300) -> 300 | AO35: =_xlfn.XLOOKUP(AM35,Table2[Shot No.],Table2[y2],300) -> 300
A36: 1 | B36: PIT | C36: 71 | D36: Shot | E36: 81 | F36: -3 | G36: F1 | H36: D1 | K36: 35 | M36: EV | N36: 44481 | O36: =ROW(O35) -> 35 | P36: {=_xlfn.XLOOKUP(Table2[[#This Row],[Date]]&Table2[[#This Row],[Period]],Table3[Date]&Table3[Period],Table3[Coordinate])*Table2[[#This Row],[X]]} -> 81 | Q36: {=_xlfn.XLOOKUP(Table2[[#This Row],[Date]]&Table2[[#This Row],[Period]],Table3[Date]&Table3[Period],Table3[Coordinate])*Table2[[#This Row],[Y]]} -> -3 | R36: {=IFERROR(LARGE(_xlfn._xlws.FILTER(Table1[[F1]:[EN2]],IF(Table2[[#This Row],[F Line]]=Table1[[#Headers],[F1]:[EN2]],1,0))*Table1[No.]*IF(Table2[[#This Row],[Date]]=Table1[Date],1,0),1),0)} -> 71 | S36: {=IFERROR(LARGE(_xlfn._xlws.FILTER(Table1[[F1]:[EN2]],IF(Table2[[#This Row],[F Line]]=Table1[[#Headers],[F1]:[EN2]],1,0))*Table1[No.]*IF(Table2[[#This Row],[Date]]=Table1[Date],1,0),2),0)} -> 24 | T36: {=IFERROR(LARGE(_xlfn._xlws.FILTER(Table1[[F1]:[EN2]],IF(Table2[[#This Row],[F Line]]=Table1[[#Headers],[F1]:[EN2]],1,0))*Table1[No.]*IF(Table2[[#This Row],[Date]]=Table1[Date],1,0),3),0)} -> 16 | U36: {=IFERROR(IF(Table2[[#This Row],[D Pair]]="",LARGE(_xlfn._xlws.FILTER(Table1[[F1]:[EN2]],IF(Table2[[#This Row],[F Line]]=Table1[[#Headers],[F1]:[EN2]],1,0))*Table1[No.]*IF(Table2[[#This Row],[Date]]=Table1[Date],1,0),4),LARGE(_xlfn._xlws.FILTER(Table1[[F1]:[EN2]],IF(Table2[[#This Row],[D Pair]]=Table1[[#Headers],[F1]:[EN2]],1,0))*Table1[No.]*IF(Table2[[#This Row],[Date]]=Table1[Date],1,0),1)),0)} -> 58 | V36: {=IFERROR(IF(Table2[[#This Row],[D Pair]]="",LARGE(_xlfn._xlws.FILTER(Table1[[F1]:[EN2]],IF(Table2[[#This Row],[F Line]]=Table1[[#Headers],[F1]:[EN2]],1,0))*Table1[No.]*IF(Table2[[#This Row],[Date]]=Table1[Date],1,0),5),LARGE(_xlfn._xlws.FILTER(Table1[[F1]:[EN2]],IF(Table2[[#This Row],[D Pair]]=Table1[[#Headers],[F1]:[EN2]],1,0))*Table1[No.]*IF(Table2[[#This Row],[Date]]=Table1[Date],1,0),2)),0)} -> 8 | W36: =IF(Table2[[#This Row],[Type]]="Goal",1,0) -> 0 | X36: =IF(OR(Table2[[#This Row],[Type]]="Goal",Table2[[#This Row],[Type]]="Shot"),1,0) -> 1 | Y36: =IF(OR(Table2[[#This Row],[Type]]="Goal",Table2[[#This Row],[Type]]="Shot",Table2[[#This Row],[Type]]="Miss"),1,0) -> 1 | Z36: =IF(OR(Table2[[#This Row],[Type]]="Goal",Table2[[#This Row],[Type]]="Shot",Table2[[#This Row],[Type]]="Miss",Table2[[#This Row],[Type]]="Block"),1,0) -> 1 | AA36: =IF(OR(Table2[[#This Row],[Date]]=Visualization!$AH$12,Visualization!$AH$12="All"),1,0)*IF(OR(Visualization!$AS$12="All",Visualization!$AS$12=Table2[[#This Row],[Period]]),1,0)*IF(OR(Table2[[#This Row],[Type]]=Visualization!$BD$12,Visualization!$BD$12="All"),1,0)*IF(OR(Visualization!$BO$12="All",Visualization!$BO$12=Table2[[#This Row],[Strength]]),1,0) -> 1 | AB36: =IF(Table2[[#This Row],[Player]]=Visualization!$AR$2,1,0) -> 0 | AC36: =IF(OR(Table2[[#This Row],[PIT1]]=Visualization!$AR$2,Table2[[#This Row],[PIT2]]=Visualization!$AR$2,Table2[[#This Row],[PIT3]]=Visualization!$AR$2,Table2[[#This Row],[PIT4]]=Visualization!$AR$2,Table2[[#This Row],[PIT5]]=Visualization!$AR$2,Table2[[#This Row],[Goaltender]]=Visualization!$AR$2),1,0) -> 0 | AF36: =_xlfn.XLOOKUP(AE36,Table2[Shot No.],Table2[x2],300) -> 300 | AG36: =_xlfn.XLOOKUP(AE36,Table2[Shot No.],Table2[y2],300) -> 300 | AJ36: =_xlfn.XLOOKUP(AI36,Table2[Shot No.],Table2[x2],300) -> 300 | AK36: =_xlfn.XLOOKUP(AI36,Table2[Shot No.],Table2[y2],300) -> 300 | AN36: =_xlfn.XLOOKUP(AM36,Table2[Shot No.],Table2[x2],300) -> 300 | AO36: =_xlfn.XLOOKUP(AM36,Table2[Shot No.],Table2[y2],300) -> 300
A37: 1 | B37: T.B | D37: Shot | E37: -51 | F37: 15 | G37: F2 | H37: D1 | K37: 35 | M37: EV | N37: 44481 | O37: =ROW(O36) -> 36 | P37: {=_xlfn.XLOOKUP(Table2[[#This Row],[Date]]&Table2[[#This Row],[Period]],Table3[Date]&Table3[Period],Table3[Coordinate])*Table2[[#This Row],[X]]} -> -51 | Q37: {=_xlfn.XLOOKUP(Table2[[#This Row],[Date]]&Table2[[#This Row],[Period]],Table3[Date]&Table3[Period],Table3[Coordinate])*Table2[[#This Row],[Y]]} -> 15 | R37: {=IFERROR(LARGE(_xlfn._xlws.FILTER(Table1[[F1]:[EN2]],IF(Table2[[#This Row],[F Line]]=Table1[[#Headers],[F1]:[EN2]],1,0))*Table1[No.]*IF(Table2[[#This Row],[Date]]=Table1[Date],1,0),1),0)} -> 77 | S37: {=IFERROR(LARGE(_xlfn._xlws.FILTER(Table1[[F1]:[EN2]],IF(Table2[[#This Row],[F Line]]=Table1[[#Headers],[F1]:[EN2]],1,0))*Table1[No.]*IF(Table2[[#This Row],[Date]]=Table1[Date],1,0),2),0)} -> 43 | T37: {=IFERROR(LARGE(_xlfn._xlws.FILTER(Table1[[F1]:[EN2]],IF(Table2[[#This Row],[F Line]]=Table1[[#Headers],[F1]:[EN2]],1,0))*Table1[No.]*IF(Table2[[#This Row],[Date]]=Table1[Date],1,0),3),0)} -> 17 | U37: {=IFERROR(IF(Table2[[#This Row],[D Pair]]="",LARGE(_xlfn._xlws.FILTER(Table1[[F1]:[EN2]],IF(Table2[[#This Row],[F Line]]=Table1[[#Headers],[F1]:[EN2]],1,0))*Table1[No.]*IF(Table2[[#This Row],[Date]]=Table1[Date],1,0),4),LARGE(_xlfn._xlws.FILTER(Table1[[F1]:[EN2]],IF(Table2[[#This Row],[D Pair]]=Table1[[#Headers],[F1]:[EN2]],1,0))*Table1[No.]*IF(Table2[[#This Row],[Date]]=Table1[Date],1,0),1)),0)} -> 58 | V37: {=IFERROR(IF(Table2[[#This Row],[D Pair]]="",LARGE(_xlfn._xlws.FILTER(Table1[[F1]:[EN2]],IF(Table2[[#This Row],[F Line]]=Table1[[#Headers],[F1]:[EN2]],1,0))*Table1[No.]*IF(Table2[[#This Row],[Date]]=Table1[Date],1,0),5),LARGE(_xlfn._xlws.FILTER(Table1[[F1]:[EN2]],IF(Table2[[#This Row],[D Pair]]=Table1[[#Headers],[F1]:[EN2]],1,0))*Table1[No.]*IF(Table2[[#This Row],[Date]]=Table1[Date],1,0),2)),0)} -> 8 | W37: =IF(Table2[[#This Row],[Type]]="Goal",1,0) -> 0 | X37: =IF(OR(Table2[[#This Row],[Type]]="Goal",Table2[[#This Row],[Type]]="Shot"),1,0) -> 1 | Y37: =IF(OR(Table2[[#This Row],[Type]]="Goal",Table2[[#This Row],[Type]]="Shot",Table2[[#This Row],[Type]]="Miss"),1,0) -> 1 | Z37: =IF(OR(Table2[[#This Row],[Type]]="Goal",Table2[[#This Row],[Type]]="Shot",Table2[[#This Row],[Type]]="Miss",Table2[[#This Row],[Type]]="Block"),1,0) -> 1 | AA37: =IF(OR(Table2[[#This Row],[Date]]=Visualization!$AH$12,Visualization!$AH$12="All"),1,0)*IF(OR(Visualization!$AS$12="All",Visualization!$AS$12=Table2[[#This Row],[Period]]),1,0)*IF(OR(Table2[[#This Row],[Type]]=Visualization!$BD$12,Visualization!$BD$12="All"),1,0)*IF(OR(Visualization!$BO$12="All",Visualization!$BO$12=Table2[[#This Row],[Strength]]),1,0) -> 1 | AB37: =IF(Table2[[#This Row],[Player]]=Visualization!$AR$2,1,0) -> 0 | AC37: =IF(OR(Table2[[#This Row],[PIT1]]=Visualization!$AR$2,Table2[[#This Row],[PIT2]]=Visualization!$AR$2,Table2[[#This Row],[PIT3]]=Visualization!$AR$2,Table2[[#This Row],[PIT4]]=Visualization!$AR$2,Table2[[#This Row],[PIT5]]=Visualization!$AR$2,Table2[[#This Row],[Goaltender]]=Visualization!$AR$2),1,0) -> 1 | AF37: =_xlfn.XLOOKUP(AE37,Table2[Shot No.],Table2[x2],300) -> 300 | AG37: =_xlfn.XLOOKUP(AE37,Table2[Shot No.],Table2[y2],300) -> 300 | AJ37: =_xlfn.XLOOKUP(AI37,Table2[Shot No.],Table2[x2],300) -> 300 | AK37: =_xlfn.XLOOKUP(AI37,Table2[Shot No.],Table2[y2],300) -> 300 | AN37: =_xlfn.XLOOKUP(AM37,Table2[Shot No.],Table2[x2],300) -> 300 | AO37: =_xlfn.XLOOKUP(AM37,Table2[Shot No.],Table2[y2],300) -> 300
A38: 1 | B38: PIT | C38: 17 | D38: Shot | E38: 50 | F38: -24 | G38: F2 | H38: D2 | K38: 35 | M38: EV | N38: 44481 | O38: =ROW(O37) -> 37 | P38: {=_xlfn.XLOOKUP(Table2[[#This Row],[Date]]&Table2[[#This Row],[Period]],Table3[Date]&Table3[Period],Table3[Coordinate])*Table2[[#This Row],[X]]} -> 50 | Q38: {=_xlfn.XLOOKUP(Table2[[#This Row],[Date]]&Table2[[#This Row],[Period]],Table3[Date]&Table3[Period],Table3[Coordinate])*Table2[[#This Row],[Y]]} -> -24 | R38: {=IFERROR(LARGE(_xlfn._xlws.FILTER(Table1[[F1]:[EN2]],IF(Table2[[#This Row],[F Line]]=Table1[[#Headers],[F1]:[EN2]],1,0))*Table1[No.]*IF(Table2[[#This Row],[Date]]=Table1[Date],1,0),1),0)} -> 77 | S38: {=IFERROR(LARGE(_xlfn._xlws.FILTER(Table1[[F1]:[EN2]],IF(Table2[[#This Row],[F Line]]=Table1[[#Headers],[F1]:[EN2]],1,0))*Table1[No.]*IF(Table2[[#This Row],[Date]]=Table1[Date],1,0),2),0)} -> 43 | T38: {=IFERROR(LARGE(_xlfn._xlws.FILTER(Table1[[F1]:[EN2]],IF(Table2[[#This Row],[F Line]]=Table1[[#Headers],[F1]:[EN2]],1,0))*Table1[No.]*IF(Table2[[#This Row],[Date]]=Table1[Date],1,0),3),0)} -> 17 | U38: {=IFERROR(IF(Table2[[#This Row],[D Pair]]="",LARGE(_xlfn._xlws.FILTER(Table1[[F1]:[EN2]],IF(Table2[[#This Row],[F Line]]=Table1[[#Headers],[F1]:[EN2]],1,0))*Table1[No.]*IF(Table2[[#This Row],[Date]]=Table1[Date],1,0),4),LARGE(_xlfn._xlws.FILTER(Table1[[F1]:[EN2]],IF(Table2[[#This Row],[D Pair]]=Table1[[#Headers],[F1]:[EN2]],1,0))*Table1[No.]*IF(Table2[[#This Row],[Date]]=Table1[Date],1,0),1)),0)} -> 28 | V38: {=IFERROR(IF(Table2[[#This Row],[D Pair]]="",LARGE(_xlfn._xlws.FILTER(Table1[[F1]:[EN2]],IF(Table2[[#This Row],[F Line]]=Table1[[#Headers],[F1]:[EN2]],1,0))*Table1[No.]*IF(Table2[[#This Row],[Date]]=Table1[Date],1,0),5),LARGE(_xlfn._xlws.FILTER(Table1[[F1]:[EN2]],IF(Table2[[#This Row],[D Pair]]=Table1[[#Headers],[F1]:[EN2]],1,0))*Table1[No.]*IF(Table2[[#This Row],[Date]]=Table1[Date],1,0),2)),0)} -> 6 | W38: =IF(Table2[[#This Row],[Type]]="Goal",1,0) -> 0 | X38: =IF(OR(Table2[[#This Row],[Type]]="Goal",Table2[[#This Row],[Type]]="Shot"),1,0) -> 1 | Y38: =IF(OR(Table2[[#This Row],[Type]]="Goal",Table2[[#This Row],[Type]]="Shot",Table2[[#This Row],[Type]]="Miss"),1,0) -> 1 | Z38: =IF(OR(Table2[[#This Row],[Type]]="Goal",Table2[[#This Row],[Type]]="Shot",Table2[[#This Row],[Type]]="Miss",Table2[[#This Row],[Type]]="Block"),1,0) -> 1 | AA38: =IF(OR(Table2[[#This Row],[Date]]=Visualization!$AH$12,Visualization!$AH$12="All"),1,0)*IF(OR(Visualization!$AS$12="All",Visualization!$AS$12=Table2[[#This Row],[Period]]),1,0)*IF(OR(Table2[[#This Row],[Type]]=Visualization!$BD$12,Visualization!$BD$12="All"),1,0)*IF(OR(Visualization!$BO$12="All",Visualization!$BO$12=Table2[[#This Row],[Strength]]),1,0) -> 1 | AB38: =IF(Table2[[#This Row],[Player]]=Visualization!$AR$2,1,0) -> 0 | AC38: =IF(OR(Table2[[#This Row],[PIT1]]=Visualization!$AR$2,Table2[[#This Row],[PIT2]]=Visualization!$AR$2,Table2[[#This Row],[PIT3]]=Visualization!$AR$2,Table2[[#This Row],[PIT4]]=Visualization!$AR$2,Table2[[#This Row],[PIT5]]=Visualization!$AR$2,Table2[[#This Row],[Goaltender]]=Visualization!$AR$2),1,0) -> 1 | AF38: =_xlfn.XLOOKUP(AE38,Table2[Shot No.],Table2[x2],300) -> 300 | AG38: =_xlfn.XLOOKUP(AE38,Table2[Shot No.],Table2[y2],300) -> 300 | AJ38: =_xlfn.XLOOKUP(AI38,Table2[Shot No.],Table2[x2],300) -> 300 | AK38: =_xlfn.XLOOKUP(AI38,Table2[Shot No.],Table2[y2],300) -> 300 | AN38: =_xlfn.XLOOKUP(AM38,Table2[Shot No.],Table2[x2],300) -> 300 | AO38: =_xlfn.XLOOKUP(AM38,Table2[Shot No.],Table2[y2],300) -> 300
A39: 2 | B39: PIT | C39: 43 | D39: Goal | E39: 74 | F39: -9 | G39: F2 | H39: D1 | I39: 77 | K39: 35 | M39: EV | N39: 44481 | O39: =ROW(O38) -> 38 | P39: {=_xlfn.XLOOKUP(Table2[[#This Row],[Date]]&Table2[[#This Row],[Period]],Table3[Date]&Table3[Period],Table3[Coordinate])*Table2[[#This Row],[X]]} -> 74 | Q39: {=_xlfn.XLOOKUP(Table2[[#This Row],[Date]]&Table2[[#This Row],[Period]],Table3[Date]&Table3[Period],Table3[Coordinate])*Table2[[#This Row],[Y]]} -> -9 | R39: {=IFERROR(LARGE(_xlfn._xlws.FILTER(Table1[[F1]:[EN2]],IF(Table2[[#This Row],[F Line]]=Table1[[#Headers],[F1]:[EN2]],1,0))*Table1[No.]*IF(Table2[[#This Row],[Date]]=Table1[Date],1,0),1),0)} -> 77 | S39: {=IFERROR(LARGE(_xlfn._xlws.FILTER(Table1[[F1]:[EN2]],IF(Table2[[#This Row],[F Line]]=Table1[[#Headers],[F1]:[EN2]],1,0))*Table1[No.]*IF(Table2[[#This Row],[Date]]=Table1[Date],1,0),2),0)} -> 43 | T39: {=IFERROR(LARGE(_xlfn._xlws.FILTER(Table1[[F1]:[EN2]],IF(Table2[[#This Row],[F Line]]=Table1[[#Headers],[F1]:[EN2]],1,0))*Table1[No.]*IF(Table2[[#This Row],[Date]]=Table1[Date],1,0),3),0)} -> 17 | U39: {=IFERROR(IF(Table2[[#This Row],[D Pair]]="",LARGE(_xlfn._xlws.FILTER(Table1[[F1]:[EN2]],IF(Table2[[#This Row],[F Line]]=Table1[[#Headers],[F1]:[EN2]],1,0))*Table1[No.]*IF(Table2[[#This Row],[Date]]=Table1[Date],1,0),4),LARGE(_xlfn._xlws.FILTER(Table1[[F1]:[EN2]],IF(Table2[[#This Row],[D Pair]]=Table1[[#Headers],[F1]:[EN2]],1,0))*Table1[No.]*IF(Table2[[#This Row],[Date]]=Table1[Date],1,0),1)),0)} -> 58 | V39: {=IFERROR(IF(Table2[[#This Row],[D Pair]]="",LARGE(_xlfn._xlws.FILTER(Table1[[F1]:[EN2]],IF(Table2[[#This Row],[F Line]]=Table1[[#Headers],[F1]:[EN2]],1,0))*Table1[No.]*IF(Table2[[#This Row],[Date]]=Table1[Date],1,0),5),LARGE(_xlfn._xlws.FILTER(Table1[[F1]:[EN2]],IF(Table2[[#This Row],[D Pair]]=Table1[[#Headers],[F1]:[EN2]],1,0))*Table1[No.]*IF(Table2[[#This Row],[Date]]=Table1[Date],1,0),2)),0)} -> 8 | W39: =IF(Table2[[#This Row],[Type]]="Goal",1,0) -> 1 | X39: =IF(OR(Table2[[#This Row],[Type]]="Goal",Table2[[#This Row],[Type]]="Shot"),1,0) -> 1 | Y39: =IF(OR(Table2[[#This Row],[Type]]="Goal",Table2[[#This Row],[Type]]="Shot",Table2[[#This Row],[Type]]="Miss"),1,0) -> 1 | Z39: =IF(OR(Table2[[#This Row],[Type]]="Goal",Table2[[#This Row],[Type]]="Shot",Table2[[#This Row],[Type]]="Miss",Table2[[#This Row],[Type]]="Block"),1,0) -> 1 | AA39: =IF(OR(Table2[[#This Row],[Date]]=Visualization!$AH$12,Visualization!$AH$12="All"),1,0)*IF(OR(Visualization!$AS$12="All",Visualization!$AS$12=Table2[[#This Row],[Period]]),1,0)*IF(OR(Table2[[#This Row],[Type]]=Visualization!$BD$12,Visualization!$BD$12="All"),1,0)*IF(OR(Visualization!$BO$12="All",Visualization!$BO$12=Table2[[#This Row],[Strength]]),1,0) -> 1 | AB39: =IF(Table2[[#This Row],[Player]]=Visualization!$AR$2,1,0) -> 0 | AC39: =IF(OR(Table2[[#This Row],[PIT1]]=Visualization!$AR$2,Table2[[#This Row],[PIT2]]=Visualization!$AR$2,Table2[[#This Row],[PIT3]]=Visualization!$AR$2,Table2[[#This Row],[PIT4]]=Visualization!$AR$2,Table2[[#This Row],[PIT5]]=Visualization!$AR$2,Table2[[#This Row],[Goaltender]]=Visualization!$AR$2),1,0) -> 1 | AF39: =_xlfn.XLOOKUP(AE39,Table2[Shot No.],Table2[x2],300) -> 300 | AG39: =_xlfn.XLOOKUP(AE39,Table2[Shot No.],Table2[y2],300) -> 300 | AJ39: =_xlfn.XLOOKUP(AI39,Table2[Shot No.],Table2[x2],300) -> 300 | AK39: =_xlfn.XLOOKUP(AI39,Table2[Shot No.],Table2[y2],300) -> 300 | AN39: =_xlfn.XLOOKUP(AM39,Table2[Shot No.],Table2[x2],300) -> 300 | AO39: =_xlfn.XLOOKUP(AM39,Table2[Shot No.],Table2[y2],300) -> 300
A40: 2 | B40: PIT | C40: 28 | D40: Block | E40: 56 | F40: 14 | G40: F3 | H40: D2 | K40: 35 | M40: EV | N40: 44481 | O40: =ROW(O39) -> 39 | P40: {=_xlfn.XLOOKUP(Table2[[#This Row],[Date]]&Table2[[#This Row],[Period]],Table3[Date]&Table3[Period],Table3[Coordinate])*Table2[[#This Row],[X]]} -> 56 | Q40: {=_xlfn.XLOOKUP(Table2[[#This Row],[Date]]&Table2[[#This Row],[Period]],Table3[Date]&Table3[Period],Table3[Coordinate])*Table2[[#This Row],[Y]]} -> 14 | R40: {=IFERROR(LARGE(_xlfn._xlws.FILTER(Table1[[F1]:[EN2]],IF(Table2[[#This Row],[F Line]]=Table1[[#Headers],[F1]:[EN2]],1,0))*Table1[No.]*IF(Table2[[#This Row],[Date]]=Table1[Date],1,0),1),0)} -> 53 | S40: {=IFERROR(LARGE(_xlfn._xlws.FILTER(Table1[[F1]:[EN2]],IF(Table2[[#This Row],[F Line]]=Table1[[#Headers],[F1]:[EN2]],1,0))*Table1[No.]*IF(Table2[[#This Row],[Date]]=Table1[Date],1,0),2),0)} -> 23 | T40: {=IFERROR(LARGE(_xlfn._xlws.FILTER(Table1[[F1]:[EN2]],IF(Table2[[#This Row],[F Line]]=Table1[[#Headers],[F1]:[EN2]],1,0))*Table1[No.]*IF(Table2[[#This Row],[Date]]=Table1[Date],1,0),3),0)} -> 12 | U40: {=IFERROR(IF(Table2[[#This Row],[D Pair]]="",LARGE(_xlfn._xlws.FILTER(Table1[[F1]:[EN2]],IF(Table2[[#This Row],[F Line]]=Table1[[#Headers],[F1]:[EN2]],1,0))*Table1[No.]*IF(Table2[[#This Row],[Date]]=Table1[Date],1,0),4),LARGE(_xlfn._xlws.FILTER(Table1[[F1]:[EN2]],IF(Table2[[#This Row],[D Pair]]=Table1[[#Headers],[F1]:[EN2]],1,0))*Table1[No.]*IF(Table2[[#This Row],[Date]]=Table1[Date],1,0),1)),0)} -> 28 | V40: {=IFERROR(IF(Table2[[#This Row],[D Pair]]="",LARGE(_xlfn._xlws.FILTER(Table1[[F1]:[EN2]],IF(Table2[[#This Row],[F Line]]=Table1[[#Headers],[F1]:[EN2]],1,0))*Table1[No.]*IF(Table2[[#This Row],[Date]]=Table1[Date],1,0),5),LARGE(_xlfn._xlws.FILTER(Table1[[F1]:[EN2]],IF(Table2[[#This Row],[D Pair]]=Table1[[#Headers],[F1]:[EN2]],1,0))*Table1[No.]*IF(Table2[[#This Row],[Date]]=Table1[Date],1,0),2)),0)} -> 6 | W40: =IF(Table2[[#This Row],[Type]]="Goal",1,0) -> 0 | X40: =IF(OR(Table2[[#This Row],[Type]]="Goal",Table2[[#This Row],[Type]]="Shot"),1,0) -> 0 | Y40: =IF(OR(Table2[[#This Row],[Type]]="Goal",Table2[[#This Row],[Type]]="Shot",Table2[[#This Row],[Type]]="Miss"),1,0) -> 0 | Z40: =IF(OR(Table2[[#This Row],[Type]]="Goal",Table2[[#This Row],[Type]]="Shot",Table2[[#This Row],[Type]]="Miss",Table2[[#This Row],[Type]]="Block"),1,0) -> 1 | AA40: =IF(OR(Table2[[#This Row],[Date]]=Visualization!$AH$12,Visualization!$AH$12="All"),1,0)*IF(OR(Visualization!$AS$12="All",Visualization!$AS$12=Table2[[#This Row],[Period]]),1,0)*IF(OR(Table2[[#This Row],[Type]]=Visualization!$BD$12,Visualization!$BD$12="All"),1,0)*IF(OR(Visualization!$BO$12="All",Visualization!$BO$12=Table2[[#This Row],[Strength]]),1,0) -> 1 | AB40: =IF(Table2[[#This Row],[Player]]=Visualization!$AR$2,1,0) -> 0 | AC40: =IF(OR(Table2[[#This Row],[PIT1]]=Visualization!$AR$2,Table2[[#This Row],[PIT2]]=Visualization!$AR$2,Table2[[#This Row],[PIT3]]=Visualization!$AR$2,Table2[[#This Row],[PIT4]]=Visualization!$AR$2,Table2[[#This Row],[PIT5]]=Visualization!$AR$2,Table2[[#This Row],[Goaltender]]=Visualization!$AR$2),1,0) -> 0 | AF40: =_xlfn.XLOOKUP(AE40,Table2[Shot No.],Table2[x2],300) -> 300 | AG40: =_xlfn.XLOOKUP(AE40,Table2[Shot No.],Table2[y2],300) -> 300 | AJ40: =_xlfn.XLOOKUP(AI40,Table2[Shot No.],Table2[x2],300) -> 300 | AK40: =_xlfn.XLOOKUP(AI40,Table2[Shot No.],Table2[y2],300) -> 300 | AN40: =_xlfn.XLOOKUP(AM40,Table2[Shot No.],Table2[x2],300) -> 300 | AO40: =_xlfn.XLOOKUP(AM40,Table2[Shot No.],Table2[y2],300) -> 300
A41: 2 | B41: PIT | C41: 58 | D41: Miss | E41: 54 | F41: -7 | G41: F1 | H41: D1 | K41: 35 | M41: EV | N41: 44481 | O41: =ROW(O40) -> 40 | P41: {=_xlfn.XLOOKUP(Table2[[#This Row],[Date]]&Table2[[#This Row],[Period]],Table3[Date]&Table3[Period],Table3[Coordinate])*Table2[[#This Row],[X]]} -> 54 | Q41: {=_xlfn.XLOOKUP(Table2[[#This Row],[Date]]&Table2[[#This Row],[Period]],Table3[Date]&Table3[Period],Table3[Coordinate])*Table2[[#This Row],[Y]]} -> -7 | R41: {=IFERROR(LARGE(_xlfn._xlws.FILTER(Table1[[F1]:[EN2]],IF(Table2[[#This Row],[F Line]]=Table1[[#Headers],[F1]:[EN2]],1,0))*Table1[No.]*IF(Table2[[#This Row],[Date]]=Table1[Date],1,0),1),0)} -> 71 | S41: {=IFERROR(LARGE(_xlfn._xlws.FILTER(Table1[[F1]:[EN2]],IF(Table2[[#This Row],[F Line]]=Table1[[#Headers],[F1]:[EN2]],1,0))*Table1[No.]*IF(Table2[[#This Row],[Date]]=Table1[Date],1,0),2),0)} -> 24 | T41: {=IFERROR(LARGE(_xlfn._xlws.FILTER(Table1[[F1]:[EN2]],IF(Table2[[#This Row],[F Line]]=Table1[[#Headers],[F1]:[EN2]],1,0))*Table1[No.]*IF(Table2[[#This Row],[Date]]=Table1[Date],1,0),3),0)} -> 16 | U41: {=IFERROR(IF(Table2[[#This Row],[D Pair]]="",LARGE(_xlfn._xlws.FILTER(Table1[[F1]:[EN2]],IF(Table2[[#This Row],[F Line]]=Table1[[#Headers],[F1]:[EN2]],1,0))*Table1[No.]*IF(Table2[[#This Row],[Date]]=Table1[Date],1,0),4),LARGE(_xlfn._xlws.FILTER(Table1[[F1]:[EN2]],IF(Table2[[#This Row],[D Pair]]=Table1[[#Headers],[F1]:[EN2]],1,0))*Table1[No.]*IF(Table2[[#This Row],[Date]]=Table1[Date],1,0),1)),0)} -> 58 | V41: {=IFERROR(IF(Table2[[#This Row],[D Pair]]="",LARGE(_xlfn._xlws.FILTER(Table1[[F1]:[EN2]],IF(Table2[[#This Row],[F Line]]=Table1[[#Headers],[F1]:[EN2]],1,0))*Table1[No.]*IF(Table2[[#This Row],[Date]]=Table1[Date],1,0),5),LARGE(_xlfn._xlws.FILTER(Table1[[F1]:[EN2]],IF(Table2[[#This Row],[D Pair]]=Table1[[#Headers],[F1]:[EN2]],1,0))*Table1[No.]*IF(Table2[[#This Row],[Date]]=Table1[Date],1,0),2)),0)} -> 8 | W41: =IF(Table2[[#This Row],[Type]]="Goal",1,0) -> 0 | X41: =IF(OR(Table2[[#This Row],[Type]]="Goal",Table2[[#This Row],[Type]]="Shot"),1,0) -> 0 | Y41: =IF(OR(Table2[[#This Row],[Type]]="Goal",Table2[[#This Row],[Type]]="Shot",Table2[[#This Row],[Type]]="Miss"),1,0) -> 1 | Z41: =IF(OR(Table2[[#This Row],[Type]]="Goal",Table2[[#This Row],[Type]]="Shot",Table2[[#This Row],[Type]]="Miss",Table2[[#This Row],[Type]]="Block"),1,0) -> 1 | AA41: =IF(OR(Table2[[#This Row],[Date]]=Visualization!$AH$12,Visualization!$AH$12="All"),1,0)*IF(OR(Visualization!$AS$12="All",Visualization!$AS$12=Table2[[#This Row],[Period]]),1,0)*IF(OR(Table2[[#This Row],[Type]]=Visualization!$BD$12,Visualization!$BD$12="All"),1,0)*IF(OR(Visualization!$BO$12="All",Visualization!$BO$12=Table2[[#This Row],[Strength]]),1,0) -> 1 | AB41: =IF(Table2[[#This Row],[Player]]=Visualization!$AR$2,1,0) -> 0 | AC41: =IF(OR(Table2[[#This Row],[PIT1]]=Visualization!$AR$2,Table2[[#This Row],[PIT2]]=Visualization!$AR$2,Table2[[#This Row],[PIT3]]=Visualization!$AR$2,Table2[[#This Row],[PIT4]]=Visualization!$AR$2,Table2[[#This Row],[PIT5]]=Visualization!$AR$2,Table2[[#This Row],[Goaltender]]=Visualization!$AR$2),1,0) -> 0 | AF41: =_xlfn.XLOOKUP(AE41,Table2[Shot No.],Table2[x2],300) -> 300 | AG41: =_xlfn.XLOOKUP(AE41,Table2[Shot No.],Table2[y2],300) -> 300 | AJ41: =_xlfn.XLOOKUP(AI41,Table2[Shot No.],Table2[x2],300) -> 300 | AK41: =_xlfn.XLOOKUP(AI41,Table2[Shot No.],Table2[y2],300) -> 300 | AN41: =_xlfn.XLOOKUP(AM41,Table2[Shot No.],Table2[x2],300) -> 300 | AO41: =_xlfn.XLOOKUP(AM41,Table2[Shot No.],Table2[y2],300) -> 300
A42: 2 | B42: PIT | C42: 8 | D42: Shot | E42: 61 | F42: 3 | G42: F1 | H42: D1 | K42: 35 | M42: EV | N42: 44481 | O42: =ROW(O41) -> 41 | P42: {=_xlfn.XLOOKUP(Table2[[#This Row],[Date]]&Table2[[#This Row],[Period]],Table3[Date]&Table3[Period],Table3[Coordinate])*Table2[[#This Row],[X]]} -> 61 | Q42: {=_xlfn.XLOOKUP(Table2[[#This Row],[Date]]&Table2[[#This Row],[Period]],Table3[Date]&Table3[Period],Table3[Coordinate])*Table2[[#This Row],[Y]]} -> 3 | R42: {=IFERROR(LARGE(_xlfn._xlws.FILTER(Table1[[F1]:[EN2]],IF(Table2[[#This Row],[F Line]]=Table1[[#Headers],[F1]:[EN2]],1,0))*Table1[No.]*IF(Table2[[#This Row],[Date]]=Table1[Date],1,0),1),0)} -> 71 | S42: {=IFERROR(LARGE(_xlfn._xlws.FILTER(Table1[[F1]:[EN2]],IF(Table2[[#This Row],[F Line]]=Table1[[#Headers],[F1]:[EN2]],1,0))*Table1[No.]*IF(Table2[[#This Row],[Date]]=Table1[Date],1,0),2),0)} -> 24 | T42: {=IFERROR(LARGE(_xlfn._xlws.FILTER(Table1[[F1]:[EN2]],IF(Table2[[#This Row],[F Line]]=Table1[[#Headers],[F1]:[EN2]],1,0))*Table1[No.]*IF(Table2[[#This Row],[Date]]=Table1[Date],1,0),3),0)} -> 16 | U42: {=IFERROR(IF(Table2[[#This Row],[D Pair]]="",LARGE(_xlfn._xlws.FILTER(Table1[[F1]:[EN2]],IF(Table2[[#This Row],[F Line]]=Table1[[#Headers],[F1]:[EN2]],1,0))*Table1[No.]*IF(Table2[[#This Row],[Date]]=Table1[Date],1,0),4),LARGE(_xlfn._xlws.FILTER(Table1[[F1]:[EN2]],IF(Table2[[#This Row],[D Pair]]=Table1[[#Headers],[F1]:[EN2]],1,0))*Table1[No.]*IF(Table2[[#This Row],[Date]]=Table1[Date],1,0),1)),0)} -> 58 | V42: {=IFERROR(IF(Table2[[#This Row],[D Pair]]="",LARGE(_xlfn._xlws.FILTER(Table1[[F1]:[EN2]],IF(Table2[[#This Row],[F Line]]=Table1[[#Headers],[F1]:[EN2]],1,0))*Table1[No.]*IF(Table2[[#This Row],[Date]]=Table1[Date],1,0),5),LARGE(_xlfn._xlws.FILTER(Table1[[F1]:[EN2]],IF(Table2[[#This Row],[D Pair]]=Table1[[#Headers],[F1]:[EN2]],1,0))*Table1[No.]*IF(Table2[[#This Row],[Date]]=Table1[Date],1,0),2)),0)} -> 8 | W42: =IF(Table2[[#This Row],[Type]]="Goal",1,0) -> 0 | X42: =IF(OR(Table2[[#This Row],[Type]]="Goal",Table2[[#This Row],[Type]]="Shot"),1,0) -> 1 | Y42: =IF(OR(Table2[[#This Row],[Type]]="Goal",Table2[[#This Row],[Type]]="Shot",Table2[[#This Row],[Type]]="Miss"),1,0) -> 1 | Z42: =IF(OR(Table2[[#This Row],[Type]]="Goal",Table2[[#This Row],[Type]]="Shot",Table2[[#This Row],[Type]]="Miss",Table2[[#This Row],[Type]]="Block"),1,0) -> 1 | AA42: =IF(OR(Table2[[#This Row],[Date]]=Visualization!$AH$12,Visualization!$AH$12="All"),1,0)*IF(OR(Visualization!$AS$12="All",Visualization!$AS$12=Table2[[#This Row],[Period]]),1,0)*IF(OR(Table2[[#This Row],[Type]]=Visualization!$BD$12,Visualization!$BD$12="All"),1,0)*IF(OR(Visualization!$BO$12="All",Visualization!$BO$12=Table2[[#This Row],[Strength]]),1,0) -> 1 | AB42: =IF(Table2[[#This Row],[Player]]=Visualization!$AR$2,1,0) -> 0 | AC42: =IF(OR(Table2[[#This Row],[PIT1]]=Visualization!$AR$2,Table2[[#This Row],[PIT2]]=Visualization!$AR$2,Table2[[#This Row],[PIT3]]=Visualization!$AR$2,Table2[[#This Row],[PIT4]]=Visualization!$AR$2,Table2[[#This Row],[PIT5]]=Visualization!$AR$2,Table2[[#This Row],[Goaltender]]=Visualization!$AR$2),1,0) -> 0 | AF42: =_xlfn.XLOOKUP(AE42,Table2[Shot No.],Table2[x2],300) -> 300 | AG42: =_xlfn.XLOOKUP(AE42,Table2[Shot No.],Table2[y2],300) -> 300 | AJ42: =_xlfn.XLOOKUP(AI42,Table2[Shot No.],Table2[x2],300) -> 300 | AK42: =_xlfn.XLOOKUP(AI42,Table2[Shot No.],Table2[y2],300) -> 300 | AN42: =_xlfn.XLOOKUP(AM42,Table2[Shot No.],Table2[x2],300) -> 300 | AO42: =_xlfn.XLOOKUP(AM42,Table2[Shot No.],Table2[y2],300) -> 300
A43: 2 | B43: PIT | C43: 8 | D43: Miss | E43: 70 | F43: 16 | G43: F1 | H43: D1 | K43: 35 | M43: EV | N43: 44481 | O43: =ROW(O42) -> 42 | P43: {=_xlfn.XLOOKUP(Table2[[#This Row],[Date]]&Table2[[#This Row],[Period]],Table3[Date]&Table3[Period],Table3[Coordinate])*Table2[[#This Row],[X]]} -> 70 | Q43: {=_xlfn.XLOOKUP(Table2[[#This Row],[Date]]&Table2[[#This Row],[Period]],Table3[Date]&Table3[Period],Table3[Coordinate])*Table2[[#This Row],[Y]]} -> 16 | R43: {=IFERROR(LARGE(_xlfn._xlws.FILTER(Table1[[F1]:[EN2]],IF(Table2[[#This Row],[F Line]]=Table1[[#Headers],[F1]:[EN2]],1,0))*Table1[No.]*IF(Table2[[#This Row],[Date]]=Table1[Date],1,0),1),0)} -> 71 | S43: {=IFERROR(LARGE(_xlfn._xlws.FILTER(Table1[[F1]:[EN2]],IF(Table2[[#This Row],[F Line]]=Table1[[#Headers],[F1]:[EN2]],1,0))*Table1[No.]*IF(Table2[[#This Row],[Date]]=Table1[Date],1,0),2),0)} -> 24 | T43: {=IFERROR(LARGE(_xlfn._xlws.FILTER(Table1[[F1]:[EN2]],IF(Table2[[#This Row],[F Line]]=Table1[[#Headers],[F1]:[EN2]],1,0))*Table1[No.]*IF(Table2[[#This Row],[Date]]=Table1[Date],1,0),3),0)} -> 16 | U43: {=IFERROR(IF(Table2[[#This Row],[D Pair]]="",LARGE(_xlfn._xlws.FILTER(Table1[[F1]:[EN2]],IF(Table2[[#This Row],[F Line]]=Table1[[#Headers],[F1]:[EN2]],1,0))*Table1[No.]*IF(Table2[[#This Row],[Date]]=Table1[Date],1,0),4),LARGE(_xlfn._xlws.FILTER(Table1[[F1]:[EN2]],IF(Table2[[#This Row],[D Pair]]=Table1[[#Headers],[F1]:[EN2]],1,0))*Table1[No.]*IF(Table2[[#This Row],[Date]]=Table1[Date],1,0),1)),0)} -> 58 | V43: {=IFERROR(IF(Table2[[#This Row],[D Pair]]="",LARGE(_xlfn._xlws.FILTER(Table1[[F1]:[EN2]],IF(Table2[[#This Row],[F Line]]=Table1[[#Headers],[F1]:[EN2]],1,0))*Table1[No.]*IF(Table2[[#This Row],[Date]]=Table1[Date],1,0),5),LARGE(_xlfn._xlws.FILTER(Table1[[F1]:[EN2]],IF(Table2[[#This Row],[D Pair]]=Table1[[#Headers],[F1]:[EN2]],1,0))*Table1[No.]*IF(Table2[[#This Row],[Date]]=Table1[Date],1,0),2)),0)} -> 8 | W43: =IF(Table2[[#This Row],[Type]]="Goal",1,0) -> 0 | X43: =IF(OR(Table2[[#This Row],[Type]]="Goal",Table2[[#This Row],[Type]]="Shot"),1,0) -> 0 | Y43: =IF(OR(Table2[[#This Row],[Type]]="Goal",Table2[[#This Row],[Type]]="Shot",Table2[[#This Row],[Type]]="Miss"),1,0) -> 1 | Z43: =IF(OR(Table2[[#This Row],[Type]]="Goal",Table2[[#This Row],[Type]]="Shot",Table2[[#This Row],[Type]]="Miss",Table2[[#This Row],[Type]]="Block"),1,0) -> 1 | AA43: =IF(OR(Table2[[#This Row],[Date]]=Visualization!$AH$12,Visualization!$AH$12="All"),1,0)*IF(OR(Visualization!$AS$12="All",Visualization!$AS$12=Table2[[#This Row],[Period]]),1,0)*IF(OR(Table2[[#This Row],[Type]]=Visualization!$BD$12,Visualization!$BD$12="All"),1,0)*IF(OR(Visualization!$BO$12="All",Visualization!$BO$12=Table2[[#This Row],[Strength]]),1,0) -> 1 | AB43: =IF(Table2[[#This Row],[Player]]=Visualization!$AR$2,1,0) -> 0 | AC43: =IF(OR(Table2[[#This Row],[PIT1]]=Visualization!$AR$2,Table2[[#This Row],[PIT2]]=Visualization!$AR$2,Table2[[#This Row],[PIT3]]=Visualization!$AR$2,Table2[[#This Row],[PIT4]]=Visualization!$AR$2,Table2[[#This Row],[PIT5]]=Visualization!$AR$2,Table2[[#This Row],[Goaltender]]=Visualization!$AR$2),1,0) -> 0 | AF43: =_xlfn.XLOOKUP(AE43,Table2[Shot No.],Table2[x2],300) -> 300 | AG43: =_xlfn.XLOOKUP(AE43,Table2[Shot No.],Table2[y2],300) -> 300 | AJ43: =_xlfn.XLOOKUP(AI43,Table2[Shot No.],Table2[x2],300) -> 300 | AK43: =_xlfn.XLOOKUP(AI43,Table2[Shot No.],Table2[y2],300) -> 300 | AN43: =_xlfn.XLOOKUP(AM43,Table2[Shot No.],Table2[x2],300) -> 300 | AO43: =_xlfn.XLOOKUP(AM43,Table2[Shot No.],Table2[y2],300) -> 300
A44: 2 | B44: T.B | D44: Block | E44: -82 | F44: -14 | G44: F4 | H44: D3 | K44: 35 | M44: EV | N44: 44481 | O44: =ROW(O43) -> 43 | P44: {=_xlfn.XLOOKUP(Table2[[#This Row],[Date]]&Table2[[#This Row],[Period]],Table3[Date]&Table3[Period],Table3[Coordinate])*Table2[[#This Row],[X]]} -> -82 | Q44: {=_xlfn.XLOOKUP(Table2[[#This Row],[Date]]&Table2[[#This Row],[Period]],Table3[Date]&Table3[Period],Table3[Coordinate])*Table2[[#This Row],[Y]]} -> -14 | R44: {=IFERROR(LARGE(_xlfn._xlws.FILTER(Table1[[F1]:[EN2]],IF(Table2[[#This Row],[F Line]]=Table1[[#Headers],[F1]:[EN2]],1,0))*Table1[No.]*IF(Table2[[#This Row],[Date]]=Table1[Date],1,0),1),0)} -> 37 | S44: {=IFERROR(LARGE(_xlfn._xlws.FILTER(Table1[[F1]:[EN2]],IF(Table2[[#This Row],[F Line]]=Table1[[#Headers],[F1]:[EN2]],1,0))*Table1[No.]*IF(Table2[[#This Row],[Date]]=Table1[Date],1,0),2),0)} -> 11 | T44: {=IFERROR(LARGE(_xlfn._xlws.FILTER(Table1[[F1]:[EN2]],IF(Table2[[#This Row],[F Line]]=Table1[[#Headers],[F1]:[EN2]],1,0))*Table1[No.]*IF(Table2[[#This Row],[Date]]=Table1[Date],1,0),3),0)} -> 10 | U44: {=IFERROR(IF(Table2[[#This Row],[D Pair]]="",LARGE(_xlfn._xlws.FILTER(Table1[[F1]:[EN2]],IF(Table2[[#This Row],[F Line]]=Table1[[#Headers],[F1]:[EN2]],1,0))*Table1[No.]*IF(Table2[[#This Row],[Date]]=Table1[Date],1,0),4),LARGE(_xlfn._xlws.FILTER(Table1[[F1]:[EN2]],IF(Table2[[#This Row],[D Pair]]=Table1[[#Headers],[F1]:[EN2]],1,0))*Table1[No.]*IF(Table2[[#This Row],[Date]]=Table1[Date],1,0),1)),0)} -> 59 | V44: {=IFERROR(IF(Table2[[#This Row],[D Pair]]="",LARGE(_xlfn._xlws.FILTER(Table1[[F1]:[EN2]],IF(Table2[[#This Row],[F Line]]=Table1[[#Headers],[F1]:[EN2]],1,0))*Table1[No.]*IF(Table2[[#This Row],[Date]]=Table1[Date],1,0),5),LARGE(_xlfn._xlws.FILTER(Table1[[F1]:[EN2]],IF(Table2[[#This Row],[D Pair]]=Table1[[#Headers],[F1]:[EN2]],1,0))*Table1[No.]*IF(Table2[[#This Row],[Date]]=Table1[Date],1,0),2)),0)} -> 2 | W44: =IF(Table2[[#This Row],[Type]]="Goal",1,0) -> 0 | X44: =IF(OR(Table2[[#This Row],[Type]]="Goal",Table2[[#This Row],[Type]]="Shot"),1,0) -> 0 | Y44: =IF(OR(Table2[[#This Row],[Type]]="Goal",Table2[[#This Row],[Type]]="Shot",Table2[[#This Row],[Type]]="Miss"),1,0) -> 0 | Z44: =IF(OR(Table2[[#This Row],[Type]]="Goal",Table2[[#This Row],[Type]]="Shot",Table2[[#This Row],[Type]]="Miss",Table2[[#This Row],[Type]]="Block"),1,0) -> 1 | AA44: =IF(OR(Table2[[#This Row],[Date]]=Visualization!$AH$12,Visualization!$AH$12="All"),1,0)*IF(OR(Visualization!$AS$12="All",Visualization!$AS$12=Table2[[#This Row],[Period]]),1,0)*IF(OR(Table2[[#This Row],[Type]]=Visualization!$BD$12,Visualization!$BD$12="All"),1,0)*IF(OR(Visualization!$BO$12="All",Visualization!$BO$12=Table2[[#This Row],[Strength]]),1,0) -> 1 | AB44: =IF(Table2[[#This Row],[Player]]=Visualization!$AR$2,1,0) -> 0 | AC44: =IF(OR(Table2[[#This Row],[PIT1]]=Visualization!$AR$2,Table2[[#This Row],[PIT2]]=Visualization!$AR$2,Table2[[#This Row],[PIT3]]=Visualization!$AR$2,Table2[[#This Row],[PIT4]]=Visualization!$AR$2,Table2[[#This Row],[PIT5]]=Visualization!$AR$2,Table2[[#This Row],[Goaltender]]=Visualization!$AR$2),1,0) -> 0 | AF44: =_xlfn.XLOOKUP(AE44,Table2[Shot No.],Table2[x2],300) -> 300 | AG44: =_xlfn.XLOOKUP(AE44,Table2[Shot No.],Table2[y2],300) -> 300 | AJ44: =_xlfn.XLOOKUP(AI44,Table2[Shot No.],Table2[x2],300) -> 300 | AK44: =_xlfn.XLOOKUP(AI44,Table2[Shot No.],Table2[y2],300) -> 300 | AN44: =_xlfn.XLOOKUP(AM44,Table2[Shot No.],Table2[x2],300) -> 300 | AO44: =_xlfn.XLOOKUP(AM44,Table2[Shot No.],Table2[y2],300) -> 300
A45: 2 | B45: PIT | C45: 37 | D45: Miss | E45: 71 | F45: 9 | G45: F4 | H45: D3 | K45: 35 | M45: EV | N45: 44481 | O45: =ROW(O44) -> 44 | P45: {=_xlfn.XLOOKUP(Table2[[#This Row],[Date]]&Table2[[#This Row],[Period]],Table3[Date]&Table3[Period],Table3[Coordinate])*Table2[[#This Row],[X]]} -> 71 | Q45: {=_xlfn.XLOOKUP(Table2[[#This Row],[Date]]&Table2[[#This Row],[Period]],Table3[Date]&Table3[Period],Table3[Coordinate])*Table2[[#This Row],[Y]]} -> 9 | R45: {=IFERROR(LARGE(_xlfn._xlws.FILTER(Table1[[F1]:[EN2]],IF(Table2[[#This Row],[F Line]]=Table1[[#Headers],[F1]:[EN2]],1,0))*Table1[No.]*IF(Table2[[#This Row],[Date]]=Table1[Date],1,0),1),0)} -> 37 | S45: {=IFERROR(LARGE(_xlfn._xlws.FILTER(Table1[[F1]:[EN2]],IF(Table2[[#This Row],[F Line]]=Table1[[#Headers],[F1]:[EN2]],1,0))*Table1[No.]*IF(Table2[[#This Row],[Date]]=Table1[Date],1,0),2),0)} -> 11 | T45: {=IFERROR(LARGE(_xlfn._xlws.FILTER(Table1[[F1]:[EN2]],IF(Table2[[#This Row],[F Line]]=Table1[[#Headers],[F1]:[EN2]],1,0))*Table1[No.]*IF(Table2[[#This Row],[Date]]=Table1[Date],1,0),3),0)} -> 10 | U45: {=IFERROR(IF(Table2[[#This Row],[D Pair]]="",LARGE(_xlfn._xlws.FILTER(Table1[[F1]:[EN2]],IF(Table2[[#This Row],[F Line]]=Table1[[#Headers],[F1]:[EN2]],1,0))*Table1[No.]*IF(Table2[[#This Row],[Date]]=Table1[Date],1,0),4),LARGE(_xlfn._xlws.FILTER(Table1[[F1]:[EN2]],IF(Table2[[#This Row],[D Pair]]=Table1[[#Headers],[F1]:[EN2]],1,0))*Table1[No.]*IF(Table2[[#This Row],[Date]]=Table1[Date],1,0),1)),0)} -> 59 | V45: {=IFERROR(IF(Table2[[#This Row],[D Pair]]="",LARGE(_xlfn._xlws.FILTER(Table1[[F1]:[EN2]],IF(Table2[[#This Row],[F Line]]=Table1[[#Headers],[F1]:[EN2]],1,0))*Table1[No.]*IF(Table2[[#This Row],[Date]]=Table1[Date],1,0),5),LARGE(_xlfn._xlws.FILTER(Table1[[F1]:[EN2]],IF(Table2[[#This Row],[D Pair]]=Table1[[#Headers],[F1]:[EN2]],1,0))*Table1[No.]*IF(Table2[[#This Row],[Date]]=Table1[Date],1,0),2)),0)} -> 2 | W45: =IF(Table2[[#This Row],[Type]]="Goal",1,0) -> 0 | X45: =IF(OR(Table2[[#This Row],[Type]]="Goal",Table2[[#This Row],[Type]]="Shot"),1,0) -> 0 | Y45: =IF(OR(Table2[[#This Row],[Type]]="Goal",Table2[[#This Row],[Type]]="Shot",Table2[[#This Row],[Type]]="Miss"),1,0) -> 1 | Z45: =IF(OR(Table2[[#This Row],[Type]]="Goal",Table2[[#This Row],[Type]]="Shot",Table2[[#This Row],[Type]]="Miss",Table2[[#This Row],[Type]]="Block"),1,0) -> 1 | AA45: =IF(OR(Table2[[#This Row],[Date]]=Visualization!$AH$12,Visualization!$AH$12="All"),1,0)*IF(OR(Visualization!$AS$12="All",Visualization!$AS$12=Table2[[#This Row],[Period]]),1,0)*IF(OR(Table2[[#This Row],[Type]]=Visualization!$BD$12,Visualization!$BD$12="All"),1,0)*IF(OR(Visualization!$BO$12="All",Visualization!$BO$12=Table2[[#This Row],[Strength]]),1,0) -> 1 | AB45: =IF(Table2[[#This Row],[Player]]=Visualization!$AR$2,1,0) -> 0 | AC45: =IF(OR(Table2[[#This Row],[PIT1]]=Visualization!$AR$2,Table2[[#This Row],[PIT2]]=Visualization!$AR$2,Table2[[#This Row],[PIT3]]=Visualization!$AR$2,Table2[[#This Row],[PIT4]]=Visualization!$AR$2,Table2[[#This Row],[PIT5]]=Visualization!$AR$2,Table2[[#This Row],[Goaltender]]=Visualization!$AR$2),1,0) -> 0 | AF45: =_xlfn.XLOOKUP(AE45,Table2[Shot No.],Table2[x2],300) -> 300 | AG45: =_xlfn.XLOOKUP(AE45,Table2[Shot No.],Table2[y2],300) -> 300 | AJ45: =_xlfn.XLOOKUP(AI45,Table2[Shot No.],Table2[x2],300) -> 300 | AK45: =_xlfn.XLOOKUP(AI45,Table2[Shot No.],Table2[y2],300) -> 300 | AN45: =_xlfn.XLOOKUP(AM45,Table2[Shot No.],Table2[x2],300) -> 300 | AO45: =_xlfn.XLOOKUP(AM45,Table2[Shot No.],Table2[y2],300) -> 300
A46: 2 | B46: PIT | C46: 11 | D46: Goal | E46: 72 | F46: 2 | G46: F4 | H46: D2 | I46: 37 | J46: 10 | K46: 35 | M46: EV | N46: 44481 | O46: =ROW(O45) -> 45 | P46: {=_xlfn.XLOOKUP(Table2[[#This Row],[Date]]&Table2[[#This Row],[Period]],Table3[Date]&Table3[Period],Table3[Coordinate])*Table2[[#This Row],[X]]} -> 72 | Q46: {=_xlfn.XLOOKUP(Table2[[#This Row],[Date]]&Table2[[#This Row],[Period]],Table3[Date]&Table3[Period],Table3[Coordinate])*Table2[[#This Row],[Y]]} -> 2 | R46: {=IFERROR(LARGE(_xlfn._xlws.FILTER(Table1[[F1]:[EN2]],IF(Table2[[#This Row],[F Line]]=Table1[[#Headers],[F1]:[EN2]],1,0))*Table1[No.]*IF(Table2[[#This Row],[Date]]=Table1[Date],1,0),1),0)} -> 37 | S46: {=IFERROR(LARGE(_xlfn._xlws.FILTER(Table1[[F1]:[EN2]],IF(Table2[[#This Row],[F Line]]=Table1[[#Headers],[F1]:[EN2]],1,0))*Table1[No.]*IF(Table2[[#This Row],[Date]]=Table1[Date],1,0),2),0)} -> 11 | T46: {=IFERROR(LARGE(_xlfn._xlws.FILTER(Table1[[F1]:[EN2]],IF(Table2[[#This Row],[F Line]]=Table1[[#Headers],[F1]:[EN2]],1,0))*Table1[No.]*IF(Table2[[#This Row],[Date]]=Table1[Date],1,0),3),0)} -> 10 | U46: {=IFERROR(IF(Table2[[#This Row],[D Pair]]="",LARGE(_xlfn._xlws.FILTER(Table1[[F1]:[EN2]],IF(Table2[[#This Row],[F Line]]=Table1[[#Headers],[F1]:[EN2]],1,0))*Table1[No.]*IF(Table2[[#This Row],[Date]]=Table1[Date],1,0),4),LARGE(_xlfn._xlws.FILTER(Table1[[F1]:[EN2]],IF(Table2[[#This Row],[D Pair]]=Table1[[#Headers],[F1]:[EN2]],1,0))*Table1[No.]*IF(Table2[[#This Row],[Date]]=Table1[Date],1,0),1)),0)} -> 28 | V46: {=IFERROR(IF(Table2[[#This Row],[D Pair]]="",LARGE(_xlfn._xlws.FILTER(Table1[[F1]:[EN2]],IF(Table2[[#This Row],[F Line]]=Table1[[#Headers],[F1]:[EN2]],1,0))*Table1[No.]*IF(Table2[[#This Row],[Date]]=Table1[Date],1,0),5),LARGE(_xlfn._xlws.FILTER(Table1[[F1]:[EN2]],IF(Table2[[#This Row],[D Pair]]=Table1[[#Headers],[F1]:[EN2]],1,0))*Table1[No.]*IF(Table2[[#This Row],[Date]]=Table1[Date],1,0),2)),0)} -> 6 | W46: =IF(Table2[[#This Row],[Type]]="Goal",1,0) -> 1 | X46: =IF(OR(Table2[[#This Row],[Type]]="Goal",Table2[[#This Row],[Type]]="Shot"),1,0) -> 1 | Y46: =IF(OR(Table2[[#This Row],[Type]]="Goal",Table2[[#This Row],[Type]]="Shot",Table2[[#This Row],[Type]]="Miss"),1,0) -> 1 | Z46: =IF(OR(Table2[[#This Row],[Type]]="Goal",Table2[[#This Row],[Type]]="Shot",Table2[[#This Row],[Type]]="Miss",Table2[[#This Row],[Type]]="Block"),1,0) -> 1 | AA46: =IF(OR(Table2[[#This Row],[Date]]=Visualization!$AH$12,Visualization!$AH$12="All"),1,0)*IF(OR(Visualization!$AS$12="All",Visualization!$AS$12=Table2[[#This Row],[Period]]),1,0)*IF(OR(Table2[[#This Row],[Type]]=Visualization!$BD$12,Visualization!$BD$12="All"),1,0)*IF(OR(Visualization!$BO$12="All",Visualization!$BO$12=Table2[[#This Row],[Strength]]),1,0) -> 1 | AB46: =IF(Table2[[#This Row],[Player]]=Visualization!$AR$2,1,0) -> 0 | AC46: =IF(OR(Table2[[#This Row],[PIT1]]=Visualization!$AR$2,Table2[[#This Row],[PIT2]]=Visualization!$AR$2,Table2[[#This Row],[PIT3]]=Visualization!$AR$2,Table2[[#This Row],[PIT4]]=Visualization!$AR$2,Table2[[#This Row],[PIT5]]=Visualization!$AR$2,Table2[[#This Row],[Goaltender]]=Visualization!$AR$2),1,0) -> 0 | AF46: =_xlfn.XLOOKUP(AE46,Table2[Shot No.],Table2[x2],300) -> 300 | AG46: =_xlfn.XLOOKUP(AE46,Table2[Shot No.],Table2[y2],300) -> 300 | AJ46: =_xlfn.XLOOKUP(AI46,Table2[Shot No.],Table2[x2],300) -> 300 | AK46: =_xlfn.XLOOKUP(AI46,Table2[Shot No.],Table2[y2],300) -> 300 | AN46: =_xlfn.XLOOKUP(AM46,Table2[Shot No.],Table2[x2],300) -> 300 | AO46: =_xlfn.XLOOKUP(AM46,Table2[Shot No.],Table2[y2],300) -> 300
A47: 2 | B47: T.B | D47: Shot | E47: -80 | F47: 4 | G47: F3 | H47: D1 | K47: 35 | M47: EV | N47: 44481 | O47: =ROW(O46) -> 46 | P47: {=_xlfn.XLOOKUP(Table2[[#This Row],[Date]]&Table2[[#This Row],[Period]],Table3[Date]&Table3[Period],Table3[Coordinate])*Table2[[#This Row],[X]]} -> -80 | Q47: {=_xlfn.XLOOKUP(Table2[[#This Row],[Date]]&Table2[[#This Row],[Period]],Table3[Date]&Table3[Period],Table3[Coordinate])*Table2[[#This Row],[Y]]} -> 4 | R47: {=IFERROR(LARGE(_xlfn._xlws.FILTER(Table1[[F1]:[EN2]],IF(Table2[[#This Row],[F Line]]=Table1[[#Headers],[F1]:[EN2]],1,0))*Table1[No.]*IF(Table2[[#This Row],[Date]]=Table1[Date],1,0),1),0)} -> 53 | S47: {=IFERROR(LARGE(_xlfn._xlws.FILTER(Table1[[F1]:[EN2]],IF(Table2[[#This Row],[F Line]]=Table1[[#Headers],[F1]:[EN2]],1,0))*Table1[No.]*IF(Table2[[#This Row],[Date]]=Table1[Date],1,0),2),0)} -> 23 | T47: {=IFERROR(LARGE(_xlfn._xlws.FILTER(Table1[[F1]:[EN2]],IF(Table2[[#This Row],[F Line]]=Table1[[#Headers],[F1]:[EN2]],1,0))*Table1[No.]*IF(Table2[[#This Row],[Date]]=Table1[Date],1,0),3),0)} -> 12 | U47: {=IFERROR(IF(Table2[[#This Row],[D Pair]]="",LARGE(_xlfn._xlws.FILTER(Table1[[F1]:[EN2]],IF(Table2[[#This Row],[F Line]]=Table1[[#Headers],[F1]:[EN2]],1,0))*Table1[No.]*IF(Table2[[#This Row],[Date]]=Table1[Date],1,0),4),LARGE(_xlfn._xlws.FILTER(Table1[[F1]:[EN2]],IF(Table2[[#This Row],[D Pair]]=Table1[[#Headers],[F1]:[EN2]],1,0))*Table1[No.]*IF(Table2[[#This Row],[Date]]=Table1[Date],1,0),1)),0)} -> 58 | V47: {=IFERROR(IF(Table2[[#This Row],[D Pair]]="",LARGE(_xlfn._xlws.FILTER(Table1[[F1]:[EN2]],IF(Table2[[#This Row],[F Line]]=Table1[[#Headers],[F1]:[EN2]],1,0))*Table1[No.]*IF(Table2[[#This Row],[Date]]=Table1[Date],1,0),5),LARGE(_xlfn._xlws.FILTER(Table1[[F1]:[EN2]],IF(Table2[[#This Row],[D Pair]]=Table1[[#Headers],[F1]:[EN2]],1,0))*Table1[No.]*IF(Table2[[#This Row],[Date]]=Table1[Date],1,0),2)),0)} -> 8 | W47: =IF(Table2[[#This Row],[Type]]="Goal",1,0) -> 0 | X47: =IF(OR(Table2[[#This Row],[Type]]="Goal",Table2[[#This Row],[Type]]="Shot"),1,0) -> 1 | Y47: =IF(OR(Table2[[#This Row],[Type]]="Goal",Table2[[#This Row],[Type]]="Shot",Table2[[#This Row],[Type]]="Miss"),1,0) -> 1 | Z47: =IF(OR(Table2[[#This Row],[Type]]="Goal",Table2[[#This Row],[Type]]="Shot",Table2[[#This Row],[Type]]="Miss",Table2[[#This Row],[Type]]="Block"),1,0) -> 1 | AA47: =IF(OR(Table2[[#This Row],[Date]]=Visualization!$AH$12,Visualization!$AH$12="All"),1,0)*IF(OR(Visualization!$AS$12="All",Visualization!$AS$12=Table2[[#This Row],[Period]]),1,0)*IF(OR(Table2[[#This Row],[Type]]=Visualization!$BD$12,Visualization!$BD$12="All"),1,0)*IF(OR(Visualization!$BO$12="All",Visualization!$BO$12=Table2[[#This Row],[Strength]]),1,0) -> 1 | AB47: =IF(Table2[[#This Row],[Player]]=Visualization!$AR$2,1,0) -> 0 | AC47: =IF(OR(Table2[[#This Row],[PIT1]]=Visualization!$AR$2,Table2[[#This Row],[PIT2]]=Visualization!$AR$2,Table2[[#This Row],[PIT3]]=Visualization!$AR$2,Table2[[#This Row],[PIT4]]=Visualization!$AR$2,Table2[[#This Row],[PIT5]]=Visualization!$AR$2,Table2[[#This Row],[Goaltender]]=Visualization!$AR$2),1,0) -> 0 | AF47: =_xlfn.XLOOKUP(AE47,Table2[Shot No.],Table2[x2],300) -> 300 | AG47: =_xlfn.XLOOKUP(AE47,Table2[Shot No.],Table2[y2],300) -> 300 | AJ47: =_xlfn.XLOOKUP(AI47,Table2[Shot No.],Table2[x2],300) -> 300 | AK47: =_xlfn.XLOOKUP(AI47,Table2[Shot No.],Table2[y2],300) -> 300 | AN47: =_xlfn.XLOOKUP(AM47,Table2[Shot No.],Table2[x2],300) -> 300 | AO47: =_xlfn.XLOOKUP(AM47,Table2[Shot No.],Table2[y2],300) -> 300
A48: 2 | B48: T.B | D48: Miss | E48: -37 | F48: -19 | G48: F3 | H48: D1 | K48: 35 | M48: EV | N48: 44481 | O48: =ROW(O47) -> 47 | P48: {=_xlfn.XLOOKUP(Table2[[#This Row],[Date]]&Table2[[#This Row],[Period]],Table3[Date]&Table3[Period],Table3[Coordinate])*Table2[[#This Row],[X]]} -> -37 | Q48: {=_xlfn.XLOOKUP(Table2[[#This Row],[Date]]&Table2[[#This Row],[Period]],Table3[Date]&Table3[Period],Table3[Coordinate])*Table2[[#This Row],[Y]]} -> -19 | R48: {=IFERROR(LARGE(_xlfn._xlws.FILTER(Table1[[F1]:[EN2]],IF(Table2[[#This Row],[F Line]]=Table1[[#Headers],[F1]:[EN2]],1,0))*Table1[No.]*IF(Table2[[#This Row],[Date]]=Table1[Date],1,0),1),0)} -> 53 | S48: {=IFERROR(LARGE(_xlfn._xlws.FILTER(Table1[[F1]:[EN2]],IF(Table2[[#This Row],[F Line]]=Table1[[#Headers],[F1]:[EN2]],1,0))*Table1[No.]*IF(Table2[[#This Row],[Date]]=Table1[Date],1,0),2),0)} -> 23 | T48: {=IFERROR(LARGE(_xlfn._xlws.FILTER(Table1[[F1]:[EN2]],IF(Table2[[#This Row],[F Line]]=Table1[[#Headers],[F1]:[EN2]],1,0))*Table1[No.]*IF(Table2[[#This Row],[Date]]=Table1[Date],1,0),3),0)} -> 12 | U48: {=IFERROR(IF(Table2[[#This Row],[D Pair]]="",LARGE(_xlfn._xlws.FILTER(Table1[[F1]:[EN2]],IF(Table2[[#This Row],[F Line]]=Table1[[#Headers],[F1]:[EN2]],1,0))*Table1[No.]*IF(Table2[[#This Row],[Date]]=Table1[Date],1,0),4),LARGE(_xlfn._xlws.FILTER(Table1[[F1]:[EN2]],IF(Table2[[#This Row],[D Pair]]=Table1[[#Headers],[F1]:[EN2]],1,0))*Table1[No.]*IF(Table2[[#This Row],[Date]]=Table1[Date],1,0),1)),0)} -> 58 | V48: {=IFERROR(IF(Table2[[#This Row],[D Pair]]="",LARGE(_xlfn._xlws.FILTER(Table1[[F1]:[EN2]],IF(Table2[[#This Row],[F Line]]=Table1[[#Headers],[F1]:[EN2]],1,0))*Table1[No.]*IF(Table2[[#This Row],[Date]]=Table1[Date],1,0),5),LARGE(_xlfn._xlws.FILTER(Table1[[F1]:[EN2]],IF(Table2[[#This Row],[D Pair]]=Table1[[#Headers],[F1]:[EN2]],1,0))*Table1[No.]*IF(Table2[[#This Row],[Date]]=Table1[Date],1,0),2)),0)} -> 8 | W48: =IF(Table2[[#This Row],[Type]]="Goal",1,0) -> 0 | X48: =IF(OR(Table2[[#This Row],[Type]]="Goal",Table2[[#This Row],[Type]]="Shot"),1,0) -> 0 | Y48: =IF(OR(Table2[[#This Row],[Type]]="Goal",Table2[[#This Row],[Type]]="Shot",Table2[[#This Row],[Type]]="Miss"),1,0) -> 1 | Z48: =IF(OR(Table2[[#This Row],[Type]]="Goal",Table2[[#This Row],[Type]]="Shot",Table2[[#This Row],[Type]]="Miss",Table2[[#This Row],[Type]]="Block"),1,0) -> 1 | AA48: =IF(OR(Table2[[#This Row],[Date]]=Visualization!$AH$12,Visualization!$AH$12="All"),1,0)*IF(OR(Visualization!$AS$12="All",Visualization!$AS$12=Table2[[#This Row],[Period]]),1,0)*IF(OR(Table2[[#This Row],[Type]]=Visualization!$BD$12,Visualization!$BD$12="All"),1,0)*IF(OR(Visualization!$BO$12="All",Visualization!$BO$12=Table2[[#This Row],[Strength]]),1,0) -> 1 | AB48: =IF(Table2[[#This Row],[Player]]=Visualization!$AR$2,1,0) -> 0 | AC48: =IF(OR(Table2[[#This Row],[PIT1]]=Visualization!$AR$2,Table2[[#This Row],[PIT2]]=Visualization!$AR$2,Table2[[#This Row],[PIT3]]=Visualization!$AR$2,Table2[[#This Row],[PIT4]]=Visualization!$AR$2,Table2[[#This Row],[PIT5]]=Visualization!$AR$2,Table2[[#This Row],[Goaltender]]=Visualization!$AR$2),1,0) -> 0 | AF48: =_xlfn.XLOOKUP(AE48,Table2[Shot No.],Table2[x2],300) -> 300 | AG48: =_xlfn.XLOOKUP(AE48,Table2[Shot No.],Table2[y2],300) -> 300 | AJ48: =_xlfn.XLOOKUP(AI48,Table2[Shot No.],Table2[x2],300) -> 300 | AK48: =_xlfn.XLOOKUP(AI48,Table2[Shot No.],Table2[y2],300) -> 300 | AN48: =_xlfn.XLOOKUP(AM48,Table2[Shot No.],Table2[x2],300) -> 300 | AO48: =_xlfn.XLOOKUP(AM48,Table2[Shot No.],Table2[y2],300) -> 300
A49: 2 | B49: T.B | D49: Shot | E49: 31 | F49: -20 | G49: F1 | H49: D2 | K49: 35 | M49: EV | N49: 44481 | O49: =ROW(O48) -> 48 | P49: {=_xlfn.XLOOKUP(Table2[[#This Row],[Date]]&Table2[[#This Row],[Period]],Table3[Date]&Table3[Period],Table3[Coordinate])*Table2[[#This Row],[X]]} -> 31 | Q49: {=_xlfn.XLOOKUP(Table2[[#This Row],[Date]]&Table2[[#This Row],[Period]],Table3[Date]&Table3[Period],Table3[Coordinate])*Table2[[#This Row],[Y]]} -> -20 | R49: {=IFERROR(LARGE(_xlfn._xlws.FILTER(Table1[[F1]:[EN2]],IF(Table2[[#This Row],[F Line]]=Table1[[#Headers],[F1]:[EN2]],1,0))*Table1[No.]*IF(Table2[[#This Row],[Date]]=Table1[Date],1,0),1),0)} -> 71 | S49: {=IFERROR(LARGE(_xlfn._xlws.FILTER(Table1[[F1]:[EN2]],IF(Table2[[#This Row],[F Line]]=Table1[[#Headers],[F1]:[EN2]],1,0))*Table1[No.]*IF(Table2[[#This Row],[Date]]=Table1[Date],1,0),2),0)} -> 24 | T49: {=IFERROR(LARGE(_xlfn._xlws.FILTER(Table1[[F1]:[EN2]],IF(Table2[[#This Row],[F Line]]=Table1[[#Headers],[F1]:[EN2]],1,0))*Table1[No.]*IF(Table2[[#This Row],[Date]]=Table1[Date],1,0),3),0)} -> 16 | U49: {=IFERROR(IF(Table2[[#This Row],[D Pair]]="",LARGE(_xlfn._xlws.FILTER(Table1[[F1]:[EN2]],IF(Table2[[#This Row],[F Line]]=Table1[[#Headers],[F1]:[EN2]],1,0))*Table1[No.]*IF(Table2[[#This Row],[Date]]=Table1[Date],1,0),4),LARGE(_xlfn._xlws.FILTER(Table1[[F1]:[EN2]],IF(Table2[[#This Row],[D Pair]]=Table1[[#Headers],[F1]:[EN2]],1,0))*Table1[No.]*IF(Table2[[#This Row],[Date]]=Table1[Date],1,0),1)),0)} -> 28 | V49: {=IFERROR(IF(Table2[[#This Row],[D Pair]]="",LARGE(_xlfn._xlws.FILTER(Table1[[F1]:[EN2]],IF(Table2[[#This Row],[F Line]]=Table1[[#Headers],[F1]:[EN2]],1,0))*Table1[No.]*IF(Table2[[#This Row],[Date]]=Table1[Date],1,0),5),LARGE(_xlfn._xlws.FILTER(Table1[[F1]:[EN2]],IF(Table2[[#This Row],[D Pair]]=Table1[[#Headers],[F1]:[EN2]],1,0))*Table1[No.]*IF(Table2[[#This Row],[Date]]=Table1[Date],1,0),2)),0)} -> 6 | W49: =IF(Table2[[#This Row],[Type]]="Goal",1,0) -> 0 | X49: =IF(OR(Table2[[#This Row],[Type]]="Goal",Table2[[#This Row],[Type]]="Shot"),1,0) -> 1 | Y49: =IF(OR(Table2[[#This Row],[Type]]="Goal",Table2[[#This Row],[Type]]="Shot",Table2[[#This Row],[Type]]="Miss"),1,0) -> 1 | Z49: =IF(OR(Table2[[#This Row],[Type]]="Goal",Table2[[#This Row],[Type]]="Shot",Table2[[#This Row],[Type]]="Miss",Table2[[#This Row],[Type]]="Block"),1,0) -> 1 | AA49: =IF(OR(Table2[[#This Row],[Date]]=Visualization!$AH$12,Visualization!$AH$12="All"),1,0)*IF(OR(Visualization!$AS$12="All",Visualization!$AS$12=Table2[[#This Row],[Period]]),1,0)*IF(OR(Table2[[#This Row],[Type]]=Visualization!$BD$12,Visualization!$BD$12="All"),1,0)*IF(OR(Visualization!$BO$12="All",Visualization!$BO$12=Table2[[#This Row],[Strength]]),1,0) -> 1 | AB49: =IF(Table2[[#This Row],[Player]]=Visualization!$AR$2,1,0) -> 0 | AC49: =IF(OR(Table2[[#This Row],[PIT1]]=Visualization!$AR$2,Table2[[#This Row],[PIT2]]=Visualization!$AR$2,Table2[[#This Row],[PIT3]]=Visualization!$AR$2,Table2[[#This Row],[PIT4]]=Visualization!$AR$2,Table2[[#This Row],[PIT5]]=Visualization!$AR$2,Table2[[#This Row],[Goaltender]]=Visualization!$AR$2),1,0) -> 0 | AF49: =_xlfn.XLOOKUP(AE49,Table2[Shot No.],Table2[x2],300) -> 300 | AG49: =_xlfn.XLOOKUP(AE49,Table2[Shot No.],Table2[y2],300) -> 300 | AJ49: =_xlfn.XLOOKUP(AI49,Table2[Shot No.],Table2[x2],300) -> 300 | AK49: =_xlfn.XLOOKUP(AI49,Table2[Shot No.],Table2[y2],300) -> 300 | AN49: =_xlfn.XLOOKUP(AM49,Table2[Shot No.],Table2[x2],300) -> 300 | AO49: =_xlfn.XLOOKUP(AM49,Table2[Shot No.],Table2[y2],300) -> 300
A50: 2 | B50: PIT | C50: 17 | D50: Miss | E50: 76 | F50: 23 | G50: F2 | H50: D2 | K50: 35 | M50: EV | N50: 44481 | O50: =ROW(O49) -> 49 | P50: {=_xlfn.XLOOKUP(Table2[[#This Row],[Date]]&Table2[[#This Row],[Period]],Table3[Date]&Table3[Period],Table3[Coordinate])*Table2[[#This Row],[X]]} -> 76 | Q50: {=_xlfn.XLOOKUP(Table2[[#This Row],[Date]]&Table2[[#This Row],[Period]],Table3[Date]&Table3[Period],Table3[Coordinate])*Table2[[#This Row],[Y]]} -> 23 | R50: {=IFERROR(LARGE(_xlfn._xlws.FILTER(Table1[[F1]:[EN2]],IF(Table2[[#This Row],[F Line]]=Table1[[#Headers],[F1]:[EN2]],1,0))*Table1[No.]*IF(Table2[[#This Row],[Date]]=Table1[Date],1,0),1),0)} -> 77 | S50: {=IFERROR(LARGE(_xlfn._xlws.FILTER(Table1[[F1]:[EN2]],IF(Table2[[#This Row],[F Line]]=Table1[[#Headers],[F1]:[EN2]],1,0))*Table1[No.]*IF(Table2[[#This Row],[Date]]=Table1[Date],1,0),2),0)} -> 43 | T50: {=IFERROR(LARGE(_xlfn._xlws.FILTER(Table1[[F1]:[EN2]],IF(Table2[[#This Row],[F Line]]=Table1[[#Headers],[F1]:[EN2]],1,0))*Table1[No.]*IF(Table2[[#This Row],[Date]]=Table1[Date],1,0),3),0)} -> 17 | U50: {=IFERROR(IF(Table2[[#This Row],[D Pair]]="",LARGE(_xlfn._xlws.FILTER(Table1[[F1]:[EN2]],IF(Table2[[#This Row],[F Line]]=Table1[[#Headers],[F1]:[EN2]],1,0))*Table1[No.]*IF(Table2[[#This Row],[Date]]=Table1[Date],1,0),4),LARGE(_xlfn._xlws.FILTER(Table1[[F1]:[EN2]],IF(Table2[[#This Row],[D Pair]]=Table1[[#Headers],[F1]:[EN2]],1,0))*Table1[No.]*IF(Table2[[#This Row],[Date]]=Table1[Date],1,0),1)),0)} -> 28 | V50: {=IFERROR(IF(Table2[[#This Row],[D Pair]]="",LARGE(_xlfn._xlws.FILTER(Table1[[F1]:[EN2]],IF(Table2[[#This Row],[F Line]]=Table1[[#Headers],[F1]:[EN2]],1,0))*Table1[No.]*IF(Table2[[#This Row],[Date]]=Table1[Date],1,0),5),LARGE(_xlfn._xlws.FILTER(Table1[[F1]:[EN2]],IF(Table2[[#This Row],[D Pair]]=Table1[[#Headers],[F1]:[EN2]],1,0))*Table1[No.]*IF(Table2[[#This Row],[Date]]=Table1[Date],1,0),2)),0)} -> 6 | W50: =IF(Table2[[#This Row],[Type]]="Goal",1,0) -> 0 | X50: =IF(OR(Table2[[#This Row],[Type]]="Goal",Table2[[#This Row],[Type]]="Shot"),1,0) -> 0 | Y50: =IF(OR(Table2[[#This Row],[Type]]="Goal",Table2[[#This Row],[Type]]="Shot",Table2[[#This Row],[Type]]="Miss"),1,0) -> 1 | Z50: =IF(OR(Table2[[#This Row],[Type]]="Goal",Table2[[#This Row],[Type]]="Shot",Table2[[#This Row],[Type]]="Miss",Table2[[#This Row],[Type]]="Block"),1,0) -> 1 | AA50: =IF(OR(Table2[[#This Row],[Date]]=Visualization!$AH$12,Visualization!$AH$12="All"),1,0)*IF(OR(Visualization!$AS$12="All",Visualization!$AS$12=Table2[[#This Row],[Period]]),1,0)*IF(OR(Table2[[#This Row],[Type]]=Visualization!$BD$12,Visualization!$BD$12="All"),1,0)*IF(OR(Visualization!$BO$12="All",Visualization!$BO$12=Table2[[#This Row],[Strength]]),1,0) -> 1 | AB50: =IF(Table2[[#This Row],[Player]]=Visualization!$AR$2,1,0) -> 0 | AC50: =IF(OR(Table2[[#This Row],[PIT1]]=Visualization!$AR$2,Table2[[#This Row],[PIT2]]=Visualization!$AR$2,Table2[[#This Row],[PIT3]]=Visualization!$AR$2,Table2[[#This Row],[PIT4]]=Visualization!$AR$2,Table2[[#This Row],[PIT5]]=Visualization!$AR$2,Table2[[#This Row],[Goaltender]]=Visualization!$AR$2),1,0) -> 1 | AF50: =_xlfn.XLOOKUP(AE50,Table2[Shot No.],Table2[x2],300) -> 300 | AG50: =_xlfn.XLOOKUP(AE50,Table2[Shot No.],Table2[y2],300) -> 300 | AJ50: =_xlfn.XLOOKUP(AI50,Table2[Shot No.],Table2[x2],300) -> 300 | AK50: =_xlfn.XLOOKUP(AI50,Table2[Shot No.],Table2[y2],300) -> 300 | AN50: =_xlfn.XLOOKUP(AM50,Table2[Shot No.],Table2[x2],300) -> 300 | AO50: =_xlfn.XLOOKUP(AM50,Table2[Shot No.],Table2[y2],300) -> 300
A51: 2 | B51: T.B | D51: Shot | E51: -37 | F51: -14 | G51: F2 | H51: D2 | K51: 35 | M51: EV | N51: 44481 | O51: =ROW(O50) -> 50 | P51: {=_xlfn.XLOOKUP(Table2[[#This Row],[Date]]&Table2[[#This Row],[Period]],Table3[Date]&Table3[Period],Table3[Coordinate])*Table2[[#This Row],[X]]} -> -37 | Q51: {=_xlfn.XLOOKUP(Table2[[#This Row],[Date]]&Table2[[#This Row],[Period]],Table3[Date]&Table3[Period],Table3[Coordinate])*Table2[[#This Row],[Y]]} -> -14 | R51: {=IFERROR(LARGE(_xlfn._xlws.FILTER(Table1[[F1]:[EN2]],IF(Table2[[#This Row],[F Line]]=Table1[[#Headers],[F1]:[EN2]],1,0))*Table1[No.]*IF(Table2[[#This Row],[Date]]=Table1[Date],1,0),1),0)} -> 77 | S51: {=IFERROR(LARGE(_xlfn._xlws.FILTER(Table1[[F1]:[EN2]],IF(Table2[[#This Row],[F Line]]=Table1[[#Headers],[F1]:[EN2]],1,0))*Table1[No.]*IF(Table2[[#This Row],[Date]]=Table1[Date],1,0),2),0)} -> 43 | T51: {=IFERROR(LARGE(_xlfn._xlws.FILTER(Table1[[F1]:[EN2]],IF(Table2[[#This Row],[F Line]]=Table1[[#Headers],[F1]:[EN2]],1,0))*Table1[No.]*IF(Table2[[#This Row],[Date]]=Table1[Date],1,0),3),0)} -> 17 | U51: {=IFERROR(IF(Table2[[#This Row],[D Pair]]="",LARGE(_xlfn._xlws.FILTER(Table1[[F1]:[EN2]],IF(Table2[[#This Row],[F Line]]=Table1[[#Headers],[F1]:[EN2]],1,0))*Table1[No.]*IF(Table2[[#This Row],[Date]]=Table1[Date],1,0),4),LARGE(_xlfn._xlws.FILTER(Table1[[F1]:[EN2]],IF(Table2[[#This Row],[D Pair]]=Table1[[#Headers],[F1]:[EN2]],1,0))*Table1[No.]*IF(Table2[[#This Row],[Date]]=Table1[Date],1,0),1)),0)} -> 28 | V51: {=IFERROR(IF(Table2[[#This Row],[D Pair]]="",LARGE(_xlfn._xlws.FILTER(Table1[[F1]:[EN2]],IF(Table2[[#This Row],[F Line]]=Table1[[#Headers],[F1]:[EN2]],1,0))*Table1[No.]*IF(Table2[[#This Row],[Date]]=Table1[Date],1,0),5),LARGE(_xlfn._xlws.FILTER(Table1[[F1]:[EN2]],IF(Table2[[#This Row],[D Pair]]=Table1[[#Headers],[F1]:[EN2]],1,0))*Table1[No.]*IF(Table2[[#This Row],[Date]]=Table1[Date],1,0),2)),0)} -> 6 | W51: =IF(Table2[[#This Row],[Type]]="Goal",1,0) -> 0 | X51: =IF(OR(Table2[[#This Row],[Type]]="Goal",Table2[[#This Row],[Type]]="Shot"),1,0) -> 1 | Y51: =IF(OR(Table2[[#This Row],[Type]]="Goal",Table2[[#This Row],[Type]]="Shot",Table2[[#This Row],[Type]]="Miss"),1,0) -> 1 | Z51: =IF(OR(Table2[[#This Row],[Type]]="Goal",Table2[[#This Row],[Type]]="Shot",Table2[[#This Row],[Type]]="Miss",Table2[[#This Row],[Type]]="Block"),1,0) -> 1 | AA51: =IF(OR(Table2[[#This Row],[Date]]=Visualization!$AH$12,Visualization!$AH$12="All"),1,0)*IF(OR(Visualization!$AS$12="All",Visualization!$AS$12=Table2[[#This Row],[Period]]),1,0)*IF(OR(Table2[[#This Row],[Type]]=Visualization!$BD$12,Visualization!$BD$12="All"),1,0)*IF(OR(Visualization!$BO$12="All",Visualization!$BO$12=Table2[[#This Row],[Strength]]),1,0) -> 1 | AB51: =IF(Table2[[#This Row],[Player]]=Visualization!$AR$2,1,0) -> 0 | AC51: =IF(OR(Table2[[#This Row],[PIT1]]=Visualization!$AR$2,Table2[[#This Row],[PIT2]]=Visualization!$AR$2,Table2[[#This Row],[PIT3]]=Visualization!$AR$2,Table2[[#This Row],[PIT4]]=Visualization!$AR$2,Table2[[#This Row],[PIT5]]=Visualization!$AR$2,Table2[[#This Row],[Goaltender]]=Visualization!$AR$2),1,0) -> 1 | AF51: =_xlfn.XLOOKUP(AE51,Table2[Shot No.],Table2[x2],300) -> 300 | AG51: =_xlfn.XLOOKUP(AE51,Table2[Shot No.],Table2[y2],300) -> 300 | AJ51: =_xlfn.XLOOKUP(AI51,Table2[Shot No.],Table2[x2],300) -> 300 | AK51: =_xlfn.XLOOKUP(AI51,Table2[Shot No.],Table2[y2],300) -> 300 | AN51: =_xlfn.XLOOKUP(AM51,Table2[Shot No.],Table2[x2],300) -> 300 | AO51: =_xlfn.XLOOKUP(AM51,Table2[Shot No.],Table2[y2],300) -> 300
A52: 2 | B52: PIT | C52: 71 | D52: Shot | E52: 57 | F52: 29 | G52: F1 | H52: D3 | K52: 35 | M52: EV | N52: 44481 | O52: =ROW(O51) -> 51 | P52: {=_xlfn.XLOOKUP(Table2[[#This Row],[Date]]&Table2[[#This Row],[Period]],Table3[Date]&Table3[Period],Table3[Coordinate])*Table2[[#This Row],[X]]} -> 57 | Q52: {=_xlfn.XLOOKUP(Table2[[#This Row],[Date]]&Table2[[#This Row],[Period]],Table3[Date]&Table3[Period],Table3[Coordinate])*Table2[[#This Row],[Y]]} -> 29 | R52: {=IFERROR(LARGE(_xlfn._xlws.FILTER(Table1[[F1]:[EN2]],IF(Table2[[#This Row],[F Line]]=Table1[[#Headers],[F1]:[EN2]],1,0))*Table1[No.]*IF(Table2[[#This Row],[Date]]=Table1[Date],1,0),1),0)} -> 71 | S52: {=IFERROR(LARGE(_xlfn._xlws.FILTER(Table1[[F1]:[EN2]],IF(Table2[[#This Row],[F Line]]=Table1[[#Headers],[F1]:[EN2]],1,0))*Table1[No.]*IF(Table2[[#This Row],[Date]]=Table1[Date],1,0),2),0)} -> 24 | T52: {=IFERROR(LARGE(_xlfn._xlws.FILTER(Table1[[F1]:[EN2]],IF(Table2[[#This Row],[F Line]]=Table1[[#Headers],[F1]:[EN2]],1,0))*Table1[No.]*IF(Table2[[#This Row],[Date]]=Table1[Date],1,0),3),0)} -> 16 | U52: {=IFERROR(IF(Table2[[#This Row],[D Pair]]="",LARGE(_xlfn._xlws.FILTER(Table1[[F1]:[EN2]],IF(Table2[[#This Row],[F Line]]=Table1[[#Headers],[F1]:[EN2]],1,0))*Table1[No.]*IF(Table2[[#This Row],[Date]]=Table1[Date],1,0),4),LARGE(_xlfn._xlws.FILTER(Table1[[F1]:[EN2]],IF(Table2[[#This Row],[D Pair]]=Table1[[#Headers],[F1]:[EN2]],1,0))*Table1[No.]*IF(Table2[[#This Row],[Date]]=Table1[Date],1,0),1)),0)} -> 59 | V52: {=IFERROR(IF(Table2[[#This Row],[D Pair]]="",LARGE(_xlfn._xlws.FILTER(Table1[[F1]:[EN2]],IF(Table2[[#This Row],[F Line]]=Table1[[#Headers],[F1]:[EN2]],1,0))*Table1[No.]*IF(Table2[[#This Row],[Date]]=Table1[Date],1,0),5),LARGE(_xlfn._xlws.FILTER(Table1[[F1]:[EN2]],IF(Table2[[#This Row],[D Pair]]=Table1[[#Headers],[F1]:[EN2]],1,0))*Table1[No.]*IF(Table2[[#This Row],[Date]]=Table1[Date],1,0),2)),0)} -> 2 | W52: =IF(Table2[[#This Row],[Type]]="Goal",1,0) -> 0 | X52: =IF(OR(Table2[[#This Row],[Type]]="Goal",Table2[[#This Row],[Type]]="Shot"),1,0) -> 1 | Y52: =IF(OR(Table2[[#This Row],[Type]]="Goal",Table2[[#This Row],[Type]]="Shot",Table2[[#This Row],[Type]]="Miss"),1,0) -> 1 | Z52: =IF(OR(Table2[[#This Row],[Type]]="Goal",Table2[[#This Row],[Type]]="Shot",Table2[[#This Row],[Type]]="Miss",Table2[[#This Row],[Type]]="Block"),1,0) -> 1 | AA52: =IF(OR(Table2[[#This Row],[Date]]=Visualization!$AH$12,Visualization!$AH$12="All"),1,0)*IF(OR(Visualization!$AS$12="All",Visualization!$AS$12=Table2[[#This Row],[Period]]),1,0)*IF(OR(Table2[[#This Row],[Type]]=Visualization!$BD$12,Visualization!$BD$12="All"),1,0)*IF(OR(Visualization!$BO$12="All",Visualization!$BO$12=Table2[[#This Row],[Strength]]),1,0) -> 1 | AB52: =IF(Table2[[#This Row],[Player]]=Visualization!$AR$2,1,0) -> 0 | AC52: =IF(OR(Table2[[#This Row],[PIT1]]=Visualization!$AR$2,Table2[[#This Row],[PIT2]]=Visualization!$AR$2,Table2[[#This Row],[PIT3]]=Visualization!$AR$2,Table2[[#This Row],[PIT4]]=Visualization!$AR$2,Table2[[#This Row],[PIT5]]=Visualization!$AR$2,Table2[[#This Row],[Goaltender]]=Visualization!$AR$2),1,0) -> 0 | AF52: =_xlfn.XLOOKUP(AE52,Table2[Shot No.],Table2[x2],300) -> 300 | AG52: =_xlfn.XLOOKUP(AE52,Table2[Shot No.],Table2[y2],300) -> 300 | AJ52: =_xlfn.XLOOKUP(AI52,Table2[Shot No.],Table2[x2],300) -> 300 | AK52: =_xlfn.XLOOKUP(AI52,Table2[Shot No.],Table2[y2],300) -> 300 | AN52: =_xlfn.XLOOKUP(AM52,Table2[Shot No.],Table2[x2],300) -> 300 | AO52: =_xlfn.XLOOKUP(AM52,Table2[Shot No.],Table2[y2],300) -> 300
A53: 2 | B53: T.B | D53: Miss | E53: -45 | F53: 9 | G53: F1 | H53: D3 | K53: 35 | M53: EV | N53: 44481 | O53: =ROW(O52) -> 52 | P53: {=_xlfn.XLOOKUP(Table2[[#This Row],[Date]]&Table2[[#This Row],[Period]],Table3[Date]&Table3[Period],Table3[Coordinate])*Table2[[#This Row],[X]]} -> -45 | Q53: {=_xlfn.XLOOKUP(Table2[[#This Row],[Date]]&Table2[[#This Row],[Period]],Table3[Date]&Table3[Period],Table3[Coordinate])*Table2[[#This Row],[Y]]} -> 9 | R53: {=IFERROR(LARGE(_xlfn._xlws.FILTER(Table1[[F1]:[EN2]],IF(Table2[[#This Row],[F Line]]=Table1[[#Headers],[F1]:[EN2]],1,0))*Table1[No.]*IF(Table2[[#This Row],[Date]]=Table1[Date],1,0),1),0)} -> 71 | S53: {=IFERROR(LARGE(_xlfn._xlws.FILTER(Table1[[F1]:[EN2]],IF(Table2[[#This Row],[F Line]]=Table1[[#Headers],[F1]:[EN2]],1,0))*Table1[No.]*IF(Table2[[#This Row],[Date]]=Table1[Date],1,0),2),0)} -> 24 | T53: {=IFERROR(LARGE(_xlfn._xlws.FILTER(Table1[[F1]:[EN2]],IF(Table2[[#This Row],[F Line]]=Table1[[#Headers],[F1]:[EN2]],1,0))*Table1[No.]*IF(Table2[[#This Row],[Date]]=Table1[Date],1,0),3),0)} -> 16 | U53: {=IFERROR(IF(Table2[[#This Row],[D Pair]]="",LARGE(_xlfn._xlws.FILTER(Table1[[F1]:[EN2]],IF(Table2[[#This Row],[F Line]]=Table1[[#Headers],[F1]:[EN2]],1,0))*Table1[No.]*IF(Table2[[#This Row],[Date]]=Table1[Date],1,0),4),LARGE(_xlfn._xlws.FILTER(Table1[[F1]:[EN2]],IF(Table2[[#This Row],[D Pair]]=Table1[[#Headers],[F1]:[EN2]],1,0))*Table1[No.]*IF(Table2[[#This Row],[Date]]=Table1[Date],1,0),1)),0)} -> 59 | V53: {=IFERROR(IF(Table2[[#This Row],[D Pair]]="",LARGE(_xlfn._xlws.FILTER(Table1[[F1]:[EN2]],IF(Table2[[#This Row],[F Line]]=Table1[[#Headers],[F1]:[EN2]],1,0))*Table1[No.]*IF(Table2[[#This Row],[Date]]=Table1[Date],1,0),5),LARGE(_xlfn._xlws.FILTER(Table1[[F1]:[EN2]],IF(Table2[[#This Row],[D Pair]]=Table1[[#Headers],[F1]:[EN2]],1,0))*Table1[No.]*IF(Table2[[#This Row],[Date]]=Table1[Date],1,0),2)),0)} -> 2 | W53: =IF(Table2[[#This Row],[Type]]="Goal",1,0) -> 0 | X53: =IF(OR(Table2[[#This Row],[Type]]="Goal",Table2[[#This Row],[Type]]="Shot"),1,0) -> 0 | Y53: =IF(OR(Table2[[#This Row],[Type]]="Goal",Table2[[#This Row],[Type]]="Shot",Table2[[#This Row],[Type]]="Miss"),1,0) -> 1 | Z53: =IF(OR(Table2[[#This Row],[Type]]="Goal",Table2[[#This Row],[Type]]="Shot",Table2[[#This Row],[Type]]="Miss",Table2[[#This Row],[Type]]="Block"),1,0) -> 1 | AA53: =IF(OR(Table2[[#This Row],[Date]]=Visualization!$AH$12,Visualization!$AH$12="All"),1,0)*IF(OR(Visualization!$AS$12="All",Visualization!$AS$12=Table2[[#This Row],[Period]]),1,0)*IF(OR(Table2[[#This Row],[Type]]=Visualization!$BD$12,Visualization!$BD$12="All"),1,0)*IF(OR(Visualization!$BO$12="All",Visualization!$BO$12=Table2[[#This Row],[Strength]]),1,0) -> 1 | AB53: =IF(Table2[[#This Row],[Player]]=Visualization!$AR$2,1,0) -> 0 | AC53: =IF(OR(Table2[[#This Row],[PIT1]]=Visualization!$AR$2,Table2[[#This Row],[PIT2]]=Visualization!$AR$2,Table2[[#This Row],[PIT3]]=Visualization!$AR$2,Table2[[#This Row],[PIT4]]=Visualization!$AR$2,Table2[[#This Row],[PIT5]]=Visualization!$AR$2,Table2[[#This Row],[Goaltender]]=Visualization!$AR$2),1,0) -> 0 | AF53: =_xlfn.XLOOKUP(AE53,Table2[Shot No.],Table2[x2],300) -> 300 | AG53: =_xlfn.XLOOKUP(AE53,Table2[Shot No.],Table2[y2],300) -> 300 | AJ53: =_xlfn.XLOOKUP(AI53,Table2[Shot No.],Table2[x2],300) -> 300 | AK53: =_xlfn.XLOOKUP(AI53,Table2[Shot No.],Table2[y2],300) -> 300 | AN53: =_xlfn.XLOOKUP(AM53,Table2[Shot No.],Table2[x2],300) -> 300 | AO53: =_xlfn.XLOOKUP(AM53,Table2[Shot No.],Table2[y2],300) -> 300
A54: 2 | B54: T.B | D54: Shot | E54: -53 | F54: -19 | G54: F1 | H54: D3 | K54: 35 | M54: EV | N54: 44481 | O54: =ROW(O53) -> 53 | P54: {=_xlfn.XLOOKUP(Table2[[#This Row],[Date]]&Table2[[#This Row],[Period]],Table3[Date]&Table3[Period],Table3[Coordinate])*Table2[[#This Row],[X]]} -> -53 | Q54: {=_xlfn.XLOOKUP(Table2[[#This Row],[Date]]&Table2[[#This Row],[Period]],Table3[Date]&Table3[Period],Table3[Coordinate])*Table2[[#This Row],[Y]]} -> -19 | R54: {=IFERROR(LARGE(_xlfn._xlws.FILTER(Table1[[F1]:[EN2]],IF(Table2[[#This Row],[F Line]]=Table1[[#Headers],[F1]:[EN2]],1,0))*Table1[No.]*IF(Table2[[#This Row],[Date]]=Table1[Date],1,0),1),0)} -> 71 | S54: {=IFERROR(LARGE(_xlfn._xlws.FILTER(Table1[[F1]:[EN2]],IF(Table2[[#This Row],[F Line]]=Table1[[#Headers],[F1]:[EN2]],1,0))*Table1[No.]*IF(Table2[[#This Row],[Date]]=Table1[Date],1,0),2),0)} -> 24 | T54: {=IFERROR(LARGE(_xlfn._xlws.FILTER(Table1[[F1]:[EN2]],IF(Table2[[#This Row],[F Line]]=Table1[[#Headers],[F1]:[EN2]],1,0))*Table1[No.]*IF(Table2[[#This Row],[Date]]=Table1[Date],1,0),3),0)} -> 16 | U54: {=IFERROR(IF(Table2[[#This Row],[D Pair]]="",LARGE(_xlfn._xlws.FILTER(Table1[[F1]:[EN2]],IF(Table2[[#This Row],[F Line]]=Table1[[#Headers],[F1]:[EN2]],1,0))*Table1[No.]*IF(Table2[[#This Row],[Date]]=Table1[Date],1,0),4),LARGE(_xlfn._xlws.FILTER(Table1[[F1]:[EN2]],IF(Table2[[#This Row],[D Pair]]=Table1[[#Headers],[F1]:[EN2]],1,0))*Table1[No.]*IF(Table2[[#This Row],[Date]]=Table1[Date],1,0),1)),0)} -> 59 | V54: {=IFERROR(IF(Table2[[#This Row],[D Pair]]="",LARGE(_xlfn._xlws.FILTER(Table1[[F1]:[EN2]],IF(Table2[[#This Row],[F Line]]=Table1[[#Headers],[F1]:[EN2]],1,0))*Table1[No.]*IF(Table2[[#This Row],[Date]]=Table1[Date],1,0),5),LARGE(_xlfn._xlws.FILTER(Table1[[F1]:[EN2]],IF(Table2[[#This Row],[D Pair]]=Table1[[#Headers],[F1]:[EN2]],1,0))*Table1[No.]*IF(Table2[[#This Row],[Date]]=Table1[Date],1,0),2)),0)} -> 2 | W54: =IF(Table2[[#This Row],[Type]]="Goal",1,0) -> 0 | X54: =IF(OR(Table2[[#This Row],[Type]]="Goal",Table2[[#This Row],[Type]]="Shot"),1,0) -> 1 | Y54: =IF(OR(Table2[[#This Row],[Type]]="Goal",Table2[[#This Row],[Type]]="Shot",Table2[[#This Row],[Type]]="Miss"),1,0) -> 1 | Z54: =IF(OR(Table2[[#This Row],[Type]]="Goal",Table2[[#This Row],[Type]]="Shot",Table2[[#This Row],[Type]]="Miss",Table2[[#This Row],[Type]]="Block"),1,0) -> 1 | AA54: =IF(OR(Table2[[#This Row],[Date]]=Visualization!$AH$12,Visualization!$AH$12="All"),1,0)*IF(OR(Visualization!$AS$12="All",Visualization!$AS$12=Table2[[#This Row],[Period]]),1,0)*IF(OR(Table2[[#This Row],[Type]]=Visualization!$BD$12,Visualization!$BD$12="All"),1,0)*IF(OR(Visualization!$BO$12="All",Visualization!$BO$12=Table2[[#This Row],[Strength]]),1,0) -> 1 | AB54: =IF(Table2[[#This Row],[Player]]=Visualization!$AR$2,1,0) -> 0 | AC54: =IF(OR(Table2[[#This Row],[PIT1]]=Visualization!$AR$2,Table2[[#This Row],[PIT2]]=Visualization!$AR$2,Table2[[#This Row],[PIT3]]=Visualization!$AR$2,Table2[[#This Row],[PIT4]]=Visualization!$AR$2,Table2[[#This Row],[PIT5]]=Visualization!$AR$2,Table2[[#This Row],[Goaltender]]=Visualization!$AR$2),1,0) -> 0 | AF54: =_xlfn.XLOOKUP(AE54,Table2[Shot No.],Table2[x2],300) -> 300 | AG54: =_xlfn.XLOOKUP(AE54,Table2[Shot No.],Table2[y2],300) -> 300 | AJ54: =_xlfn.XLOOKUP(AI54,Table2[Shot No.],Table2[x2],300) -> 300 | AK54: =_xlfn.XLOOKUP(AI54,Table2[Shot No.],Table2[y2],300) -> 300 | AN54: =_xlfn.XLOOKUP(AM54,Table2[Shot No.],Table2[x2],300) -> 300 | AO54: =_xlfn.XLOOKUP(AM54,Table2[Shot No.],Table2[y2],300) -> 300
A55: 2 | B55: PIT | C55: 43 | D55: Shot | E55: 83 | F55: 6 | G55: F2 | H55: D2 | K55: 35 | M55: EV | N55: 44481 | O55: =ROW(O54) -> 54 | P55: {=_xlfn.XLOOKUP(Table2[[#This Row],[Date]]&Table2[[#This Row],[Period]],Table3[Date]&Table3[Period],Table3[Coordinate])*Table2[[#This Row],[X]]} -> 83 | Q55: {=_xlfn.XLOOKUP(Table2[[#This Row],[Date]]&Table2[[#This Row],[Period]],Table3[Date]&Table3[Period],Table3[Coordinate])*Table2[[#This Row],[Y]]} -> 6 | R55: {=IFERROR(LARGE(_xlfn._xlws.FILTER(Table1[[F1]:[EN2]],IF(Table2[[#This Row],[F Line]]=Table1[[#Headers],[F1]:[EN2]],1,0))*Table1[No.]*IF(Table2[[#This Row],[Date]]=Table1[Date],1,0),1),0)} -> 77 | S55: {=IFERROR(LARGE(_xlfn._xlws.FILTER(Table1[[F1]:[EN2]],IF(Table2[[#This Row],[F Line]]=Table1[[#Headers],[F1]:[EN2]],1,0))*Table1[No.]*IF(Table2[[#This Row],[Date]]=Table1[Date],1,0),2),0)} -> 43 | T55: {=IFERROR(LARGE(_xlfn._xlws.FILTER(Table1[[F1]:[EN2]],IF(Table2[[#This Row],[F Line]]=Table1[[#Headers],[F1]:[EN2]],1,0))*Table1[No.]*IF(Table2[[#This Row],[Date]]=Table1[Date],1,0),3),0)} -> 17 | U55: {=IFERROR(IF(Table2[[#This Row],[D Pair]]="",LARGE(_xlfn._xlws.FILTER(Table1[[F1]:[EN2]],IF(Table2[[#This Row],[F Line]]=Table1[[#Headers],[F1]:[EN2]],1,0))*Table1[No.]*IF(Table2[[#This Row],[Date]]=Table1[Date],1,0),4),LARGE(_xlfn._xlws.FILTER(Table1[[F1]:[EN2]],IF(Table2[[#This Row],[D Pair]]=Table1[[#Headers],[F1]:[EN2]],1,0))*Table1[No.]*IF(Table2[[#This Row],[Date]]=Table1[Date],1,0),1)),0)} -> 28 | V55: {=IFERROR(IF(Table2[[#This Row],[D Pair]]="",LARGE(_xlfn._xlws.FILTER(Table1[[F1]:[EN2]],IF(Table2[[#This Row],[F Line]]=Table1[[#Headers],[F1]:[EN2]],1,0))*Table1[No.]*IF(Table2[[#This Row],[Date]]=Table1[Date],1,0),5),LARGE(_xlfn._xlws.FILTER(Table1[[F1]:[EN2]],IF(Table2[[#This Row],[D Pair]]=Table1[[#Headers],[F1]:[EN2]],1,0))*Table1[No.]*IF(Table2[[#This Row],[Date]]=Table1[Date],1,0),2)),0)} -> 6 | W55: =IF(Table2[[#This Row],[Type]]="Goal",1,0) -> 0 | X55: =IF(OR(Table2[[#This Row],[Type]]="Goal",Table2[[#This Row],[Type]]="Shot"),1,0) -> 1 | Y55: =IF(OR(Table2[[#This Row],[Type]]="Goal",Table2[[#This Row],[Type]]="Shot",Table2[[#This Row],[Type]]="Miss"),1,0) -> 1 | Z55: =IF(OR(Table2[[#This Row],[Type]]="Goal",Table2[[#This Row],[Type]]="Shot",Table2[[#This Row],[Type]]="Miss",Table2[[#This Row],[Type]]="Block"),1,0) -> 1 | AA55: =IF(OR(Table2[[#This Row],[Date]]=Visualization!$AH$12,Visualization!$AH$12="All"),1,0)*IF(OR(Visualization!$AS$12="All",Visualization!$AS$12=Table2[[#This Row],[Period]]),1,0)*IF(OR(Table2[[#This Row],[Type]]=Visualization!$BD$12,Visualization!$BD$12="All"),1,0)*IF(OR(Visualization!$BO$12="All",Visualization!$BO$12=Table2[[#This Row],[Strength]]),1,0) -> 1 | AB55: =IF(Table2[[#This Row],[Player]]=Visualization!$AR$2,1,0) -> 0 | AC55: =IF(OR(Table2[[#This Row],[PIT1]]=Visualization!$AR$2,Table2[[#This Row],[PIT2]]=Visualization!$AR$2,Table2[[#This Row],[PIT3]]=Visualization!$AR$2,Table2[[#This Row],[PIT4]]=Visualization!$AR$2,Table2[[#This Row],[PIT5]]=Visualization!$AR$2,Table2[[#This Row],[Goaltender]]=Visualization!$AR$2),1,0) -> 1 | AF55: =_xlfn.XLOOKUP(AE55,Table2[Shot No.],Table2[x2],300) -> 300 | AG55: =_xlfn.XLOOKUP(AE55,Table2[Shot No.],Table2[y2],300) -> 300 | AJ55: =_xlfn.XLOOKUP(AI55,Table2[Shot No.],Table2[x2],300) -> 300 | AK55: =_xlfn.XLOOKUP(AI55,Table2[Shot No.],Table2[y2],300) -> 300 | AN55: =_xlfn.XLOOKUP(AM55,Table2[Shot No.],Table2[x2],300) -> 300 | AO55: =_xlfn.XLOOKUP(AM55,Table2[Shot No.],Table2[y2],300) -> 300
A56: 2 | B56: PIT | C56: 43 | D56: Shot | E56: 74 | F56: 10 | G56: F2 | H56: D2 | K56: 35 | M56: EV | N56: 44481 | O56: =ROW(O55) -> 55 | P56: {=_xlfn.XLOOKUP(Table2[[#This Row],[Date]]&Table2[[#This Row],[Period]],Table3[Date]&Table3[Period],Table3[Coordinate])*Table2[[#This Row],[X]]} -> 74 | Q56: {=_xlfn.XLOOKUP(Table2[[#This Row],[Date]]&Table2[[#This Row],[Period]],Table3[Date]&Table3[Period],Table3[Coordinate])*Table2[[#This Row],[Y]]} -> 10 | R56: {=IFERROR(LARGE(_xlfn._xlws.FILTER(Table1[[F1]:[EN2]],IF(Table2[[#This Row],[F Line]]=Table1[[#Headers],[F1]:[EN2]],1,0))*Table1[No.]*IF(Table2[[#This Row],[Date]]=Table1[Date],1,0),1),0)} -> 77 | S56: {=IFERROR(LARGE(_xlfn._xlws.FILTER(Table1[[F1]:[EN2]],IF(Table2[[#This Row],[F Line]]=Table1[[#Headers],[F1]:[EN2]],1,0))*Table1[No.]*IF(Table2[[#This Row],[Date]]=Table1[Date],1,0),2),0)} -> 43 | T56: {=IFERROR(LARGE(_xlfn._xlws.FILTER(Table1[[F1]:[EN2]],IF(Table2[[#This Row],[F Line]]=Table1[[#Headers],[F1]:[EN2]],1,0))*Table1[No.]*IF(Table2[[#This Row],[Date]]=Table1[Date],1,0),3),0)} -> 17 | U56: {=IFERROR(IF(Table2[[#This Row],[D Pair]]="",LARGE(_xlfn._xlws.FILTER(Table1[[F1]:[EN2]],IF(Table2[[#This Row],[F Line]]=Table1[[#Headers],[F1]:[EN2]],1,0))*Table1[No.]*IF(Table2[[#This Row],[Date]]=Table1[Date],1,0),4),LARGE(_xlfn._xlws.FILTER(Table1[[F1]:[EN2]],IF(Table2[[#This Row],[D Pair]]=Table1[[#Headers],[F1]:[EN2]],1,0))*Table1[No.]*IF(Table2[[#This Row],[Date]]=Table1[Date],1,0),1)),0)} -> 28 | V56: {=IFERROR(IF(Table2[[#This Row],[D Pair]]="",LARGE(_xlfn._xlws.FILTER(Table1[[F1]:[EN2]],IF(Table2[[#This Row],[F Line]]=Table1[[#Headers],[F1]:[EN2]],1,0))*Table1[No.]*IF(Table2[[#This Row],[Date]]=Table1[Date],1,0),5),LARGE(_xlfn._xlws.FILTER(Table1[[F1]:[EN2]],IF(Table2[[#This Row],[D Pair]]=Table1[[#Headers],[F1]:[EN2]],1,0))*Table1[No.]*IF(Table2[[#This Row],[Date]]=Table1[Date],1,0),2)),0)} -> 6 | W56: =IF(Table2[[#This Row],[Type]]="Goal",1,0) -> 0 | X56: =IF(OR(Table2[[#This Row],[Type]]="Goal",Table2[[#This Row],[Type]]="Shot"),1,0) -> 1 | Y56: =IF(OR(Table2[[#This Row],[Type]]="Goal",Table2[[#This Row],[Type]]="Shot",Table2[[#This Row],[Type]]="Miss"),1,0) -> 1 | Z56: =IF(OR(Table2[[#This Row],[Type]]="Goal",Table2[[#This Row],[Type]]="Shot",Table2[[#This Row],[Type]]="Miss",Table2[[#This Row],[Type]]="Block"),1,0) -> 1 | AA56: =IF(OR(Table2[[#This Row],[Date]]=Visualization!$AH$12,Visualization!$AH$12="All"),1,0)*IF(OR(Visualization!$AS$12="All",Visualization!$AS$12=Table2[[#This Row],[Period]]),1,0)*IF(OR(Table2[[#This Row],[Type]]=Visualization!$BD$12,Visualization!$BD$12="All"),1,0)*IF(OR(Visualization!$BO$12="All",Visualization!$BO$12=Table2[[#This Row],[Strength]]),1,0) -> 1 | AB56: =IF(Table2[[#This Row],[Player]]=Visualization!$AR$2,1,0) -> 0 | AC56: =IF(OR(Table2[[#This Row],[PIT1]]=Visualization!$AR$2,Table2[[#This Row],[PIT2]]=Visualization!$AR$2,Table2[[#This Row],[PIT3]]=Visualization!$AR$2,Table2[[#This Row],[PIT4]]=Visualization!$AR$2,Table2[[#This Row],[PIT5]]=Visualization!$AR$2,Table2[[#This Row],[Goaltender]]=Visualization!$AR$2),1,0) -> 1 | AF56: =_xlfn.XLOOKUP(AE56,Table2[Shot No.],Table2[x2],300) -> 300 | AG56: =_xlfn.XLOOKUP(AE56,Table2[Shot No.],Table2[y2],300) -> 300 | AJ56: =_xlfn.XLOOKUP(AI56,Table2[Shot No.],Table2[x2],300) -> 300 | AK56: =_xlfn.XLOOKUP(AI56,Table2[Shot No.],Table2[y2],300) -> 300 | AN56: =_xlfn.XLOOKUP(AM56,Table2[Shot No.],Table2[x2],300) -> 300 | AO56: =_xlfn.XLOOKUP(AM56,Table2[Shot No.],Table2[y2],300) -> 300
A57: 2 | B57: PIT | C57: 16 | D57: Shot | E57: 79 | F57: 13 | G57: F1 | H57: D2 | K57: 35 | M57: EV | N57: 44481 | O57: =ROW(O56) -> 56 | P57: {=_xlfn.XLOOKUP(Table2[[#This Row],[Date]]&Table2[[#This Row],[Period]],Table3[Date]&Table3[Period],Table3[Coordinate])*Table2[[#This Row],[X]]} -> 79 | Q57: {=_xlfn.XLOOKUP(Table2[[#This Row],[Date]]&Table2[[#This Row],[Period]],Table3[Date]&Table3[Period],Table3[Coordinate])*Table2[[#This Row],[Y]]} -> 13 | R57: {=IFERROR(LARGE(_xlfn._xlws.FILTER(Table1[[F1]:[EN2]],IF(Table2[[#This Row],[F Line]]=Table1[[#Headers],[F1]:[EN2]],1,0))*Table1[No.]*IF(Table2[[#This Row],[Date]]=Table1[Date],1,0),1),0)} -> 71 | S57: {=IFERROR(LARGE(_xlfn._xlws.FILTER(Table1[[F1]:[EN2]],IF(Table2[[#This Row],[F Line]]=Table1[[#Headers],[F1]:[EN2]],1,0))*Table1[No.]*IF(Table2[[#This Row],[Date]]=Table1[Date],1,0),2),0)} -> 24 | T57: {=IFERROR(LARGE(_xlfn._xlws.FILTER(Table1[[F1]:[EN2]],IF(Table2[[#This Row],[F Line]]=Table1[[#Headers],[F1]:[EN2]],1,0))*Table1[No.]*IF(Table2[[#This Row],[Date]]=Table1[Date],1,0),3),0)} -> 16 | U57: {=IFERROR(IF(Table2[[#This Row],[D Pair]]="",LARGE(_xlfn._xlws.FILTER(Table1[[F1]:[EN2]],IF(Table2[[#This Row],[F Line]]=Table1[[#Headers],[F1]:[EN2]],1,0))*Table1[No.]*IF(Table2[[#This Row],[Date]]=Table1[Date],1,0),4),LARGE(_xlfn._xlws.FILTER(Table1[[F1]:[EN2]],IF(Table2[[#This Row],[D Pair]]=Table1[[#Headers],[F1]:[EN2]],1,0))*Table1[No.]*IF(Table2[[#This Row],[Date]]=Table1[Date],1,0),1)),0)} -> 28 | V57: {=IFERROR(IF(Table2[[#This Row],[D Pair]]="",LARGE(_xlfn._xlws.FILTER(Table1[[F1]:[EN2]],IF(Table2[[#This Row],[F Line]]=Table1[[#Headers],[F1]:[EN2]],1,0))*Table1[No.]*IF(Table2[[#This Row],[Date]]=Table1[Date],1,0),5),LARGE(_xlfn._xlws.FILTER(Table1[[F1]:[EN2]],IF(Table2[[#This Row],[D Pair]]=Table1[[#Headers],[F1]:[EN2]],1,0))*Table1[No.]*IF(Table2[[#This Row],[Date]]=Table1[Date],1,0),2)),0)} -> 6 | W57: =IF(Table2[[#This Row],[Type]]="Goal",1,0) -> 0 | X57: =IF(OR(Table2[[#This Row],[Type]]="Goal",Table2[[#This Row],[Type]]="Shot"),1,0) -> 1 | Y57: =IF(OR(Table2[[#This Row],[Type]]="Goal",Table2[[#This Row],[Type]]="Shot",Table2[[#This Row],[Type]]="Miss"),1,0) -> 1 | Z57: =IF(OR(Table2[[#This Row],[Type]]="Goal",Table2[[#This Row],[Type]]="Shot",Table2[[#This Row],[Type]]="Miss",Table2[[#This Row],[Type]]="Block"),1,0) -> 1 | AA57: =IF(OR(Table2[[#This Row],[Date]]=Visualization!$AH$12,Visualization!$AH$12="All"),1,0)*IF(OR(Visualization!$AS$12="All",Visualization!$AS$12=Table2[[#This Row],[Period]]),1,0)*IF(OR(Table2[[#This Row],[Type]]=Visualization!$BD$12,Visualization!$BD$12="All"),1,0)*IF(OR(Visualization!$BO$12="All",Visualization!$BO$12=Table2[[#This Row],[Strength]]),1,0) -> 1 | AB57: =IF(Table2[[#This Row],[Player]]=Visualization!$AR$2,1,0) -> 0 | AC57: =IF(OR(Table2[[#This Row],[PIT1]]=Visualization!$AR$2,Table2[[#This Row],[PIT2]]=Visualization!$AR$2,Table2[[#This Row],[PIT3]]=Visualization!$AR$2,Table2[[#This Row],[PIT4]]=Visualization!$AR$2,Table2[[#This Row],[PIT5]]=Visualization!$AR$2,Table2[[#This Row],[Goaltender]]=Visualization!$AR$2),1,0) -> 0 | AF57: =_xlfn.XLOOKUP(AE57,Table2[Shot No.],Table2[x2],300) -> 300 | AG57: =_xlfn.XLOOKUP(AE57,Table2[Shot No.],Table2[y2],300) -> 300 | AJ57: =_xlfn.XLOOKUP(AI57,Table2[Shot No.],Table2[x2],300) -> 300 | AK57: =_xlfn.XLOOKUP(AI57,Table2[Shot No.],Table2[y2],300) -> 300 | AN57: =_xlfn.XLOOKUP(AM57,Table2[Shot No.],Table2[x2],300) -> 300 | AO57: =_xlfn.XLOOKUP(AM57,Table2[Shot No.],Table2[y2],300) -> 300
