Workbook

Sheet Visualization
H2: JEFF CARTER | AR2: =_xlfn.XLOOKUP($H$2,Table1[Player],Table1[No.],"") -> 77 | AY2: =_xlfn.XLOOKUP($H$2,Table1[Player],Table1[Position],"") -> F | BF2: =SUMIFS(Table2[Corsi],Table2[Condition],1,Table2[On-Ice],1,Table2[Team],"PIT")-SUMIFS(Table2[Corsi],Table2[Condition],1,Table2[On-Ice],1,Table2[Team],"<>" &"PIT") -> 0 | BM2: =SUMIFS(Table2[Shot],Table2[Condition],1,Table2[On-Ice],1,Table2[Team],"PIT")-SUMIFS(Table2[Shot],Table2[Condition],1,Table2[On-Ice],1,Table2[Team],"<>" &"PIT") -> -1 | BT2: =SUMIFS(Table2[Goal],Table2[Condition],1,Table2[On-Ice],1,Table2[Team],"PIT")-SUMIFS(Table2[Goal],Table2[Condition],1,Table2[On-Ice],1,Table2[Team],"<>" &"PIT") -> 1
AR8: Number | AY8: Position | BF8: C+/- | BM8: S+/- | BT8: G+/-
B9: Individual
W10: =_xlfn.XLOOKUP($AH$12,Table1[Date],Table1[Game],"") -> at T.B | AH10: Date | AS10: Period | BD10: Event type | BO10: Strength
B12: =SUMIFS(Table2[Goal],Table2[Condition],1,Table2[Individual],1) -> 0 | I12: =COUNTIFS(Table2[A1],Visualization!$AR$2,Table2[Condition],1)+COUNTIFS(Table2[A2],Visualization!$AR$2,Table2[Condition],1) -> 1 | P12: =SUMIFS(Table2[Corsi],Table2[Condition],1,Table2[Individual],1) -> 2 | AH12: 44481 | AS12: All | BD12: All | BO12: EV
B18: Goal | I18: Assist | O18: Shot attempts
B20: On-Ice
B23: =IFERROR(SUMIFS(Table2[Corsi],Table2[Condition],1,Table2[On-Ice],1,Table2[Team],"PIT")/(SUMIFS(Table2[Corsi],Table2[Condition],1,Table2[On-Ice],1,Table2[Team],"PIT")+SUMIFS(Table2[Corsi],Table2[Condition],1,Table2[On-Ice],1,Table2[Team],"<>" &"PIT")),0.5) -> 0.5 | I23: =IFERROR(SUMIFS(Table2[Shot],Table2[Condition],1,Table2[On-Ice],1,Table2[Team],"PIT")/(SUMIFS(Table2[Shot],Table2[Condition],1,Table2[On-Ice],1,Table2[Team],"PIT")+SUMIFS(Table2[Shot],Table2[Condition],1,Table2[On-Ice],1,Table2[Team],"<>" &"PIT")),0.5) -> 0.47368421 | P23: =IFERROR(SUMIFS(Table2[Goal],Table2[Condition],1,Table2[On-Ice],1,Table2[Team],"PIT")/(SUMIFS(Table2[Goal],Table2[Condition],1,Table2[On-Ice],1,Table2[Team],"PIT")+SUMIFS(Table2[Goal],Table2[Condition],1,Table2[On-Ice],1,Table2[Team],"<>" &"PIT")),0.5) -> 1
B29: CF% | I29: SF% | P29: GF%
B31: =SUMIFS(Table2[Goal],Table2[Condition],1,Table2[On-Ice],1,Table2[Team],"PIT")/SUMIFS(Table2[Shot],Table2[Condition],1,Table2[On-Ice],1,Table2[Team],"PIT") -> 0.11111111 | I31: =1-SUMIFS(Table2[Goal],Table2[Condition],1,Table2[On-Ice],1,Table2[Team],"<>" &"PIT")/SUMIFS(Table2[Shot],Table2[Condition],1,Table2[On-Ice],1,Table2[Team],"<>" &"PIT") -> 1 | P31: =B31+I31 -> 1.1111111
B37: oi-Sh% | I37: oi-Sv% | P37: oi-PDO
B39: Shot Viz created by @HockeySkytte | AL39: Shots tracked via https://shot-plotter.netlify.app/

Sheet Shot events
A1: Period | B1: Team | C1: Player | D1: Type | E1: X | F1: Y | G1: F Line | H1: D Pair | I1: A1 | J1: A2 | K1: Goaltender | L1: Distance | M1: Strength | N1: Date | O1: Shot No. | P1: x2 | Q1: y2 | R1: PIT1 | S1: PIT2 | T1: PIT3 | U1: PIT4 | V1: PIT5 | W1: Goal | X1: Shot | Y1: Fenwick | Z1: Corsi | AA1: Condition | AB1: Individual | AC1: On-Ice | AE1: Individual | AF1: x | AG1: y | AI1: On-Ice For | AJ1: x | AK1: y | AM1: On-Ice Ageainst | AN1: x | AO1: y
A2: 1 | B2: T.B | D2: Shot | E2: -61 | F2: 32 | G2: F1 | H2: D2 | K2: 35 | M2: EV | N2: 44481 | O2: =ROW(O1) -> 1 | P2: {=_xlfn.XLOOKUP(Table2[[#This Row],[Date]]&Table2[[#This Row],[Period]],Table3[Date]&Table3[Period],Table3[Coordinate])*Table2[[#This Row],[X]]} -> -61 | Q2: {=_xlfn.XLOOKUP(Table2[[#This Row],[Date]]&Table2[[#This Row],[Period]],Table3[Date]&Table3[Period],Table3[Coordinate])*Table2[[#This Row],[Y]]} -> 32 | R2: {=IFERROR(LARGE(_xlfn._xlws.FILTER(Table1[[F1]:[EN2]],IF(Table2[[#This Row],[F Line]]=Table1[[#Headers],[F1]:[EN2]],1,0))*Table1[No.]*IF(Table2[[#This Row],[Date]]=Table1[Date],1,0),1),0)} -> 71 | S2: {=IFERROR(LARGE(_xlfn._xlws.FILTER(Table1[[F1]:[EN2]],IF(Table2[[#This Row],[F Line]]=Table1[[#Headers],[F1]:[EN2]],1,0))*Table1[No.]*IF(Table2[[#This Row],[Date]]=Table1[Date],1,0),2),0)} -> 24 | T2: {=IFERROR(LARGE(_xlfn._xlws.FILTER(Table1[[F1]:[EN2]],IF(Table2[[#This Row],[F Line]]=Table1[[#Headers],[F1]:[EN2]],1,0))*Table1[No.]*IF(Table2[[#This Row],[Date]]=Table1[Date],1,0),3),0)} -> 16 | U2: {=IFERROR(IF(Table2[[#This Row],[D Pair]]="",LARGE(_xlfn._xlws.FILTER(Table1[[F1]:[EN2]],IF(Table2[[#This Row],[F Line]]=Table1[[#Headers],[F1]:[EN2]],1,0))*Table1[No.]*IF(Table2[[#This Row],[Date]]=Table1[Date],1,0),4),LARGE(_xlfn._xlws.FILTER(Table1[[F1]:[EN2]],IF(Table2[[#This Row],[D Pair]]=Table1[[#Headers],[F1]:[EN2]],1,0))*Table1[No.]*IF(Table2[[#This Row],[Date]]=Table1[Date],1,0),1)),0)} -> 28 | V2: {=IFERROR(IF(Table2[[#This Row],[D Pair]]="",LARGE(_xlfn._xlws.FILTER(Table1[[F1]:[EN2]],IF(Table2[[#This Row],[F Line]]=Table1[[#Headers],[F1]:[EN2]],1,0))*Table1[No.]*IF(Table2[[#This Row],[Date]]=Table1[Date],1,0),5),LARGE(_xlfn._xlws.FILTER(Table1[[F1]:[EN2]],IF(Table2[[#This Row],[D Pair]]=Table1[[#Headers],[F1]:[EN2]],1,0))*Table1[No.]*IF(Table2[[#This Row],[Date]]=Table1[Date],1,0),2)),0)} -> 6 | W2: =IF(Table2[[#This Row],[Type]]="Goal",1,0) -> 0 | X2: =IF(OR(Table2[[#This Row],[Type]]="Goal",Table2[[#This Row],[Type]]="Shot"),1,0) -> 1 | Y2: =IF(OR(Table2[[#This Row],[Type]]="Goal",Table2[[#This Row],[Type]]="Shot",Table2[[#This Row],[Type]]="Miss"),1,0) -> 1 | Z2: =IF(OR(Table2[[#This Row],[Type]]="Goal",Table2[[#This Row],[Type]]="Shot",Table2[[#This Row],[Type]]="Miss",Table2[[#This Row],[Type]]="Block"),1,0) -> 1 | AA2: =IF(OR(Table2[[#This Row],[Date]]=Visualization!$AH$12,Visualization!$AH$12="All"),1,0)*IF(OR(Visualization!$AS$12="All",Visualization!$AS$12=Table2[[#This Row],[Period]]),1,0)*IF(OR(Table2[[#This Row],[Type]]=Visualization!$BD$12,Visualization!$BD$12="All"),1,0)*IF(OR(Visualization!$BO$12="All",Visualization!$BO$12=Table2[[#This Row],[Strength]]),1,0) -> 1 | AB2: =IF(Table2[[#This Row],[Player]]=Visualization!$AR$2,1,0) -> 0 | AC2: =IF(OR(Table2[[#This Row],[PIT1]]=Visualization!$AR$2,Table2[[#This Row],[PIT2]]=Visualization!$AR$2,Table2[[#This Row],[PIT3]]=Visualization!$AR$2,Table2[[#This Row],[PIT4]]=Visualization!$AR$2,Table2[[#This Row],[PIT5]]=Visualization!$AR$2,Table2[[#This Row],[Goaltender]]=Visualization!$AR$2),1,0) -> 0 | AE2: {=_xlfn._xlws.FILTER(Table2[Shot No.],IF(Table2[Condition]=1,1,0)*IF(Table2[Individual]=1,1,0),"")} -> 24 | AF2: =_xlfn.XLOOKUP(AE2,Table2[Shot No.],Table2[x2],300) -> 48 | AG2: =_xlfn.XLOOKUP(AE2,Table2[Shot No.],Table2[y2],300) -> -4 | AI2: {=_xlfn._xlws.FILTER(Table2[Shot No.],IF(Table2[Condition]=1,1,0)*IF(Table2[On-Ice]=1,1,0)*IF(Table2[Team]="PIT",1,0),"")} -> 5 | AJ2: =_xlfn.XLOOKUP(AI2,Table2[Shot No.],Table2[x2],300) -> 60 | AK2: =_xlfn.XLOOKUP(AI2,Table2[Shot No.],Table2[y2],300) -> 4 | AM2: {=_xlfn._xlws.FILTER(Table2[Shot No.],IF(Table2[Condition]=1,1,0)*IF(Table2[On-Ice]=1,1,0)*IF(Table2[Team]="PIT",0,1),"")} -> 6 | AN2: =_xlfn.XLOOKUP(AM2,Table2[Shot No.],Table2[x2],300) -> -63 | AO2: =_xlfn.XLOOKUP(AM2,Table2[Shot No.],Table2[y2],300) -> -4
A3: 1 | B3: T.B | D3: Block | E3: -60 | F3: 17 | G3: F3 | H3: D1 | K3: 35 | M3: EV | N3: 44481 | O3: =ROW(O2) -> 2 | P3: {=_xlfn.XLOOKUP(Table2[[#This Row],[Date]]&Table2[[#This Row],[Period]],Table3[Date]&Table3[Period],Table3[Coordinate])*Table2[[#This Row],[X]]} -> -60 | Q3: {=_xlfn.XLOOKUP(Table2[[#This Row],[Date]]&Table2[[#This Row],[Period]],Table3[Date]&Table3[Period],Table3[Coordinate])*Table2[[#This Row],[Y]]} -> 17 | R3: {=IFERROR(LARGE(_xlfn._xlws.FILTER(Table1[[F1]:[EN2]],IF(Table2[[#This Row],[F Line]]=Table1[[#Headers],[F1]:[EN2]],1,0))*Table1[No.]*IF(Table2[[#This Row],[Date]]=Table1[Date],1,0),1),0)} -> 53 | S3: {=IFERROR(LARGE(_xlfn._xlws.FILTER(Table1[[F1]:[EN2]],IF(Table2[[#This Row],[F Line]]=Table1[[#Headers],[F1]:[EN2]],1,0))*Table1[No.]*IF(Table2[[#This Row],[Date]]=Table1[Date],1,0),2),0)} -> 23 | T3: {=IFERROR(LARGE(_xlfn._xlws.FILTER(Table1[[F1]:[EN2]],IF(Table2[[#This Row],[F Line]]=Table1[[#Headers],[F1]:[EN2]],1,0))*Table1[No.]*IF(Table2[[#This Row],[Date]]=Table1[Date],1,0),3),0)} -> 12 | U3: {=IFERROR(IF(Table2[[#This Row],[D Pair]]="",LARGE(_xlfn._xlws.FILTER(Table1[[F1]:[EN2]],IF(Table2[[#This Row],[F Line]]=Table1[[#Headers],[F1]:[EN2]],1,0))*Table1[No.]*IF(Table2[[#This Row],[Date]]=Table1[Date],1,0),4),LARGE(_xlfn._xlws.FILTER(Table1[[F1]:[EN2]],IF(Table2[[#This Row],[D Pair]]=Table1[[#Headers],[F1]:[EN2]],1,0))*Table1[No.]*IF(Table2[[#This Row],[Date]]=Table1[Date],1,0),1)),0)} -> 58 | V3: {=IFERROR(IF(Table2[[#This Row],[D Pair]]="",LARGE(_xlfn._xlws.FILTER(Table1[[F1]:[EN2]],IF(Table2[[#This Row],[F Line]]=Table1[[#Headers],[F1]:[EN2]],1,0))*Table1[No.]*IF(Table2[[#This Row],[Date]]=Table1[Date],1,0),5),LARGE(_xlfn._xlws.FILTER(Table1[[F1]:[EN2]],IF(Table2[[#This Row],[D Pair]]=Table1[[#Headers],[F1]:[EN2]],1,0))*Table1[No.]*IF(Table2[[#This Row],[Date]]=Table1[Date],1,0),2)),0)} -> 8 | W3: =IF(Table2[[#This Row],[Type]]="Goal",1,0) -> 0 | X3: =IF(OR(Table2[[#This Row],[Type]]="Goal",Table2[[#This Row],[Type]]="Shot"),1,0) -> 0 | Y3: =IF(OR(Table2[[#This Row],[Type]]="Goal",Table2[[#This Row],[Type]]="Shot",Table2[[#This Row],[Type]]="Miss"),1,0) -> 0 | Z3: =IF(OR(Table2[[#This Row],[Type]]="Goal",Table2[[#This Row],[Type]]="Shot",Table2[[#This Row],[Type]]="Miss",Table2[[#This Row],[Type]]="Block"),1,0) -> 1 | AA3: =IF(OR(Table2[[#This Row],[Date]]=Visualization!$AH$12,Visualization!$AH$12="All"),1,0)*IF(OR(Visualization!$AS$12="All",Visualization!$AS$12=Table2[[#This Row],[Period]]),1,0)*IF(OR(Table2[[#This Row],[Type]]=Visualization!$BD$12,Visualization!$BD$12="All"),1,0)*IF(OR(Visualization!$BO$12="All",Visualization!$BO$12=Table2[[#This Row],[Strength]]),1,0) -> 1 | AB3: =IF(Table2[[#This Row],[Player]]=Visualization!$AR$2,1,0) -> 0 | AC3: =IF(OR(Table2[[#This Row],[PIT1]]=Visualization!$AR$2,Table2[[#This Row],[PIT2]]=Visualization!$AR$2,Table2[[#This Row],[PIT3]]=Visualization!$AR$2,Table2[[#This Row],[PIT4]]=Visualization!$AR$2,Table2[[#This Row],[PIT5]]=Visualization!$AR$2,Table2[[#This Row],[Goaltender]]=Visualization!$AR$2),1,0) -> 0 | AE3: 26 | AF3: =_xlfn.XLOOKUP(AE3,Table2[Shot No.],Table2[x2],300) -> 82 | AG3: =_xlfn.XLOOKUP(AE3,Table2[Shot No.],Table2[y2],300) -> -8 | AI3: 13 | AJ3: =_xlfn.XLOOKUP(AI3,Table2[Shot No.],Table2[x2],300) -> 75 | AK3: =_xlfn.XLOOKUP(AI3,Table2[Shot No.],Table2[y2],300) -> 9 | AM3: 7 | AN3: =_xlfn.XLOOKUP(AM3,Table2[Shot No.],Table2[x2],300) -> -52 | AO3: =_xlfn.XLOOKUP(AM3,Table2[Shot No.],Table2[y2],300) -> 21
A4: 1 | B4: PIT | C4: 23 | D4: Shot | E4: 65 | F4: -19 | G4: F3 | H4: D3 | K4: 35 | M4: EV | N4: 44481 | O4: =ROW(O3) -> 3 | P4: {=_xlfn.XLOOKUP(Table2[[#This Row],[Date]]&Table2[[#This Row],[Period]],Table3[Date]&Table3[Period],Table3[Coordinate])*Table2[[#This Row],[X]]} -> 65 | Q4: {=_xlfn.XLOOKUP(Table2[[#This Row],[Date]]&Table2[[#This Row],[Period]],Table3[Date]&Table3[Period],Table3[Coordinate])*Table2[[#This Row],[Y]]} -> -19 | R4: {=IFERROR(LARGE(_xlfn._xlws.FILTER(Table1[[F1]:[EN2]],IF(Table2[[#This Row],[F Line]]=Table1[[#Headers],[F1]:[EN2]],1,0))*Table1[No.]*IF(Table2[[#This Row],[Date]]=Table1[Date],1,0),1),0)} -> 53 | S4: {=IFERROR(LARGE(_xlfn._xlws.FILTER(Table1[[F1]:[EN2]],IF(Table2[[#This Row],[F Line]]=Table1[[#Headers],[F1]:[EN2]],1,0))*Table1[No.]*IF(Table2[[#This Row],[Date]]=Table1[Date],1,0),2),0)} -> 23 | T4: {=IFERROR(LARGE(_xlfn._xlws.FILTER(Table1[[F1]:[EN2]],IF(Table2[[#This Row],[F Line]]=Table1[[#Headers],[F1]:[EN2]],1,0))*Table1[No.]*IF(Table2[[#This Row],[Date]]=Table1[Date],1,0),3),0)} -> 12 | U4: {=IFERROR(IF(Table2[[#This Row],[D Pair]]="",LARGE(_xlfn._xlws.FILTER(Table1[[F1]:[EN2]],IF(Table2[[#This Row],[F Line]]=Table1[[#Headers],[F1]:[EN2]],1,0))*Table1[No.]*IF(Table2[[#This Row],[Date]]=Table1[Date],1,0),4),LARGE(_xlfn._xlws.FILTER(Table1[[F1]:[EN2]],IF(Table2[[#This Row],[D Pair]]=Table1[[#Headers],[F1]:[EN2]],1,0))*Table1[No.]*IF(Table2[[#This Row],[Date]]=Table1[Date],1,0),1)),0)} -> 59 | V4: {=IFERROR(IF(Table2[[#This Row],[D Pair]]="",LARGE(_xlfn._xlws.FILTER(Table1[[F1]:[EN2]],IF(Table2[[#This Row],[F Line]]=Table1[[#Headers],[F1]:[EN2]],1,0))*Table1[No.]*IF(Table2[[#This Row],[Date]]=Table1[Date],1,0),5),LARGE(_xlfn._xlws.FILTER(Table1[[F1]:[EN2]],IF(Table2[[#This Row],[D Pair]]=Table1[[#Headers],[F1]:[EN2]],1,0))*Table1[No.]*IF(Table2[[#This Row],[Date]]=Table1[Date],1,0),2)),0)} -> 2 | W4: =IF(Table2[[#This Row],[Type]]="Goal",1,0) -> 0 | X4: =IF(OR(Table2[[#This Row],[Type]]="Goal",Table2[[#This Row],[Type]]="Shot"),1,0) -> 1 | Y4: =IF(OR(Table2[[#This Row],[Type]]="Goal",Table2[[#This Row],[Type]]="Shot",Table2[[#This Row],[Type]]="Miss"),1,0) -> 1 | Z4: =IF(OR(Table2[[#This Row],[Type]]="Goal",Table2[[#This Row],[Type]]="Shot",Table2[[#This Row],[Type]]="Miss",Table2[[#This Row],[Type]]="Block"),1,0) -> 1 | AA4: =IF(OR(Table2[[#This Row],[Date]]=Visualization!$AH$12,Visualization!$AH$12="All"),1,0)*IF(OR(Visualization!$AS$12="All",Visualization!$AS$12=Table2[[#This Row],[Period]]),1,0)*IF(OR(Table2[[#This Row],[Type]]=Visualization!$BD$12,Visualization!$BD$12="All"),1,0)*IF(OR(Visualization!$BO$12="All",Visualization!$BO$12=Table2[[#This Row],[Strength]]),1,0) -> 1 | AB4: =IF(Table2[[#This Row],[Player]]=Visualization!$AR$2,1,0) -> 0 | AC4: =IF(OR(Table2[[#This Row],[PIT1]]=Visualization!$AR$2,Table2[[#This Row],[PIT2]]=Visualization!$AR$2,Table2[[#This Row],[PIT3]]=Visualization!$AR$2,Table2[[#This Row],[PIT4]]=Visualization!$AR$2,Table2[[#This Row],[PIT5]]=Visualization!$AR$2,Table2[[#This Row],[Goaltender]]=Visualization!$AR$2),1,0) -> 0 | AF4: =_xlfn.XLOOKUP(AE4,Table2[Shot No.],Table2[x2],300) -> 300 | AG4: =_xlfn.XLOOKUP(AE4,Table2[Shot No.],Table2[y2],300) -> 300 | AI4: 18 | AJ4: =_xlfn.XLOOKUP(AI4,Table2[Shot No.],Table2[x2],300) -> 72 | AK4: =_xlfn.XLOOKUP(AI4,Table2[Shot No.],Table2[y2],300) -> 0 | AM4: 11 | AN4: =_xlfn.XLOOKUP(AM4,Table2[Shot No.],Table2[x2],300) -> -64 | AO4: =_xlfn.XLOOKUP(AM4,Table2[Shot No.],Table2[y2],300) -> -31
A5: 1 | B5: T.B | D5: Shot | E5: 8 | F5: 27 | G5: F4 | H5: D3 | K5: 35 | M5: EV | N5: 44481 | O5: =ROW(O4) -> 4 | P5: {=_xlfn.XLOOKUP(Table2[[#This Row],[Date]]&Table2[[#This Row],[Period]],Table3[Date]&Table3[Period],Table3[Coordinate])*Table2[[#This Row],[X]]} -> 8 | Q5: {=_xlfn.XLOOKUP(Table2[[#This Row],[Date]]&Table2[[#This Row],[Period]],Table3[Date]&Table3[Period],Table3[Coordinate])*Table2[[#This Row],[Y]]} -> 27 | R5: {=IFERROR(LARGE(_xlfn._xlws.FILTER(Table1[[F1]:[EN2]],IF(Table2[[#This Row],[F Line]]=Table1[[#Headers],[F1]:[EN2]],1,0))*Table1[No.]*IF(Table2[[#This Row],[Date]]=Table1[Date],1,0),1),0)} -> 37 | S5: {=IFERROR(LARGE(_xlfn._xlws.FILTER(Table1[[F1]:[EN2]],IF(Table2[[#This Row],[F Line]]=Table1[[#Headers],[F1]:[EN2]],1,0))*Table1[No.]*IF(Table2[[#This Row],[Date]]=Table1[Date],1,0),2),0)} -> 11 | T5: {=IFERROR(LARGE(_xlfn._xlws.FILTER(Table1[[F1]:[EN2]],IF(Table2[[#This Row],[F Line]]=Table1[[#Headers],[F1]:[EN2]],1,0))*Table1[No.]*IF(Table2[[#This Row],[Date]]=Table1[Date],1,0),3),0)} -> 10 | U5: {=IFERROR(IF(Table2[[#This Row],[D Pair]]="",LARGE(_xlfn._xlws.FILTER(Table1[[F1]:[EN2]],IF(Table2[[#This Row],[F Line]]=Table1[[#Headers],[F1]:[EN2]],1,0))*Table1[No.]*IF(Table2[[#This Row],[Date]]=Table1[Date],1,0),4),LARGE(_xlfn._xlws.FILTER(Table1[[F1]:[EN2]],IF(Table2[[#This Row],[D Pair]]=Table1[[#Headers],[F1]:[EN2]],1,0))*Table1[No.]*IF(Table2[[#This Row],[Date]]=Table1[Date],1,0),1)),0)} -> 59 | V5: {=IFERROR(IF(Table2[[#This Row],[D Pair]]="",LARGE(_xlfn._xlws.FILTER(Table1[[F1]:[EN2]],IF(Table2[[#This Row],[F Line]]=Table1[[#Headers],[F1]:[EN2]],1,0))*Table1[No.]*IF(Table2[[#This Row],[Date]]=Table1[Date],1,0),5),LARGE(_xlfn._xlws.FILTER(Table1[[F1]:[EN2]],IF(Table2[[#This Row],[D Pair]]=Table1[[#Headers],[F1]:[EN2]],1,0))*Table1[No.]*IF(Table2[[#This Row],[Date]]=Table1[Date],1,0),2)),0)} -> 2 | W5: =IF(Table2[[#This Row],[Type]]="Goal",1,0) -> 0 | X5: =IF(OR(Table2[[#This Row],[Type]]="Goal",Table2[[#This Row],[Type]]="Shot"),1,0) -> 1 | Y5: =IF(OR(Table2[[#This Row],[Type]]="Goal",Table2[[#This Row],[Type]]="Shot",Table2[[#This Row],[Type]]="Miss"),1,0) -> 1 | Z5: =IF(OR(Table2[[#This Row],[Type]]="Goal",Table2[[#This Row],[Type]]="Shot",Table2[[#This Row],[Type]]="Miss",Table2[[#This Row],[Type]]="Block"),1,0) -> 1 | AA5: =IF(OR(Table2[[#This Row],[Date]]=Visualization!$AH$12,Visualization!$AH$12="All"),1,0)*IF(OR(Visualization!$AS$12="All",Visualization!$AS$12=Table2[[#This Row],[Period]]),1,0)*IF(OR(Table2[[#This Row],[Type]]=Visualization!$BD$12,Visualization!$BD$12="All"),1,0)*IF(OR(Visualization!$BO$12="All",Visualization!$BO$12=Table2[[#This Row],[Strength]]),1,0) -> 1 | AB5: =IF(Table2[[#This Row],[Player]]=Visualization!$AR$2,1,0) -> 0 | AC5: =IF(OR(Table2[[#This Row],[PIT1]]=Visualization!$AR$2,Table2[[#This Row],[PIT2]]=Visualization!$AR$2,Table2[[#This Row],[PIT3]]=Visualization!$AR$2,Table2[[#This Row],[PIT4]]=Visualization!$AR$2,Table2[[#This Row],[PIT5]]=Visualization!$AR$2,Table2[[#This Row],[Goaltender]]=Visualization!$AR$2),1,0) -> 0 | AF5: =_xlfn.XLOOKUP(AE5,Table2[Shot No.],Table2[x2],300) -> 300 | AG5: =_xlfn.XLOOKUP(AE5,Table2[Shot No.],Table2[y2],300) -> 300 | AI5: 24 | AJ5: =_xlfn.XLOOKUP(AI5,Table2[Shot No.],Table2[x2],300) -> 48 | AK5: =_xlfn.XLOOKUP(AI5,Table2[Shot No.],Table2[y2],300) -> -4 | AM5: 12 | AN5: =_xlfn.XLOOKUP(AM5,Table2[Shot No.],Table2[x2],300) -> -76 | AO5: =_xlfn.XLOOKUP(AM5,Table2[Shot No.],Table2[y2],300) -> 1
A6: 1 | B6: PIT | C6: 43 | D6: Shot | E6: 60 | F6: 4 | G6: F2 | H6: D1 | K6: 35 | M6: EV | N6: 44481 | O6: =ROW(O5) -> 5 | P6: {=_xlfn.XLOOKUP(Table2[[#This Row],[Date]]&Table2[[#This Row],[Period]],Table3[Date]&Table3[Period],Table3[Coordinate])*Table2[[#This Row],[X]]} -> 60 | Q6: {=_xlfn.XLOOKUP(Table2[[#This Row],[Date]]&Table2[[#This Row],[Period]],Table3[Date]&Table3[Period],Table3[Coordinate])*Table2[[#This Row],[Y]]} -> 4 | R6: {=IFERROR(LARGE(_xlfn._xlws.FILTER(Table1[[F1]:[EN2]],IF(Table2[[#This Row],[F Line]]=Table1[[#Headers],[F1]:[EN2]],1,0))*Table1[No.]*IF(Table2[[#This Row],[Date]]=Table1[Date],1,0),1),0)} -> 77 | S6: {=IFERROR(LARGE(_xlfn._xlws.FILTER(Table1[[F1]:[EN2]],IF(Table2[[#This Row],[F Line]]=Table1[[#Headers],[F1]:[EN2]],1,0))*Table1[No.]*IF(Table2[[#This Row],[Date]]=Table1[Date],1,0),2),0)} -> 43 | T6: {=IFERROR(LARGE(_xlfn._xlws.FILTER(Table1[[F1]:[EN2]],IF(Table2[[#This Row],[F Line]]=Table1[[#Headers],[F1]:[EN2]],1,0))*Table1[No.]*IF(Table2[[#This Row],[Date]]=Table1[Date],1,0),3),0)} -> 17 | U6: {=IFERROR(IF(Table2[[#This Row],[D Pair]]="",LARGE(_xlfn._xlws.FILTER(Table1[[F1]:[EN2]],IF(Table2[[#This Row],[F Line]]=Table1[[#Headers],[F1]:[EN2]],1,0))*Table1[No.]*IF(Table2[[#This Row],[Date]]=Table1[Date],1,0),4),LARGE(_xlfn._xlws.FILTER(Table1[[F1]:[EN2]],IF(Table2[[#This Row],[D Pair]]=Table1[[#Headers],[F1]:[EN2]],1,0))*Table1[No.]*IF(Table2[[#This Row],[Date]]=Table1[Date],1,0),1)),0)} -> 58 | V6: {=IFERROR(IF(Table2[[#This Row],[D Pair]]="",LARGE(_xlfn._xlws.FILTER(Table1[[F1]:[EN2]],IF(Table2[[#This Row],[F Line]]=Table1[[#Headers],[F1]:[EN2]],1,0))*Table1[No.]*IF(Table2[[#This Row],[Date]]=Table1[Date],1,0),5),LARGE(_xlfn._xlws.FILTER(Table1[[F1]:[EN2]],IF(Table2[[#This Row],[D Pair]]=Table1[[#Headers],[F1]:[EN2]],1,0))*Table1[No.]*IF(Table2[[#This Row],[Date]]=Table1[Date],1,0),2)),0)} -> 8 | W6: =IF(Table2[[#This Row],[Type]]="Goal",1,0) -> 0 | X6: =IF(OR(Table2[[#This Row],[Type]]="Goal",Table2[[#This Row],[Type]]="Shot"),1,0) -> 1 | Y6: =IF(OR(Table2[[#This Row],[Type]]="Goal",Table2[[#This Row],[Type]]="Shot",Table2[[#This Row],[Type]]="Miss"),1,0) -> 1 | Z6: =IF(OR(Table2[[#This Row],[Type]]="Goal",Table2[[#This Row],[Type]]="Shot",Table2[[#This Row],[Type]]="Miss",Table2[[#This Row],[Type]]="Block"),1,0) -> 1 | AA6: =IF(OR(Table2[[#This Row],[Date]]=Visualization!$AH$12,Visualization!$AH$12="All"),1,0)*IF(OR(Visualization!$AS$12="All",Visualization!$AS$12=Table2[[#This Row],[Period]]),1,0)*IF(OR(Table2[[#This Row],[Type]]=Visualization!$BD$12,Visualization!$BD$12="All"),1,0)*IF(OR(Visualization!$BO$12="All",Visualization!$BO$12=Table2[[#This Row],[Strength]]),1,0) -> 1 | AB6: =IF(Table2[[#This Row],[Player]]=Visualization!$AR$2,1,0) -> 0 | AC6: =IF(OR(Table2[[#This Row],[PIT1]]=Visualization!$AR$2,Table2[[#This Row],[PIT2]]=Visualization!$AR$2,Table2[[#This Row],[PIT3]]=Visualization!$AR$2,Table2[[#This Row],[PIT4]]=Visualization!$AR$2,Table2[[#This Row],[PIT5]]=Visualization!$AR$2,Table2[[#This Row],[Goaltender]]=Visualization!$AR$2),1,0) -> 1 | AF6: =_xlfn.XLOOKUP(AE6,Table2[Shot No.],Table2[x2],300) -> 300 | AG6: =_xlfn.XLOOKUP(AE6,Table2[Shot No.],Table2[y2],300) -> 300 | AI6: 26 | AJ6: =_xlfn.XLOOKUP(AI6,Table2[Shot No.],Table2[x2],300) -> 82 | AK6: =_xlfn.XLOOKUP(AI6,Table2[Shot No.],Table2[y2],300) -> -8 | AM6: 23 | AN6: =_xlfn.XLOOKUP(AM6,Table2[Shot No.],Table2[x2],300) -> -48 | AO6: =_xlfn.XLOOKUP(AM6,Table2[Shot No.],Table2[y2],300) -> -34
A7: 1 | B7: T.B | D7: Shot | E7: -63 | F7: -4 | G7: F2 | H7: D1 | K7: 35 | M7: EV | N7: 44481 | O7: =ROW(O6) -> 6 | P7: {=_xlfn.XLOOKUP(Table2[[#This Row],[Date]]&Table2[[#This Row],[Period]],Table3[Date]&Table3[Period],Table3[Coordinate])*Table2[[#This Row],[X]]} -> -63 | Q7: {=_xlfn.XLOOKUP(Table2[[#This Row],[Date]]&Table2[[#This Row],[Period]],Table3[Date]&Table3[Period],Table3[Coordinate])*Table2[[#This Row],[Y]]} -> -4 | R7: {=IFERROR(LARGE(_xlfn._xlws.FILTER(Table1[[F1]:[EN2]],IF(Table2[[#This Row],[F Line]]=Table1[[#Headers],[F1]:[EN2]],1,0))*Table1[No.]*IF(Table2[[#This Row],[Date]]=Table1[Date],1,0),1),0)} -> 77 | S7: {=IFERROR(LARGE(_xlfn._xlws.FILTER(Table1[[F1]:[EN2]],IF(Table2[[#This Row],[F Line]]=Table1[[#Headers],[F1]:[EN2]],1,0))*Table1[No.]*IF(Table2[[#This Row],[Date]]=Table1[Date],1,0),2),0)} -> 43 | T7: {=IFERROR(LARGE(_xlfn._xlws.FILTER(Table1[[F1]:[EN2]],IF(Table2[[#This Row],[F Line]]=Table1[[#Headers],[F1]:[EN2]],1,0))*Table1[No.]*IF(Table2[[#This Row],[Date]]=Table1[Date],1,0),3),0)} -> 17 | U7: {=IFERROR(IF(Table2[[#This Row],[D Pair]]="",LARGE(_xlfn._xlws.FILTER(Table1[[F1]:[EN2]],IF(Table2[[#This Row],[F Line]]=Table1[[#Headers],[F1]:[EN2]],1,0))*Table1[No.]*IF(Table2[[#This Row],[Date]]=Table1[Date],1,0),4),LARGE(_xlfn._xlws.FILTER(Table1[[F1]:[EN2]],IF(Table2[[#This Row],[D Pair]]=Table1[[#Headers],[F1]:[EN2]],1,0))*Table1[No.]*IF(Table2[[#This Row],[Date]]=Table1[Date],1,0),1)),0)} -> 58 | V7: {=IFERROR(IF(Table2[[#This Row],[D Pair]]="",LARGE(_xlfn._xlws.FILTER(Table1[[F1]:[EN2]],IF(Table2[[#This Row],[F Line]]=Table1[[#Headers],[F1]:[EN2]],1,0))*Table1[No.]*IF(Table2[[#This Row],[Date]]=Table1[Date],1,0),5),LARGE(_xlfn._xlws.FILTER(Table1[[F1]:[EN2]],IF(Table2[[#This Row],[D Pair]]=Table1[[#Headers],[F1]:[EN2]],1,0))*Table1[No.]*IF(Table2[[#This Row],[Date]]=Table1[Date],1,0),2)),0)} -> 8 | W7: =IF(Table2[[#This Row],[Type]]="Goal",1,0) -> 0 | X7: =IF(OR(Table2[[#This Row],[Type]]="Goal",Table2[[#This Row],[Type]]="Shot"),1,0) -> 1 | Y7: =IF(OR(Table2[[#This Row],[Type]]="Goal",Table2[[#This Row],[Type]]="Shot",Table2[[#This Row],[Type]]="Miss"),1,0) -> 1 | Z7: =IF(OR(Table2[[#This Row],[Type]]="Goal",Table2[[#This Row],[Type]]="Shot",Table2[[#This Row],[Type]]="Miss",Table2[[#This Row],[Type]]="Block"),1,0) -> 1 | AA7: =IF(OR(Table2[[#This Row],[Date]]=Visualization!$AH$12,Visualization!$AH$12="All"),1,0)*IF(OR(Visualization!$AS$12="All",Visualization!$AS$12=Table2[[#This Row],[Period]]),1,0)*IF(OR(Table2[[#This Row],[Type]]=Visualization!$BD$12,Visualization!$BD$12="All"),1,0)*IF(OR(Visualization!$BO$12="All",Visualization!$BO$12=Table2[[#This Row],[Strength]]),1,0) -> 1 | AB7: =IF(Table2[[#This Row],[Player]]=Visualization!$AR$2,1,0) -> 0 | AC7: =IF(OR(Table2[[#This Row],[PIT1]]=Visualization!$AR$2,Table2[[#This Row],[PIT2]]=Visualization!$AR$2,Table2[[#This Row],[PIT3]]=Visualization!$AR$2,Table2[[#This Row],[PIT4]]=Visualization!$AR$2,Table2[[#This Row],[PIT5]]=Visualization!$AR$2,Table2[[#This Row],[Goaltender]]=Visualization!$AR$2),1,0) -> 1 | AF7: =_xlfn.XLOOKUP(AE7,Table2[Shot No.],Table2[x2],300) -> 300 | AG7: =_xlfn.XLOOKUP(AE7,Table2[Shot No.],Table2[y2],300) -> 300 | AI7: 29 | AJ7: =_xlfn.XLOOKUP(AI7,Table2[Shot No.],Table2[x2],300) -> 37 | AK7: =_xlfn.XLOOKUP(AI7,Table2[Shot No.],Table2[y2],300) -> 31 | AM7: 25 | AN7: =_xlfn.XLOOKUP(AM7,Table2[Shot No.],Table2[x2],300) -> -49 | AO7: =_xlfn.XLOOKUP(AM7,Table2[Shot No.],Table2[y2],300) -> -28
A8: 1 | B8: T.B | D8: Block | E8: -52 | F8: 21 | G8: F2 | H8: D1 | K8: 35 | M8: EV | N8: 44481 | O8: =ROW(O7) -> 7 | P8: {=_xlfn.XLOOKUP(Table2[[#This Row],[Date]]&Table2[[#This Row],[Period]],Table3[Date]&Table3[Period],Table3[Coordinate])*Table2[[#This Row],[X]]} -> -52 | Q8: {=_xlfn.XLOOKUP(Table2[[#This Row],[Date]]&Table2[[#This Row],[Period]],Table3[Date]&Table3[Period],Table3[Coordinate])*Table2[[#This Row],[Y]]} -> 21 | R8: {=IFERROR(LARGE(_xlfn._xlws.FILTER(Table1[[F1]:[EN2]],IF(Table2[[#This Row],[F Line]]=Table1[[#Headers],[F1]:[EN2]],1,0))*Table1[No.]*IF(Table2[[#This Row],[Date]]=Table1[Date],1,0),1),0)} -> 77 | S8: {=IFERROR(LARGE(_xlfn._xlws.FILTER(Table1[[F1]:[EN2]],IF(Table2[[#This Row],[F Line]]=Table1[[#Headers],[F1]:[EN2]],1,0))*Table1[No.]*IF(Table2[[#This Row],[Date]]=Table1[Date],1,0),2),0)} -> 43 | T8: {=IFERROR(LARGE(_xlfn._xlws.FILTER(Table1[[F1]:[EN2]],IF(Table2[[#This Row],[F Line]]=Table1[[#Headers],[F1]:[EN2]],1,0))*Table1[No.]*IF(Table2[[#This Row],[Date]]=Table1[Date],1,0),3),0)} -> 17 | U8: {=IFERROR(IF(Table2[[#This Row],[D Pair]]="",LARGE(_xlfn._xlws.FILTER(Table1[[F1]:[EN2]],IF(Table2[[#This Row],[F Line]]=Table1[[#Headers],[F1]:[EN2]],1,0))*Table1[No.]*IF(Table2[[#This Row],[Date]]=Table1[Date],1,0),4),LARGE(_xlfn._xlws.FILTER(Table1[[F1]:[EN2]],IF(Table2[[#This Row],[D Pair]]=Table1[[#Headers],[F1]:[EN2]],1,0))*Table1[No.]*IF(Table2[[#This Row],[Date]]=Table1[Date],1,0),1)),0)} -> 58 | V8: {=IFERROR(IF(Table2[[#This Row],[D Pair]]="",LARGE(_xlfn._xlws.FILTER(Table1[[F1]:[EN2]],IF(Table2[[#This Row],[F Line]]=Table1[[#Headers],[F1]:[EN2]],1,0))*Table1[No.]*IF(Table2[[#This Row],[Date]]=Table1[Date],1,0),5),LARGE(_xlfn._xlws.FILTER(Table1[[F1]:[EN2]],IF(Table2[[#This Row],[D Pair]]=Table1[[#Headers],[F1]:[EN2]],1,0))*Table1[No.]*IF(Table2[[#This Row],[Date]]=Table1[Date],1,0),2)),0)} -> 8 | W8: =IF(Table2[[#This Row],[Type]]="Goal",1,0) -> 0 | X8: =IF(OR(Table2[[#This Row],[Type]]="Goal",Table2[[#This Row],[Type]]="Shot"),1,0) -> 0 | Y8: =IF(OR(Table2[[#This Row],[Type]]="Goal",Table2[[#This Row],[Type]]="Shot",Table2[[#This Row],[Type]]="Miss"),1,0) -> 0 | Z8: =IF(OR(Table2[[#This Row],[Type]]="Goal",Table2[[#This Row],[Type]]="Shot",Table2[[#This Row],[Type]]="Miss",Table2[[#This Row],[Type]]="Block"),1,0) -> 1 | AA8: =IF(OR(Table2[[#This Row],[Date]]=Visualization!$AH$12,Visualization!$AH$12="All"),1,0)*IF(OR(Visualization!$AS$12="All",Visualization!$AS$12=Table2[[#This Row],[Period]]),1,0)*IF(OR(Table2[[#This Row],[Type]]=Visualization!$BD$12,Visualization!$BD$12="All"),1,0)*IF(OR(Visualization!$BO$12="All",Visualization!$BO$12=Table2[[#This Row],[Strength]]),1,0) -> 1 | AB8: =IF(Table2[[#This Row],[Player]]=Visualization!$AR$2,1,0) -> 0 | AC8: =IF(OR(Table2[[#This Row],[PIT1]]=Visualization!$AR$2,Table2[[#This Row],[PIT2]]=Visualization!$AR$2,Table2[[#This Row],[PIT3]]=Visualization!$AR$2,Table2[[#This Row],[PIT4]]=Visualization!$AR$2,Table2[[#This Row],[PIT5]]=Visualization!$AR$2,Table2[[#This Row],[Goaltender]]=Visualization!$AR$2),1,0) -> 1 | AF8: =_xlfn.XLOOKUP(AE8,Table2[Shot No.],Table2[x2],300) -> 300 | AG8: =_xlfn.XLOOKUP(AE8,Table2[Shot No.],Table2[y2],300) -> 300 | AI8: 30 | AJ8: =_xlfn.XLOOKUP(AI8,Table2[Shot No.],Table2[x2],300) -> 42 | AK8: =_xlfn.XLOOKUP(AI8,Table2[Shot No.],Table2[y2],300) -> -30 | AM8: 31 | AN8: =_xlfn.XLOOKUP(AM8,Table2[Shot No.],Table2[x2],300) -> -41 | AO8: =_xlfn.XLOOKUP(AM8,Table2[Shot No.],Table2[y2],300) -> -8
A9: 1 | B9: PIT | C9: 71 | D9: Block | E9: 71 | F9: -11 | G9: F1 | H9: D2 | K9: 35 | M9: EV | N9: 44481 | O9: =ROW(O8) -> 8 | P9: {=_xlfn.XLOOKUP(Table2[[#This Row],[Date]]&Table2[[#This Row],[Period]],Table3[Date]&Table3[Period],Table3[Coordinate])*Table2[[#This Row],[X]]} -> 71 | Q9: {=_xlfn.XLOOKUP(Table2[[#This Row],[Date]]&Table2[[#This Row],[Period]],Table3[Date]&Table3[Period],Table3[Coordinate])*Table2[[#This Row],[Y]]} -> -11 | R9: {=IFERROR(LARGE(_xlfn._xlws.FILTER(Table1[[F1]:[EN2]],IF(Table2[[#This Row],[F Line]]=Table1[[#Headers],[F1]:[EN2]],1,0))*Table1[No.]*IF(Table2[[#This Row],[Date]]=Table1[Date],1,0),1),0)} -> 71 | S9: {=IFERROR(LARGE(_xlfn._xlws.FILTER(Table1[[F1]:[EN2]],IF(Table2[[#This Row],[F Line]]=Table1[[#Headers],[F1]:[EN2]],1,0))*Table1[No.]*IF(Table2[[#This Row],[Date]]=Table1[Date],1,0),2),0)} -> 24 | T9: {=IFERROR(LARGE(_xlfn._xlws.FILTER(Table1[[F1]:[EN2]],IF(Table2[[#This Row],[F Line]]=Table1[[#Headers],[F1]:[EN2]],1,0))*Table1[No.]*IF(Table2[[#This Row],[Date]]=Table1[Date],1,0),3),0)} -> 16 | U9: {=IFERROR(IF(Table2[[#This Row],[D Pair]]="",LARGE(_xlfn._xlws.FILTER(Table1[[F1]:[EN2]],IF(Table2[[#This Row],[F Line]]=Table1[[#Headers],[F1]:[EN2]],1,0))*Table1[No.]*IF(Table2[[#This Row],[Date]]=Table1[Date],1,0),4),LARGE(_xlfn._xlws.FILTER(Table1[[F1]:[EN2]],IF(Table2[[#This Row],[D Pair]]=Table1[[#Headers],[F1]:[EN2]],1,0))*Table1[No.]*IF(Table2[[#This Row],[Date]]=Table1[Date],1,0),1)),0)} -> 28 | V9: {=IFERROR(IF(Table2[[#This Row],[D Pair]]="",LARGE(_xlfn._xlws.FILTER(Table1[[F1]:[EN2]],IF(Table2[[#This Row],[F Line]]=Table1[[#Headers],[F1]:[EN2]],1,0))*Table1[No.]*IF(Table2[[#This Row],[Date]]=Table1[Date],1,0),5),LARGE(_xlfn._xlws.FILTER(Table1[[F1]:[EN2]],IF(Table2[[#This Row],[D Pair]]=Table1[[#Headers],[F1]:[EN2]],1,0))*Table1[No.]*IF(Table2[[#This Row],[Date]]=Table1[Date],1,0),2)),0)} -> 6 | W9: =IF(Table2[[#This Row],[Type]]="Goal",1,0) -> 0 | X9: =IF(OR(Table2[[#This Row],[Type]]="Goal",Table2[[#This Row],[Type]]="Shot"),1,0) -> 0 | Y9: =IF(OR(Table2[[#This Row],[Type]]="Goal",Table2[[#This Row],[Type]]="Shot",Table2[[#This Row],[Type]]="Miss"),1,0) -> 0 | Z9: =IF(OR(Table2[[#This Row],[Type]]="Goal",Table2[[#This Row],[Type]]="Shot",Table2[[#This Row],[Type]]="Miss",Table2[[#This Row],[Type]]="Block"),1,0) -> 1 | AA9: =IF(OR(Table2[[#This Row],[Date]]=Visualization!$AH$12,Visualization!$AH$12="All"),1,0)*IF(OR(Visualization!$AS$12="All",Visualization!$AS$12=Table2[[#This Row],[Period]]),1,0)*IF(OR(Table2[[#This Row],[Type]]=Visualization!$BD$12,Visualization!$BD$12="All"),1,0)*IF(OR(Visualization!$BO$12="All",Visualization!$BO$12=Table2[[#This Row],[Strength]]),1,0) -> 1 | AB9: =IF(Table2[[#This Row],[Player]]=Visualization!$AR$2,1,0) -> 0 | AC9: =IF(OR(Table2[[#This Row],[PIT1]]=Visualization!$AR$2,Table2[[#This Row],[PIT2]]=Visualization!$AR$2,Table2[[#This Row],[PIT3]]=Visualization!$AR$2,Table2[[#This Row],[PIT4]]=Visualization!$AR$2,Table2[[#This Row],[PIT5]]=Visualization!$AR$2,Table2[[#This Row],[Goaltender]]=Visualization!$AR$2),1,0) -> 0 | AF9: =_xlfn.XLOOKUP(AE9,Table2[Shot No.],Table2[x2],300) -> 300 | AG9: =_xlfn.XLOOKUP(AE9,Table2[Shot No.],Table2[y2],300) -> 300 | AI9: 37 | AJ9: =_xlfn.XLOOKUP(AI9,Table2[Shot No.],Table2[x2],300) -> 50 | AK9: =_xlfn.XLOOKUP(AI9,Table2[Shot No.],Table2[y2],300) -> -24 | AM9: 36 | AN9: =_xlfn.XLOOKUP(AM9,Table2[Shot No.],Table2[x2],300) -> -51 | AO9: =_xlfn.XLOOKUP(AM9,Table2[Shot No.],Table2[y2],300) -> 15
A10: 1 | B10: PIT | C10: 59 | D10: Shot | E10: 63 | F10: 33 | G10: F3 | H10: D3 | K10: 35 | M10: EV | N10: 44481 | O10: =ROW(O9) -> 9 | P10: {=_xlfn.XLOOKUP(Table2[[#This Row],[Date]]&Table2[[#This Row],[Period]],Table3[Date]&Table3[Period],Table3[Coordinate])*Table2[[#This Row],[X]]} -> 63 | Q10: {=_xlfn.XLOOKUP(Table2[[#This Row],[Date]]&Table2[[#This Row],[Period]],Table3[Date]&Table3[Period],Table3[Coordinate])*Table2[[#This Row],[Y]]} -> 33 | R10: {=IFERROR(LARGE(_xlfn._xlws.FILTER(Table1[[F1]:[EN2]],IF(Table2[[#This Row],[F Line]]=Table1[[#Headers],[F1]:[EN2]],1,0))*Table1[No.]*IF(Table2[[#This Row],[Date]]=Table1[Date],1,0),1),0)} -> 53 | S10: {=IFERROR(LARGE(_xlfn._xlws.FILTER(Table1[[F1]:[EN2]],IF(Table2[[#This Row],[F Line]]=Table1[[#Headers],[F1]:[EN2]],1,0))*Table1[No.]*IF(Table2[[#This Row],[Date]]=Table1[Date],1,0),2),0)} -> 23 | T10: {=IFERROR(LARGE(_xlfn._xlws.FILTER(Table1[[F1]:[EN2]],IF(Table2[[#This Row],[F Line]]=Table1[[#Headers],[F1]:[EN2]],1,0))*Table1[No.]*IF(Table2[[#This Row],[Date]]=Table1[Date],1,0),3),0)} -> 12 | U10: {=IFERROR(IF(Table2[[#This Row],[D Pair]]="",LARGE(_xlfn._xlws.FILTER(Table1[[F1]:[EN2]],IF(Table2[[#This Row],[F Line]]=Table1[[#Headers],[F1]:[EN2]],1,0))*Table1[No.]*IF(Table2[[#This Row],[Date]]=Table1[Date],1,0),4),LARGE(_xlfn._xlws.FILTER(Table1[[F1]:[EN2]],IF(Table2[[#This Row],[D Pair]]=Table1[[#Headers],[F1]:[EN2]],1,0))*Table1[No.]*IF(Table2[[#This Row],[Date]]=Table1[Date],1,0),1)),0)} -> 59 | V10: {=IFERROR(IF(Table2[[#This Row],[D Pair]]="",LARGE(_xlfn._xlws.FILTER(Table1[[F1]:[EN2]],IF(Table2[[#This Row],[F Line]]=Table1[[#Headers],[F1]:[EN2]],1,0))*Table1[No.]*IF(Table2[[#This Row],[Date]]=Table1[Date],1,0),5),LARGE(_xlfn._xlws.FILTER(Table1[[F1]:[EN2]],IF(Table2[[#This Row],[D Pair]]=Table1[[#Headers],[F1]:[EN2]],1,0))*Table1[No.]*IF(Table2[[#This Row],[Date]]=Table1[Date],1,0),2)),0)} -> 2 | W10: =IF(Table2[[#This Row],[Type]]="Goal",1,0) -> 0 | X10: =IF(OR(Table2[[#This Row],[Type]]="Goal",Table2[[#This Row],[Type]]="Shot"),1,0) -> 1 | Y10: =IF(OR(Table2[[#This Row],[Type]]="Goal",Table2[[#This Row],[Type]]="Shot",Table2[[#This Row],[Type]]="Miss"),1,0) -> 1 | Z10: =IF(OR(Table2[[#This Row],[Type]]="Goal",Table2[[#This Row],[Type]]="Shot",Table2[[#This Row],[Type]]="Miss",Table2[[#This Row],[Type]]="Block"),1,0) -> 1 | AA10: =IF(OR(Table2[[#This Row],[Date]]=Visualization!$AH$12,Visualization!$AH$12="All"),1,0)*IF(OR(Visualization!$AS$12="All",Visualization!$AS$12=Table2[[#This Row],[Period]]),1,0)*IF(OR(Table2[[#This Row],[Type]]=Visualization!$BD$12,Visualization!$BD$12="All"),1,0)*IF(OR(Visualization!$BO$12="All",Visualization!$BO$12=Table2[[#This Row],[Strength]]),1,0) -> 1 | AB10: =IF(Table2[[#This Row],[Player]]=Visualization!$AR$2,1,0) -> 0 | AC10: =IF(OR(Table2[[#This Row],[PIT1]]=Visualization!$AR$2,Table2[[#This Row],[PIT2]]=Visualization!$AR$2,Table2[[#This Row],[PIT3]]=Visualization!$AR$2,Table2[[#This Row],[PIT4]]=Visualization!$AR$2,Table2[[#This Row],[PIT5]]=Visualization!$AR$2,Table2[[#This Row],[Goaltender]]=Visualization!$AR$2),1,0) -> 0 | AF10: =_xlfn.XLOOKUP(AE10,Table2[Shot No.],Table2[x2],300) -> 300 | AG10: =_xlfn.XLOOKUP(AE10,Table2[Shot No.],Table2[y2],300) -> 300 | AI10: 38 | AJ10: =_xlfn.XLOOKUP(AI10,Table2[Shot No.],Table2[x2],300) -> 74 | AK10: =_xlfn.XLOOKUP(AI10,Table2[Shot No.],Table2[y2],300) -> -9 | AM10: 50 | AN10: =_xlfn.XLOOKUP(AM10,Table2[Shot No.],Table2[x2],300) -> -37 | AO10: =_xlfn.XLOOKUP(AM10,Table2[Shot No.],Table2[y2],300) -> -14
A11: 1 | B11: PIT | C11: 12 | D11: Shot | E11: 61 | F11: 10 | G11: F3 | H11: D3 | K11: 35 | M11: EV | N11: 44481 | O11: =ROW(O10) -> 10 | P11: {=_xlfn.XLOOKUP(Table2[[#This Row],[Date]]&Table2[[#This Row],[Period]],Table3[Date]&Table3[Period],Table3[Coordinate])*Table2[[#This Row],[X]]} -> 61 | Q11: {=_xlfn.XLOOKUP(Table2[[#This Row],[Date]]&Table2[[#This Row],[Period]],Table3[Date]&Table3[Period],Table3[Coordinate])*Table2[[#This Row],[Y]]} -> 10 | R11: {=IFERROR(LARGE(_xlfn._xlws.FILTER(Table1[[F1]:[EN2]],IF(Table2[[#This Row],[F Line]]=Table1[[#Headers],[F1]:[EN2]],1,0))*Table1[No.]*IF(Table2[[#This Row],[Date]]=Table1[Date],1,0),1),0)} -> 53 | S11: {=IFERROR(LARGE(_xlfn._xlws.FILTER(Table1[[F1]:[EN2]],IF(Table2[[#This Row],[F Line]]=Table1[[#Headers],[F1]:[EN2]],1,0))*Table1[No.]*IF(Table2[[#This Row],[Date]]=Table1[Date],1,0),2),0)} -> 23 | T11: {=IFERROR(LARGE(_xlfn._xlws.FILTER(Table1[[F1]:[EN2]],IF(Table2[[#This Row],[F Line]]=Table1[[#Headers],[F1]:[EN2]],1,0))*Table1[No.]*IF(Table2[[#This Row],[Date]]=Table1[Date],1,0),3),0)} -> 12 | U11: {=IFERROR(IF(Table2[[#This Row],[D Pair]]="",LARGE(_xlfn._xlws.FILTER(Table1[[F1]:[EN2]],IF(Table2[[#This Row],[F Line]]=Table1[[#Headers],[F1]:[EN2]],1,0))*Table1[No.]*IF(Table2[[#This Row],[Date]]=Table1[Date],1,0),4),LARGE(_xlfn._xlws.FILTER(Table1[[F1]:[EN2]],IF(Table2[[#This Row],[D Pair]]=Table1[[#Headers],[F1]:[EN2]],1,0))*Table1[No.]*IF(Table2[[#This Row],[Date]]=Table1[Date],1,0),1)),0)} -> 59 | V11: {=IFERROR(IF(Table2[[#This Row],[D Pair]]="",LARGE(_xlfn._xlws.FILTER(Table1[[F1]:[EN2]],IF(Table2[[#This Row],[F Line]]=Table1[[#Headers],[F1]:[EN2]],1,0))*Table1[No.]*IF(Table2[[#This Row],[Date]]=Table1[Date],1,0),5),LARGE(_xlfn._xlws.FILTER(Table1[[F1]:[EN2]],IF(Table2[[#This Row],[D Pair]]=Table1[[#Headers],[F1]:[EN2]],1,0))*Table1[No.]*IF(Table2[[#This Row],[Date]]=Table1[Date],1,0),2)),0)} -> 2 | W11: =IF(Table2[[#This Row],[Type]]="Goal",1,0) -> 0 | X11: =IF(OR(Table2[[#This Row],[Type]]="Goal",Table2[[#This Row],[Type]]="Shot"),1,0) -> 1 | Y11: =IF(OR(Table2[[#This Row],[Type]]="Goal",Table2[[#This Row],[Type]]="Shot",Table2[[#This Row],[Type]]="Miss"),1,0) -> 1 | Z11: =IF(OR(Table2[[#This Row],[Type]]="Goal",Table2[[#This Row],[Type]]="Shot",Table2[[#This Row],[Type]]="Miss",Table2[[#This Row],[Type]]="Block"),1,0) -> 1 | AA11: =IF(OR(Table2[[#This Row],[Date]]=Visualization!$AH$12,Visualization!$AH$12="All"),1,0)*IF(OR(Visualization!$AS$12="All",Visualization!$AS$12=Table2[[#This Row],[Period]]),1,0)*IF(OR(Table2[[#This Row],[Type]]=Visualization!$BD$12,Visualization!$BD$12="All"),1,0)*IF(OR(Visualization!$BO$12="All",Visualization!$BO$12=Table2[[#This Row],[Strength]]),1,0) -> 1 | AB11: =IF(Table2[[#This Row],[Player]]=Visualization!$AR$2,1,0) -> 0 | AC11: =IF(OR(Table2[[#This Row],[PIT1]]=Visualization!$AR$2,Table2[[#This Row],[PIT2]]=Visualization!$AR$2,Table2[[#This Row],[PIT3]]=Visualization!$AR$2,Table2[[#This Row],[PIT4]]=Visualization!$AR$2,Table2[[#This Row],[PIT5]]=Visualization!$AR$2,Table2[[#This Row],[Goaltender]]=Visualization!$AR$2),1,0) -> 0 | AF11: =_xlfn.XLOOKUP(AE11,Table2[Shot No.],Table2[x2],300) -> 300 | AG11: =_xlfn.XLOOKUP(AE11,Table2[Shot No.],Table2[y2],300) -> 300 | AI11: 49 | AJ11: =_xlfn.XLOOKUP(AI11,Table2[Shot No.],Table2[x2],300) -> 76 | AK11: =_xlfn.XLOOKUP(AI11,Table2[Shot No.],Table2[y2],300) -> 23 | AM11: 65 | AN11: =_xlfn.XLOOKUP(AM11,Table2[Shot No.],Table2[x2],300) -> -45 | AO11: =_xlfn.XLOOKUP(AM11,Table2[Shot No.],Table2[y2],300) -> 31
A12: 1 | B12: T.B | D12: Shot | E12: -64 | F12: -31 | G12: F2 | H12: D3 | K12: 35 | M12: EV | N12: 44481 | O12: =ROW(O11) -> 11 | P12: {=_xlfn.XLOOKUP(Table2[[#This Row],[Date]]&Table2[[#This Row],[Period]],Table3[Date]&Table3[Period],Table3[Coordinate])*Table2[[#This Row],[X]]} -> -64 | Q12: {=_xlfn.XLOOKUP(Table2[[#This Row],[Date]]&Table2[[#This Row],[Period]],Table3[Date]&Table3[Period],Table3[Coordinate])*Table2[[#This Row],[Y]]} -> -31 | R12: {=IFERROR(LARGE(_xlfn._xlws.FILTER(Table1[[F1]:[EN2]],IF(Table2[[#This Row],[F Line]]=Table1[[#Headers],[F1]:[EN2]],1,0))*Table1[No.]*IF(Table2[[#This Row],[Date]]=Table1[Date],1,0),1),0)} -> 77 | S12: {=IFERROR(LARGE(_xlfn._xlws.FILTER(Table1[[F1]:[EN2]],IF(Table2[[#This Row],[F Line]]=Table1[[#Headers],[F1]:[EN2]],1,0))*Table1[No.]*IF(Table2[[#This Row],[Date]]=Table1[Date],1,0),2),0)} -> 43 | T12: {=IFERROR(LARGE(_xlfn._xlws.FILTER(Table1[[F1]:[EN2]],IF(Table2[[#This Row],[F Line]]=Table1[[#Headers],[F1]:[EN2]],1,0))*Table1[No.]*IF(Table2[[#This Row],[Date]]=Table1[Date],1,0),3),0)} -> 17 | U12: {=IFERROR(IF(Table2[[#This Row],[D Pair]]="",LARGE(_xlfn._xlws.FILTER(Table1[[F1]:[EN2]],IF(Table2[[#This Row],[F Line]]=Table1[[#Headers],[F1]:[EN2]],1,0))*Table1[No.]*IF(Table2[[#This Row],[Date]]=Table1[Date],1,0),4),LARGE(_xlfn._xlws.FILTER(Table1[[F1]:[EN2]],IF(Table2[[#This Row],[D Pair]]=Table1[[#Headers],[F1]:[EN2]],1,0))*Table1[No.]*IF(Table2[[#This Row],[Date]]=Table1[Date],1,0),1)),0)} -> 59 | V12: {=IFERROR(IF(Table2[[#This Row],[D Pair]]="",LARGE(_xlfn._xlws.FILTER(Table1[[F1]:[EN2]],IF(Table2[[#This Row],[F Line]]=Table1[[#Headers],[F1]:[EN2]],1,0))*Table1[No.]*IF(Table2[[#This Row],[Date]]=Table1[Date],1,0),5),LARGE(_xlfn._xlws.FILTER(Table1[[F1]:[EN2]],IF(Table2[[#This Row],[D Pair]]=Table1[[#Headers],[F1]:[EN2]],1,0))*Table1[No.]*IF(Table2[[#This Row],[Date]]=Table1[Date],1,0),2)),0)} -> 2 | W12: =IF(Table2[[#This Row],[Type]]="Goal",1,0) -> 0 | X12: =IF(OR(Table2[[#This Row],[Type]]="Goal",Table2[[#This Row],[Type]]="Shot"),1,0) -> 1 | Y12: =IF(OR(Table2[[#This Row],[Type]]="Goal",Table2[[#This Row],[Type]]="Shot",Table2[[#This Row],[Type]]="Miss"),1,0) -> 1 | Z12: =IF(OR(Table2[[#This Row],[Type]]="Goal",Table2[[#This Row],[Type]]="Shot",Table2[[#This Row],[Type]]="Miss",Table2[[#This Row],[Type]]="Block"),1,0) -> 1 | AA12: =IF(OR(Table2[[#This Row],[Date]]=Visualization!$AH$12,Visualization!$AH$12="All"),1,0)*IF(OR(Visualization!$AS$12="All",Visualization!$AS$12=Table2[[#This Row],[Period]]),1,0)*IF(OR(Table2[[#This Row],[Type]]=Visualization!$BD$12,Visualization!$BD$12="All"),1,0)*IF(OR(Visualization!$BO$12="All",Visualization!$BO$12=Table2[[#This Row],[Strength]]),1,0) -> 1 | AB12: =IF(Table2[[#This Row],[Player]]=Visualization!$AR$2,1,0) -> 0 | AC12: =IF(OR(Table2[[#This Row],[PIT1]]=Visualization!$AR$2,Table2[[#This Row],[PIT2]]=Visualization!$AR$2,Table2[[#This Row],[PIT3]]=Visualization!$AR$2,Table2[[#This Row],[PIT4]]=Visualization!$AR$2,Table2[[#This Row],[PIT5]]=Visualization!$AR$2,Table2[[#This Row],[Goaltender]]=Visualization!$AR$2),1,0) -> 1 | AF12: =_xlfn.XLOOKUP(AE12,Table2[Shot No.],Table2[x2],300) -> 300 | AG12: =_xlfn.XLOOKUP(AE12,Table2[Shot No.],Table2[y2],300) -> 300 | AI12: 54 | AJ12: =_xlfn.XLOOKUP(AI12,Table2[Shot No.],Table2[x2],300) -> 83 | AK12: =_xlfn.XLOOKUP(AI12,Table2[Shot No.],Table2[y2],300) -> 6 | AM12: 66 | AN12: =_xlfn.XLOOKUP(AM12,Table2[Shot No.],Table2[x2],300) -> -77 | AO12: =_xlfn.XLOOKUP(AM12,Table2[Shot No.],Table2[y2],300) -> -2
A13: 1 | B13: T.B | D13: Block | E13: -76 | F13: 1 | G13: F2 | H13: D3 | K13: 35 | M13: EV | N13: 44481 | O13: =ROW(O12) -> 12 | P13: {=_xlfn.XLOOKUP(Table2[[#This Row],[Date]]&Table2[[#This Row],[Period]],Table3[Date]&Table3[Period],Table3[Coordinate])*Table2[[#This Row],[X]]} -> -76 | Q13: {=_xlfn.XLOOKUP(Table2[[#This Row],[Date]]&Table2[[#This Row],[Period]],Table3[Date]&Table3[Period],Table3[Coordinate])*Table2[[#This Row],[Y]]} -> 1 | R13: {=IFERROR(LARGE(_xlfn._xlws.FILTER(Table1[[F1]:[EN2]],IF(Table2[[#This Row],[F Line]]=Table1[[#Headers],[F1]:[EN2]],1,0))*Table1[No.]*IF(Table2[[#This Row],[Date]]=Table1[Date],1,0),1),0)} -> 77 | S13: {=IFERROR(LARGE(_xlfn._xlws.FILTER(Table1[[F1]:[EN2]],IF(Table2[[#This Row],[F Line]]=Table1[[#Headers],[F1]:[EN2]],1,0))*Table1[No.]*IF(Table2[[#This Row],[Date]]=Table1[Date],1,0),2),0)} -> 43 | T13: {=IFERROR(LARGE(_xlfn._xlws.FILTER(Table1[[F1]:[EN2]],IF(Table2[[#This Row],[F Line]]=Table1[[#Headers],[F1]:[EN2]],1,0))*Table1[No.]*IF(Table2[[#This Row],[Date]]=Table1[Date],1,0),3),0)} -> 17 | U13: {=IFERROR(IF(Table2[[#This Row],[D Pair]]="",LARGE(_xlfn._xlws.FILTER(Table1[[F1]:[EN2]],IF(Table2[[#This Row],[F Line]]=Table1[[#Headers],[F1]:[EN2]],1,0))*Table1[No.]*IF(Table2[[#This Row],[Date]]=Table1[Date],1,0),4),LARGE(_xlfn._xlws.FILTER(Table1[[F1]:[EN2]],IF(Table2[[#This Row],[D Pair]]=Table1[[#Headers],[F1]:[EN2]],1,0))*Table1[No.]*IF(Table2[[#This Row],[Date]]=Table1[Date],1,0),1)),0)} -> 59 | V13: {=IFERROR(IF(Table2[[#This Row],[D Pair]]="",LARGE(_xlfn._xlws.FILTER(Table1[[F1]:[EN2]],IF(Table2[[#This Row],[F Line]]=Table1[[#Headers],[F1]:[EN2]],1,0))*Table1[No.]*IF(Table2[[#This Row],[Date]]=Table1[Date],1,0),5),LARGE(_xlfn._xlws.FILTER(Table1[[F1]:[EN2]],IF(Table2[[#This Row],[D Pair]]=Table1[[#Headers],[F1]:[EN2]],1,0))*Table1[No.]*IF(Table2[[#This Row],[Date]]=Table1[Date],1,0),2)),0)} -> 2 | W13: =IF(Table2[[#This Row],[Type]]="Goal",1,0) -> 0 | X13: =IF(OR(Table2[[#This Row],[Type]]="Goal",Table2[[#This Row],[Type]]="Shot"),1,0) -> 0 | Y13: =IF(OR(Table2[[#This Row],[Type]]="Goal",Table2[[#This Row],[Type]]="Shot",Table2[[#This Row],[Type]]="Miss"),1,0) -> 0 | Z13: =IF(OR(Table2[[#This Row],[Type]]="Goal",Table2[[#This Row],[Type]]="Shot",Table2[[#This Row],[Type]]="Miss",Table2[[#This Row],[Type]]="Block"),1,0) -> 1 | AA13: =IF(OR(Table2[[#This Row],[Date]]=Visualization!$AH$12,Visualization!$AH$12="All"),1,0)*IF(OR(Visualization!$AS$12="All",Visualization!$AS$12=Table2[[#This Row],[Period]]),1,0)*IF(OR(Table2[[#This Row],[Type]]=Visualization!$BD$12,Visualization!$BD$12="All"),1,0)*IF(OR(Visualization!$BO$12="All",Visualization!$BO$12=Table2[[#This Row],[Strength]]),1,0) -> 1 | AB13: =IF(Table2[[#This Row],[Player]]=Visualization!$AR$2,1,0) -> 0 | AC13: =IF(OR(Table2[[#This Row],[PIT1]]=Visualization!$AR$2,Table2[[#This Row],[PIT2]]=Visualization!$AR$2,Table2[[#This Row],[PIT3]]=Visualization!$AR$2,Table2[[#This Row],[PIT4]]=Visualization!$AR$2,Table2[[#This Row],[PIT5]]=Visualization!$AR$2,Table2[[#This Row],[Goaltender]]=Visualization!$AR$2),1,0) -> 1 | AF13: =_xlfn.XLOOKUP(AE13,Table2[Shot No.],Table2[x2],300) -> 300 | AG13: =_xlfn.XLOOKUP(AE13,Table2[Shot No.],Table2[y2],300) -> 300 | AI13: 55 | AJ13: =_xlfn.XLOOKUP(AI13,Table2[Shot No.],Table2[x2],300) -> 74 | AK13: =_xlfn.XLOOKUP(AI13,Table2[Shot No.],Table2[y2],300) -> 10 | AM13: 67 | AN13: =_xlfn.XLOOKUP(AM13,Table2[Shot No.],Table2[x2],300) -> -81 | AO13: =_xlfn.XLOOKUP(AM13,Table2[Shot No.],Table2[y2],300) -> 6
A14: 1 | B14: PIT | C14: 17 | D14: Shot | E14: 75 | F14: 9 | G14: F2 | H14: D3 | K14: 35 | M14: EV | N14: 44481 | O14: =ROW(O13) -> 13 | P14: {=_xlfn.XLOOKUP(Table2[[#This Row],[Date]]&Table2[[#This Row],[Period]],Table3[Date]&Table3[Period],Table3[Coordinate])*Table2[[#This Row],[X]]} -> 75 | Q14: {=_xlfn.XLOOKUP(Table2[[#This Row],[Date]]&Table2[[#This Row],[Period]],Table3[Date]&Table3[Period],Table3[Coordinate])*Table2[[#This Row],[Y]]} -> 9 | R14: {=IFERROR(LARGE(_xlfn._xlws.FILTER(Table1[[F1]:[EN2]],IF(Table2[[#This Row],[F Line]]=Table1[[#Headers],[F1]:[EN2]],1,0))*Table1[No.]*IF(Table2[[#This Row],[Date]]=Table1[Date],1,0),1),0)} -> 77 | S14: {=IFERROR(LARGE(_xlfn._xlws.FILTER(Table1[[F1]:[EN2]],IF(Table2[[#This Row],[F Line]]=Table1[[#Headers],[F1]:[EN2]],1,0))*Table1[No.]*IF(Table2[[#This Row],[Date]]=Table1[Date],1,0),2),0)} -> 43 | T14: {=IFERROR(LARGE(_xlfn._xlws.FILTER(Table1[[F1]:[EN2]],IF(Table2[[#This Row],[F Line]]=Table1[[#Headers],[F1]:[EN2]],1,0))*Table1[No.]*IF(Table2[[#This Row],[Date]]=Table1[Date],1,0),3),0)} -> 17 | U14: {=IFERROR(IF(Table2[[#This Row],[D Pair]]="",LARGE(_xlfn._xlws.FILTER(Table1[[F1]:[EN2]],IF(Table2[[#This Row],[F Line]]=Table1[[#Headers],[F1]:[EN2]],1,0))*Table1[No.]*IF(Table2[[#This Row],[Date]]=Table1[Date],1,0),4),LARGE(_xlfn._xlws.FILTER(Table1[[F1]:[EN2]],IF(Table2[[#This Row],[D Pair]]=Table1[[#Headers],[F1]:[EN2]],1,0))*Table1[No.]*IF(Table2[[#This Row],[Date]]=Table1[Date],1,0),1)),0)} -> 59 | V14: {=IFERROR(IF(Table2[[#This Row],[D Pair]]="",LARGE(_xlfn._xlws.FILTER(Table1[[F1]:[EN2]],IF(Table2[[#This Row],[F Line]]=Table1[[#Headers],[F1]:[EN2]],1,0))*Table1[No.]*IF(Table2[[#This Row],[Date]]=Table1[Date],1,0),5),LARGE(_xlfn._xlws.FILTER(Table1[[F1]:[EN2]],IF(Table2[[#This Row],[D Pair]]=Table1[[#Headers],[F1]:[EN2]],1,0))*Table1[No.]*IF(Table2[[#This Row],[Date]]=Table1[Date],1,0),2)),0)} -> 2 | W14: =IF(Table2[[#This Row],[Type]]="Goal",1,0) -> 0 | X14: =IF(OR(Table2[[#This Row],[Type]]="Goal",Table2[[#This Row],[Type]]="Shot"),1,0) -> 1 | Y14: =IF(OR(Table2[[#This Row],[Type]]="Goal",Table2[[#This Row],[Type]]="Shot",Table2[[#This Row],[Type]]="Miss"),1,0) -> 1 | Z14: =IF(OR(Table2[[#This Row],[Type]]="Goal",Table2[[#This Row],[Type]]="Shot",Table2[[#This Row],[Type]]="Miss",Table2[[#This Row],[Type]]="Block"),1,0) -> 1 | AA14: =IF(OR(Table2[[#This Row],[Date]]=Visualization!$AH$12,Visualization!$AH$12="All"),1,0)*IF(OR(Visualization!$AS$12="All",Visualization!$AS$12=Table2[[#This Row],[Period]]),1,0)*IF(OR(Table2[[#This Row],[Type]]=Visualization!$BD$12,Visualization!$BD$12="All"),1,0)*IF(OR(Visualization!$BO$12="All",Visualization!$BO$12=Table2[[#This Row],[Strength]]),1,0) -> 1 | AB14: =IF(Table2[[#This Row],[Player]]=Visualization!$AR$2,1,0) -> 0 | AC14: =IF(OR(Table2[[#This Row],[PIT1]]=Visualization!$AR$2,Table2[[#This Row],[PIT2]]=Visualization!$AR$2,Table2[[#This Row],[PIT3]]=Visualization!$AR$2,Table2[[#This Row],[PIT4]]=Visualization!$AR$2,Table2[[#This Row],[PIT5]]=Visualization!$AR$2,Table2[[#This Row],[Goaltender]]=Visualization!$AR$2),1,0) -> 1 | AF14: =_xlfn.XLOOKUP(AE14,Table2[Shot No.],Table2[x2],300) -> 300 | AG14: =_xlfn.XLOOKUP(AE14,Table2[Shot No.],Table2[y2],300) -> 300 | AI14: 74 | AJ14: =_xlfn.XLOOKUP(AI14,Table2[Shot No.],Table2[x2],300) -> 30 | AK14: =_xlfn.XLOOKUP(AI14,Table2[Shot No.],Table2[y2],300) -> 27 | AM14: 68 | AN14: =_xlfn.XLOOKUP(AM14,Table2[Shot No.],Table2[x2],300) -> -78 | AO14: =_xlfn.XLOOKUP(AM14,Table2[Shot No.],Table2[y2],300) -> 2
A15: 1 | B15: PIT | C15: 10 | D15: Shot | E15: 73 | F15: -12 | G15: F4 | H15: D1 | K15: 35 | M15: EV | N15: 44481 | O15: =ROW(O14) -> 14 | P15: {=_xlfn.XLOOKUP(Table2[[#This Row],[Date]]&Table2[[#This Row],[Period]],Table3[Date]&Table3[Period],Table3[Coordinate])*Table2[[#This Row],[X]]} -> 73 | Q15: {=_xlfn.XLOOKUP(Table2[[#This Row],[Date]]&Table2[[#This Row],[Period]],Table3[Date]&Table3[Period],Table3[Coordinate])*Table2[[#This Row],[Y]]} -> -12 | R15: {=IFERROR(LARGE(_xlfn._xlws.FILTER(Table1[[F1]:[EN2]],IF(Table2[[#This Row],[F Line]]=Table1[[#Headers],[F1]:[EN2]],1,0))*Table1[No.]*IF(Table2[[#This Row],[Date]]=Table1[Date],1,0),1),0)} -> 37 | S15: {=IFERROR(LARGE(_xlfn._xlws.FILTER(Table1[[F1]:[EN2]],IF(Table2[[#This Row],[F Line]]=Table1[[#Headers],[F1]:[EN2]],1,0))*Table1[No.]*IF(Table2[[#This Row],[Date]]=Table1[Date],1,0),2),0)} -> 11 | T15: {=IFERROR(LARGE(_xlfn._xlws.FILTER(Table1[[F1]:[EN2]],IF(Table2[[#This Row],[F Line]]=Table1[[#Headers],[F1]:[EN2]],1,0))*Table1[No.]*IF(Table2[[#This Row],[Date]]=Table1[Date],1,0),3),0)} -> 10 | U15: {=IFERROR(IF(Table2[[#This Row],[D Pair]]="",LARGE(_xlfn._xlws.FILTER(Table1[[F1]:[EN2]],IF(Table2[[#This Row],[F Line]]=Table1[[#Headers],[F1]:[EN2]],1,0))*Table1[No.]*IF(Table2[[#This Row],[Date]]=Table1[Date],1,0),4),LARGE(_xlfn._xlws.FILTER(Table1[[F1]:[EN2]],IF(Table2[[#This Row],[D Pair]]=Table1[[#Headers],[F1]:[EN2]],1,0))*Table1[No.]*IF(Table2[[#This Row],[Date]]=Table1[Date],1,0),1)),0)} -> 58 | V15: {=IFERROR(IF(Table2[[#This Row],[D Pair]]="",LARGE(_xlfn._xlws.FILTER(Table1[[F1]:[EN2]],IF(Table2[[#This Row],[F Line]]=Table1[[#Headers],[F1]:[EN2]],1,0))*Table1[No.]*IF(Table2[[#This Row],[Date]]=Table1[Date],1,0),5),LARGE(_xlfn._xlws.FILTER(Table1[[F1]:[EN2]],IF(Table2[[#This Row],[D Pair]]=Table1[[#Headers],[F1]:[EN2]],1,0))*Table1[No.]*IF(Table2[[#This Row],[Date]]=Table1[Date],1,0),2)),0)} -> 8 | W15: =IF(Table2[[#This Row],[Type]]="Goal",1,0) -> 0 | X15: =IF(OR(Table2[[#This Row],[Type]]="Goal",Table2[[#This Row],[Type]]="Shot"),1,0) -> 1 | Y15: =IF(OR(Table2[[#This Row],[Type]]="Goal",Table2[[#This Row],[Type]]="Shot",Table2[[#This Row],[Type]]="Miss"),1,0) -> 1 | Z15: =IF(OR(Table2[[#This Row],[Type]]="Goal",Table2[[#This Row],[Type]]="Shot",Table2[[#This Row],[Type]]="Miss",Table2[[#This Row],[Type]]="Block"),1,0) -> 1 | AA15: =IF(OR(Table2[[#This Row],[Date]]=Visualization!$AH$12,Visualization!$AH$12="All"),1,0)*IF(OR(Visualization!$AS$12="All",Visualization!$AS$12=Table2[[#This Row],[Period]]),1,0)*IF(OR(Table2[[#This Row],[Type]]=Visualization!$BD$12,Visualization!$BD$12="All"),1,0)*IF(OR(Visualization!$BO$12="All",Visualization!$BO$12=Table2[[#This Row],[Strength]]),1,0) -> 1 | AB15: =IF(Table2[[#This Row],[Player]]=Visualization!$AR$2,1,0) -> 0 | AC15: =IF(OR(Table2[[#This Row],[PIT1]]=Visualization!$AR$2,Table2[[#This Row],[PIT2]]=Visualization!$AR$2,Table2[[#This Row],[PIT3]]=Visualization!$AR$2,Table2[[#This Row],[PIT4]]=Visualization!$AR$2,Table2[[#This Row],[PIT5]]=Visualization!$AR$2,Table2[[#This Row],[Goaltender]]=Visualization!$AR$2),1,0) -> 0 | AF15: =_xlfn.XLOOKUP(AE15,Table2[Shot No.],Table2[x2],300) -> 300 | AG15: =_xlfn.XLOOKUP(AE15,Table2[Shot No.],Table2[y2],300) -> 300 | AI15: 87 | AJ15: =_xlfn.XLOOKUP(AI15,Table2[Shot No.],Table2[x2],300) -> 42 | AK15: =_xlfn.XLOOKUP(AI15,Table2[Shot No.],Table2[y2],300) -> -4 | AM15: 75 | AN15: =_xlfn.XLOOKUP(AM15,Table2[Shot No.],Table2[x2],300) -> -74 | AO15: =_xlfn.XLOOKUP(AM15,Table2[Shot No.],Table2[y2],300) -> 20
A16: 1 | B16: PIT | C16: 58 | D16: Block | E16: 76 | F16: -1 | G16: F4 | H16: D1 | K16: 35 | M16: EV | N16: 44481 | O16: =ROW(O15) -> 15 | P16: {=_xlfn.XLOOKUP(Table2[[#This Row],[Date]]&Table2[[#This Row],[Period]],Table3[Date]&Table3[Period],Table3[Coordinate])*Table2[[#This Row],[X]]} -> 76 | Q16: {=_xlfn.XLOOKUP(Table2[[#This Row],[Date]]&Table2[[#This Row],[Period]],Table3[Date]&Table3[Period],Table3[Coordinate])*Table2[[#This Row],[Y]]} -> -1 | R16: {=IFERROR(LARGE(_xlfn._xlws.FILTER(Table1[[F1]:[EN2]],IF(Table2[[#This Row],[F Line]]=Table1[[#Headers],[F1]:[EN2]],1,0))*Table1[No.]*IF(Table2[[#This Row],[Date]]=Table1[Date],1,0),1),0)} -> 37 | S16: {=IFERROR(LARGE(_xlfn._xlws.FILTER(Table1[[F1]:[EN2]],IF(Table2[[#This Row],[F Line]]=Table1[[#Headers],[F1]:[EN2]],1,0))*Table1[No.]*IF(Table2[[#This Row],[Date]]=Table1[Date],1,0),2),0)} -> 11 | T16: {=IFERROR(LARGE(_xlfn._xlws.FILTER(Table1[[F1]:[EN2]],IF(Table2[[#This Row],[F Line]]=Table1[[#Headers],[F1]:[EN2]],1,0))*Table1[No.]*IF(Table2[[#This Row],[Date]]=Table1[Date],1,0),3),0)} -> 10 | U16: {=IFERROR(IF(Table2[[#This Row],[D Pair]]="",LARGE(_xlfn._xlws.FILTER(Table1[[F1]:[EN2]],IF(Table2[[#This Row],[F Line]]=Table1[[#Headers],[F1]:[EN2]],1,0))*Table1[No.]*IF(Table2[[#This Row],[Date]]=Table1[Date],1,0),4),LARGE(_xlfn._xlws.FILTER(Table1[[F1]:[EN2]],IF(Table2[[#This Row],[D Pair]]=Table1[[#Headers],[F1]:[EN2]],1,0))*Table1[No.]*IF(Table2[[#This Row],[Date]]=Table1[Date],1,0),1)),0)} -> 58 | V16: {=IFERROR(IF(Table2[[#This Row],[D Pair]]="",LARGE(_xlfn._xlws.FILTER(Table1[[F1]:[EN2]],IF(Table2[[#This Row],[F Line]]=Table1[[#Headers],[F1]:[EN2]],1,0))*Table1[No.]*IF(Table2[[#This Row],[Date]]=Table1[Date],1,0),5),LARGE(_xlfn._xlws.FILTER(Table1[[F1]:[EN2]],IF(Table2[[#This Row],[D Pair]]=Table1[[#Headers],[F1]:[EN2]],1,0))*Table1[No.]*IF(Table2[[#This Row],[Date]]=Table1[Date],1,0),2)),0)} -> 8 | W16: =IF(Table2[[#This Row],[Type]]="Goal",1,0) -> 0 | X16: =IF(OR(Table2[[#This Row],[Type]]="Goal",Table2[[#This Row],[Type]]="Shot"),1,0) -> 0 | Y16: =IF(OR(Table2[[#This Row],[Type]]="Goal",Table2[[#This Row],[Type]]="Shot",Table2[[#This Row],[Type]]="Miss"),1,0) -> 0 | Z16: =IF(OR(Table2[[#This Row],[Type]]="Goal",Table2[[#This Row],[Type]]="Shot",Table2[[#This Row],[Type]]="Miss",Table2[[#This Row],[Type]]="Block"),1,0) -> 1 | AA16: =IF(OR(Table2[[#This Row],[Date]]=Visualization!$AH$12,Visualization!$AH$12="All"),1,0)*IF(OR(Visualization!$AS$12="All",Visualization!$AS$12=Table2[[#This Row],[Period]]),1,0)*IF(OR(Table2[[#This Row],[Type]]=Visualization!$BD$12,Visualization!$BD$12="All"),1,0)*IF(OR(Visualization!$BO$12="All",Visualization!$BO$12=Table2[[#This Row],[Strength]]),1,0) -> 1 | AB16: =IF(Table2[[#This Row],[Player]]=Visualization!$AR$2,1,0) -> 0 | AC16: =IF(OR(Table2[[#This Row],[PIT1]]=Visualization!$AR$2,Table2[[#This Row],[PIT2]]=Visualization!$AR$2,Table2[[#This Row],[PIT3]]=Visualization!$AR$2,Table2[[#This Row],[PIT4]]=Visualization!$AR$2,Table2[[#This Row],[PIT5]]=Visualization!$AR$2,Table2[[#This Row],[Goaltender]]=Visualization!$AR$2),1,0) -> 0 | AF16: =_xlfn.XLOOKUP(AE16,Table2[Shot No.],Table2[x2],300) -> 300 | AG16: =_xlfn.XLOOKUP(AE16,Table2[Shot No.],Table2[y2],300) -> 300 | AI16: 88 | AJ16: =_xlfn.XLOOKUP(AI16,Table2[Shot No.],Table2[x2],300) -> 79 | AK16: =_xlfn.XLOOKUP(AI16,Table2[Shot No.],Table2[y2],300) -> -2 | AM16: 76 | AN16: =_xlfn.XLOOKUP(AM16,Table2[Shot No.],Table2[x2],300) -> -39 | AO16: =_xlfn.XLOOKUP(AM16,Table2[Shot No.],Table2[y2],300) -> -21
A17: 1 | B17: PIT | C17: 11 | D17: Shot | E17: 66 | F17: 17 | G17: F4 | H17: D1 | K17: 35 | M17: EV | N17: 44481 | O17: =ROW(O16) -> 16 | P17: {=_xlfn.XLOOKUP(Table2[[#This Row],[Date]]&Table2[[#This Row],[Period]],Table3[Date]&Table3[Period],Table3[Coordinate])*Table2[[#This Row],[X]]} -> 66 | Q17: {=_xlfn.XLOOKUP(Table2[[#This Row],[Date]]&Table2[[#This Row],[Period]],Table3[Date]&Table3[Period],Table3[Coordinate])*Table2[[#This Row],[Y]]} -> 17 | R17: {=IFERROR(LARGE(_xlfn._xlws.FILTER(Table1[[F1]:[EN2]],IF(Table2[[#This Row],[F Line]]=Table1[[#Headers],[F1]:[EN2]],1,0))*Table1[No.]*IF(Table2[[#This Row],[Date]]=Table1[Date],1,0),1),0)} -> 37 | S17: {=IFERROR(LARGE(_xlfn._xlws.FILTER(Table1[[F1]:[EN2]],IF(Table2[[#This Row],[F Line]]=Table1[[#Headers],[F1]:[EN2]],1,0))*Table1[No.]*IF(Table2[[#This Row],[Date]]=Table1[Date],1,0),2),0)} -> 11 | T17: {=IFERROR(LARGE(_xlfn._xlws.FILTER(Table1[[F1]:[EN2]],IF(Table2[[#This Row],[F Line]]=Table1[[#Headers],[F1]:[EN2]],1,0))*Table1[No.]*IF(Table2[[#This Row],[Date]]=Table1[Date],1,0),3),0)} -> 10 | U17: {=IFERROR(IF(Table2[[#This Row],[D Pair]]="",LARGE(_xlfn._xlws.FILTER(Table1[[F1]:[EN2]],IF(Table2[[#This Row],[F Line]]=Table1[[#Headers],[F1]:[EN2]],1,0))*Table1[No.]*IF(Table2[[#This Row],[Date]]=Table1[Date],1,0),4),LARGE(_xlfn._xlws.FILTER(Table1[[F1]:[EN2]],IF(Table2[[#This Row],[D Pair]]=Table1[[#Headers],[F1]:[EN2]],1,0))*Table1[No.]*IF(Table2[[#This Row],[Date]]=Table1[Date],1,0),1)),0)} -> 58 | V17: {=IFERROR(IF(Table2[[#This Row],[D Pair]]="",LARGE(_xlfn._xlws.FILTER(Table1[[F1]:[EN2]],IF(Table2[[#This Row],[F Line]]=Table1[[#Headers],[F1]:[EN2]],1,0))*Table1[No.]*IF(Table2[[#This Row],[Date]]=Table1[Date],1,0),5),LARGE(_xlfn._xlws.FILTER(Table1[[F1]:[EN2]],IF(Table2[[#This Row],[D Pair]]=Table1[[#Headers],[F1]:[EN2]],1,0))*Table1[No.]*IF(Table2[[#This Row],[Date]]=Table1[Date],1,0),2)),0)} -> 8 | W17: =IF(Table2[[#This Row],[Type]]="Goal",1,0) -> 0 | X17: =IF(OR(Table2[[#This Row],[Type]]="Goal",Table2[[#This Row],[Type]]="Shot"),1,0) -> 1 | Y17: =IF(OR(Table2[[#This Row],[Type]]="Goal",Table2[[#This Row],[Type]]="Shot",Table2[[#This Row],[Type]]="Miss"),1,0) -> 1 | Z17: =IF(OR(Table2[[#This Row],[Type]]="Goal",Table2[[#This Row],[Type]]="Shot",Table2[[#This Row],[Type]]="Miss",Table2[[#This Row],[Type]]="Block"),1,0) -> 1 | AA17: =IF(OR(Table2[[#This Row],[Date]]=Visualization!$AH$12,Visualization!$AH$12="All"),1,0)*IF(OR(Visualization!$AS$12="All",Visualization!$AS$12=Table2[[#This Row],[Period]]),1,0)*IF(OR(Table2[[#This Row],[Type]]=Visualization!$BD$12,Visualization!$BD$12="All"),1,0)*IF(OR(Visualization!$BO$12="All",Visualization!$BO$12=Table2[[#This Row],[Strength]]),1,0) -> 1 | AB17: =IF(Table2[[#This Row],[Player]]=Visualization!$AR$2,1,0) -> 0 | AC17: =IF(OR(Table2[[#This Row],[PIT1]]=Visualization!$AR$2,Table2[[#This Row],[PIT2]]=Visualization!$AR$2,Table2[[#This Row],[PIT3]]=Visualization!$AR$2,Table2[[#This Row],[PIT4]]=Visualization!$AR$2,Table2[[#This Row],[PIT5]]=Visualization!$AR$2,Table2[[#This Row],[Goaltender]]=Visualization!$AR$2),1,0) -> 0 | AF17: =_xlfn.XLOOKUP(AE17,Table2[Shot No.],Table2[x2],300) -> 300 | AG17: =_xlfn.XLOOKUP(AE17,Table2[Shot No.],Table2[y2],300) -> 300 | AI17: 103 | AJ17: =_xlfn.XLOOKUP(AI17,Table2[Shot No.],Table2[x2],300) -> 51 | AK17: =_xlfn.XLOOKUP(AI17,Table2[Shot No.],Table2[y2],300) -> -11 | AM17: 95 | AN17: =_xlfn.XLOOKUP(AM17,Table2[Shot No.],Table2[x2],300) -> 8 | AO17: =_xlfn.XLOOKUP(AM17,Table2[Shot No.],Table2[y2],300) -> -35
