Workbook
Name ANA: #REF!
Name ARI: #REF!
Name BOS: #REF!
Name BUF: #REF!
Name CAR: #REF!
Name CBJ: #REF!
Name CGY: #REF!
Name CHI: #REF!
Name COL: #REF!
Name DAL: #REF!
Name DET: #REF!
Name EDM: #REF!
Name FLA: #REF!
Name L.A: #REF!
Name Logo: INDIRECT(Cards!$J$2)
Name LogoLookup: INDEX(Logos!$A$2:$A$7,MATCH([1]Cards!$J$2,Logos!$B$2:$B$7,0))
Name LogoLookup: INDEX(#REF!,MATCH(Cards!$J$2,#REF!,0))
Name MIN: #REF!
Name MTL: #REF!
Name N.J: #REF!
Name NSH: #REF!
Name NYI: #REF!
Name NYR: #REF!
Name OTT: #REF!
Name PHI: #REF!
Name PIT: #REF!
Name S.J: #REF!
Name STL: #REF!
Name T.B: #REF!
Name TOR: #REF!
Name VAN: #REF!
Name VGK: #REF!
Name WPG: #REF!
Name WSH: #REF!

Sheet Cards
J2: Toronto Six | AY2: =SUMIFS('Team data'!$B$2:$B$7,'Team data'!$A$2:$A$7,Cards!$J$2) -> 6 | BF2: =SUMIFS('Team data'!$AF$2:$AF$7,'Team data'!$A$2:$A$7,Cards!$J$2)/(SUMIFS('Team data'!$BL$2:$BL$7,'Team data'!$A$2:$A$7,Cards!$J$2)+SUMIFS('Team data'!$AF$2:$AF$7,'Team data'!$A$2:$A$7,Cards!$J$2)) -> 0.59550562 | BM2: =SUMIFS('Team data'!$AG$2:$AG$7,'Team data'!$A$2:$A$7,Cards!$J$2)/(SUMIFS('Team data'!$BM$2:$BM$7,'Team data'!$A$2:$A$7,Cards!$J$2)+SUMIFS('Team data'!$AG$2:$AG$7,'Team data'!$A$2:$A$7,Cards!$J$2)) -> 0.584 | BT2: =SUMIFS('Team data'!$AH$2:$AH$7,'Team data'!$A$2:$A$7,Cards!$J$2)/(SUMIFS('Team data'!$BN$2:$BN$7,'Team data'!$A$2:$A$7,Cards!$J$2)+SUMIFS('Team data'!$AH$2:$AH$7,'Team data'!$A$2:$A$7,Cards!$J$2)) -> 0.59622642 | CA2: =SUMIFS('Team data'!$AI$2:$AI$7,'Team data'!$A$2:$A$7,Cards!$J$2)/(SUMIFS('Team data'!$BO$2:$BO$7,'Team data'!$A$2:$A$7,Cards!$J$2)+SUMIFS('Team data'!$AI$2:$AI$7,'Team data'!$A$2:$A$7,Cards!$J$2)) -> 0.61111111
AY8: GP | BF8: CF% | BM8: FF% | BT8: SF% | CA8: GF%
B12: Possessions - 5v5 | AK12: GF% vs. | AT12: CF%
B15: =SUMIFS('Team data'!$C$2:$C$7,'Team data'!$A$2:$A$7,Cards!$J$2)/Cards!$AY$2 -> 188.33333 | I15: =SUMIFS('Team data'!$I$2:$I$7,'Team data'!$A$2:$A$7,Cards!$J$2) -> 5.0159292 | P15: =SUMIFS('Team data'!$H$2:$H$7,'Team data'!$A$2:$A$7,Cards!$J$2)/(SUMIFS('Team data'!$AQ$2:$AQ$7,'Team data'!$A$2:$A$7,Cards!$J$2)+SUMIFS('Team data'!$H$2:$H$7,'Team data'!$A$2:$A$7,Cards!$J$2)) -> 0.55787402 | W15: =SUMIFS('Team data'!$E$2:$E$7,'Team data'!$A$2:$A$7,Cards!$J$2)/SUMIFS('Team data'!$C$2:$C$7,'Team data'!$A$2:$A$7,Cards!$J$2) -> 35.662923 | AD15: =SUMIFS('Team data'!$D$2:$D$7,'Team data'!$A$2:$A$7,Cards!$J$2)/SUMIFS('Team data'!$C$2:$C$7,'Team data'!$A$2:$A$7,Cards!$J$2) -> 2.2787611
B21: Poss./GP | I21: Avg. time | P21: Poss.% | W21: Carry dist. | AC21: Player poss.
B23: Passing - 5v5
B26: =SUMIFS('Team data'!$Y$2:$Y$7,'Team data'!$A$2:$A$7,Cards!$J$2)/$AY$2 -> 274.5 | I26: =SUMIFS('Team data'!$AJ$2:$AJ$7,'Team data'!$A$2:$A$7,Cards!$J$2)/SUMIFS('Team data'!$Y$2:$Y$7,'Team data'!$A$2:$A$7,Cards!$J$2) -> 0.65270188 | P26: =SUMIFS('Team data'!$AJ$2:$AJ$7,'Team data'!$A$2:$A$7,Cards!$J$2)/(SUMIFS('Team data'!$BP$2:$BP$7,'Team data'!$A$2:$A$7,Cards!$J$2)+SUMIFS('Team data'!$AJ$2:$AJ$7,'Team data'!$A$2:$A$7,Cards!$J$2)) -> 0.53482587 | W26: =SUMIFS('Team data'!$F$2:$F$7,'Team data'!$A$2:$A$7,Cards!$J$2)/SUMIFS('Team data'!$C$2:$C$7,'Team data'!$A$2:$A$7,Cards!$J$2) -> 51.447054 | AD26: =W26/W15 -> 1.4425922
B32: Passes/GP | H32: Completion% | P32: Pass% | W32: Pass dist. | AC32: Pass/carry
B34: Shooting - 5v5
B37: =SUMIFS('Team data'!$AF$2:$AF$7,'Team data'!$A$2:$A$7,Cards!$J$2)/Cards!$AY$2 -> 53 | I37: =SUMIFS('Team data'!$AI$2:$AI$7,'Team data'!$A$2:$A$7,Cards!$J$2)/SUMIFS('Team data'!$AF$2:$AF$7,'Team data'!$A$2:$A$7,Cards!$J$2) -> 0.034591195 | P37: =BF2 -> 0.59550562 | W37: =CA2 -> 0.61111111 | AD37: =SUMIFS('Team data'!$AK$2:$AK$7,'Team data'!$A$2:$A$7,Cards!$J$2) -> 2.1226415
B43: Corsi/GP | H43: CSh% | P43: CF% | W43: GF% | AC43: Shot time
B45: Zone starts - 5v5
B48: =SUMIFS('Team data'!$AC$2:$AC$7,'Team data'!$A$2:$A$7,Cards!$J$2) -> 0.49115044 | I48: =SUMIFS('Team data'!$AD$2:$AD$7,'Team data'!$A$2:$A$7,Cards!$J$2) -> 0.25132743 | P48: =SUMIFS('Team data'!$AE$2:$AE$7,'Team data'!$A$2:$A$7,Cards!$J$2) -> 0.25752212
B54: Def | H54: Neu | P54: Off
B56: Viz by @HockeySkytte | BH56: Data from Stathletes

Sheet Team data
A1: Team | B1: GP | C1: Team possessions | D1: Player possessions | E1: Carry dist | F1: Pass dist | G1: Pass/Carry | H1: Possession time | I1: Avg. Poss. Time | J1: Avg. player poss. | K1: Def time | L1: Neu time | M1: Off time | N1: Shot | O1: Puck Loss | P1: Play | Q1: Dump In/Out | R1: Incomplete Play | S1: Shot assist | T1: Missed | U1: Blocked | V1: Face Off | W1: Goal | X1: Deflected | Y1: Passes | Z1: Def zone start | AA1: Neu zone start | AB1: Off zone start | AC1: Def% | AD1: Neu% | AE1: Off% | AF1: CF | AG1: FF | AH1: SF | AI1: GF | AJ1: PassF | AK1: Shot time | AL1: O Team possessions | AM1: O Player possessions | AN1: O Carry dist | AO1: O Pass dist | AP1: O pass/carry | AQ1: O Possession time | AR1: Avg. poss time | AS1: O Avg. player poss. | AT1: O Def time | AU1: O Neu time | AV1: O Off time | AW1: O Shot | AX1: O Puck Loss | AY1: O Play | AZ1: O Dump In/Out | BA1: O Incomplete Play | BB1: O Shot assist | BC1: O Missed | BD1: O Blocked | BE1: O Face Off | BF1: O Goal | BG1: O Deflected | BH1: O passes | BI1: O Def zone start | BJ1: O Neu zone start | BK1: O Off zone start | BL1: CA | BM1: FA | BN1: SA | BO1: GA | BP1: PassA | BS1: Boston Pride | BT1: Buffalo Beauts | BU1: Connecticut Whale | BV1: Metropolitan Riveters | BW1: Minnesota Whitecaps | BX1: Toronto Six | BZ1: Boston Pride | CB1: Buffalo Beauts | CD1: Connecticut Whale | CF1: Metropolitan Riveters | CH1: Minnesota Whitecaps | CJ1: Toronto Six
A2: Boston Pride | B2: 7 | C2: 1260 | D2: 2844 | E2: 43825.997 | F2: 68451.877 | G2: =Table1[[#This Row],[Pass dist]]/Table1[[#This Row],[Carry dist]] -> 1.5619012 | H2: 6190 | I2: =Table1[[#This Row],[Possession time]]/Table1[[#This Row],[Team possessions]] -> 4.9126984 | J2: =Table1[[#This Row],[Player possessions]]/Table1[[#This Row],[Team possessions]] -> 2.2571429 | K2: 2328 | L2: 1792 | M2: 2070 | N2: 142 | O2: 401 | P2: 1039 | Q2: 252 | R2: 644 | S2: 119 | T2: 90 | U2: 97 | V2: 41 | W2: 13 | X2: 6 | Y2: =Table1[[#This Row],[Play]]+Table1[[#This Row],[Incomplete Play]]+Table1[[#This Row],[Shot assist]] -> 1802 | Z2: 700 | AA2: 285 | AB2: 275 | AC2: =Table1[[#This Row],[Def zone start]]/(Table1[[#This Row],[Def zone start]]+Table1[[#This Row],[Neu zone start]]+Table1[[#This Row],[Off zone start]]) -> 0.55555556 | AD2: =Table1[[#This Row],[Neu zone start]]/(Table1[[#This Row],[Def zone start]]+Table1[[#This Row],[Neu zone start]]+Table1[[#This Row],[Off zone start]]) -> 0.22619048 | AE2: =Table1[[#This Row],[Off zone start]]/(Table1[[#This Row],[Def zone start]]+Table1[[#This Row],[Neu zone start]]+Table1[[#This Row],[Off zone start]]) -> 0.21825397 | AF2: =Table1[[#This Row],[Goal]]+Table1[[#This Row],[Blocked]]+Table1[[#This Row],[Missed]]+Table1[[#This Row],[Shot]] -> 342 | AG2: =Table1[[#This Row],[Goal]]+Table1[[#This Row],[Missed]]+Table1[[#This Row],[Shot]] -> 245 | AH2: =Table1[[#This Row],[Goal]]+Table1[[#This Row],[Shot]] -> 155 | AI2: =Table1[[#This Row],[Goal]] -> 13 | AJ2: =Table1[[#This Row],[Play]]+Table1[[#This Row],[Shot assist]] -> 1158 | AK2: 2.0345821 | AL2: 1233 | AM2: 2583 | AN2: 36886.262 | AO2: 56392.347 | AP2: =Table1[[#This Row],[O Pass dist]]/Table1[[#This Row],[O Carry dist]] -> 1.5288171 | AQ2: 5089 | AR2: =Table1[[#This Row],[O Possession time]]/Table1[[#This Row],[O Team possessions]] -> 4.1273317 | AS2: =Table1[[#This Row],[O Player possessions]]/Table1[[#This Row],[O Team possessions]] -> 2.0948905 | AT2: 2419 | AU2: 1329 | AV2: 1341 | AW2: 126 | AX2: 277 | AY2: 918 | AZ2: 291 | BA2: 640 | BB2: 90 | BC2: 66 | BD2: 83 | BE2: 75 | BF2: 9 | BG2: 8 | BH2: =Table1[[#This Row],[O Shot assist]]+Table1[[#This Row],[O Play]]+Table1[[#This Row],[O Incomplete Play]] -> 1648 | BI2: 731 | BJ2: 262 | BK2: 240 | BL2: =Table1[[#This Row],[O Goal]]+Table1[[#This Row],[O Blocked]]+Table1[[#This Row],[O Missed]]+Table1[[#This Row],[O Shot]] -> 284 | BM2: =Table1[[#This Row],[O Goal]]+Table1[[#This Row],[O Missed]]+Table1[[#This Row],[O Shot]] -> 201 | BN2: =Table1[[#This Row],[O Goal]]+Table1[[#This Row],[O Shot]] -> 135 | BO2: =Table1[[#This Row],[O Goal]] -> 9 | BP2: =Table1[[#This Row],[O Play]]+Table1[[#This Row],[O Shot assist]] -> 1008 | BS2: x | BT2: x | BU2: x | BV2: x | BW2: x | BX2: x | BZ2: x | CA2: y | CB2: x | CC2: y | CD2: x | CE2: y | CF2: x | CG2: y | CH2: x | CI2: y | CJ2: x | CK2: y | CM2: x | CN2: y | CO2: x | CP2: y | CQ2: x | CR2: y
A3: Buffalo Beauts | B3: 6 | C3: 1152 | D3: 2392 | E3: 32454.635 | F3: 50119.688 | G3: =Table1[[#This Row],[Pass dist]]/Table1[[#This Row],[Carry dist]] -> 1.5442998 | H3: 4706 | I3: =Table1[[#This Row],[Possession time]]/Table1[[#This Row],[Team possessions]] -> 4.0850694 | J3: =Table1[[#This Row],[Player possessions]]/Table1[[#This Row],[Team possessions]] -> 2.0763889 | K3: 2337 | L3: 1263 | M3: 1106 | N3: 110 | O3: 292 | P3: 821 | Q3: 314 | R3: 577 | S3: 85 | T3: 56 | U3: 70 | V3: 55 | W3: 5 | X3: 7 | Y3: =Table1[[#This Row],[Play]]+Table1[[#This Row],[Incomplete Play]]+Table1[[#This Row],[Shot assist]] -> 1483 | Z3: 689 | AA3: 239 | AB3: 224 | AC3: =Table1[[#This Row],[Def zone start]]/(Table1[[#This Row],[Def zone start]]+Table1[[#This Row],[Neu zone start]]+Table1[[#This Row],[Off zone start]]) -> 0.59809028 | AD3: =Table1[[#This Row],[Neu zone start]]/(Table1[[#This Row],[Def zone start]]+Table1[[#This Row],[Neu zone start]]+Table1[[#This Row],[Off zone start]]) -> 0.20746528 | AE3: =Table1[[#This Row],[Off zone start]]/(Table1[[#This Row],[Def zone start]]+Table1[[#This Row],[Neu zone start]]+Table1[[#This Row],[Off zone start]]) -> 0.19444444 | AF3: =Table1[[#This Row],[Goal]]+Table1[[#This Row],[Blocked]]+Table1[[#This Row],[Missed]]+Table1[[#This Row],[Shot]] -> 241 | AG3: =Table1[[#This Row],[Goal]]+Table1[[#This Row],[Missed]]+Table1[[#This Row],[Shot]] -> 171 | AH3: =Table1[[#This Row],[Goal]]+Table1[[#This Row],[Shot]] -> 115 | AI3: =Table1[[#This Row],[Goal]] -> 5 | AJ3: =Table1[[#This Row],[Play]]+Table1[[#This Row],[Shot assist]] -> 906 | AK3: 1.9132231 | AL3: 1202 | AM3: 2686 | AN3: 42013.176 | AO3: 63086.047 | AP3: =Table1[[#This Row],[O Pass dist]]/Table1[[#This Row],[O Carry dist]] -> 1.5015777 | AQ3: 5600 | AR3: =Table1[[#This Row],[O Possession time]]/Table1[[#This Row],[O Team possessions]] -> 4.6589018 | AS3: =Table1[[#This Row],[O Player possessions]]/Table1[[#This Row],[O Team possessions]] -> 2.234609 | AT3: 2204 | AU3: 1530 | AV3: 1866 | AW3: 151 | AX3: 322 | AY3: 941 | AZ3: 284 | BA3: 623 | BB3: 109 | BC3: 80 | BD3: 108 | BE3: 44 | BF3: 15 | BG3: 9 | BH3: =Table1[[#This Row],[O Shot assist]]+Table1[[#This Row],[O Play]]+Table1[[#This Row],[O Incomplete Play]] -> 1673 | BI3: 652 | BJ3: 278 | BK3: 272 | BL3: =Table1[[#This Row],[O Goal]]+Table1[[#This Row],[O Blocked]]+Table1[[#This Row],[O Missed]]+Table1[[#This Row],[O Shot]] -> 354 | BM3: =Table1[[#This Row],[O Goal]]+Table1[[#This Row],[O Missed]]+Table1[[#This Row],[O Shot]] -> 246 | BN3: =Table1[[#This Row],[O Goal]]+Table1[[#This Row],[O Shot]] -> 166 | BO3: =Table1[[#This Row],[O Goal]] -> 15 | BP3: =Table1[[#This Row],[O Play]]+Table1[[#This Row],[O Shot assist]] -> 1050 | BR3: CF% | BS3: =$AF$2/($AF$2+$BL$2) -> 0.54632588 | BT3: =$AF$3/($AF$3+$BL$3) -> 0.40504202 | BU3: =$AF$4/($AF$4+$BL$4) -> 0.55958549 | BV3: =$AF$5/($AF$5+$BL$5) -> 0.40666667 | BW3: =$AF$6/($AF$6+$BL$6) -> 0.44846797 | BX3: =$AF$7/($AF$7+$BL$7) -> 0.59550562 | BZ3: =SUMIFS(BS$3:BS$25,$BR$3:$BR$25,Cards!$AT$12) -> 0.54632588 | CA3: =$W$2/($W$2+$BF$2) -> 0.59090909 | CB3: =SUMIFS(BT$3:BT$25,$BR$3:$BR$25,Cards!$AT$12) -> 0.40504202 | CC3: =$W$3/($W$3+$BF$3) -> 0.25 | CD3: =SUMIFS(BU$3:BU$25,$BR$3:$BR$25,Cards!$AT$12) -> 0.55958549 | CE3: =$W$4/($W$4+$BF$4) -> 0.46666667 | CF3: =SUMIFS(BV$3:BV$25,$BR$3:$BR$25,Cards!$AT$12) -> 0.40666667 | CG3: =$W$5/($W$5+$BF$5) -> 0.625 | CH3: =SUMIFS(BW$3:BW$25,$BR$3:$BR$25,Cards!$AT$12) -> 0.44846797 | CI3: =$W$6/($W$6+$BF$6) -> 0.55555556 | CJ3: =SUMIFS(BX$3:BX$25,$BR$3:$BR$25,Cards!$AT$12) -> 0.59550562 | CK3: =$W$7/($W$7+$BF$7) -> 0.61111111 | CM3: 0 | CN3: 0.5 | CO3: 0.5 | CP3: 0 | CQ3: 0 | CR3: 0
A4: Connecticut Whale | B4: 4 | C4: 855 | D4: 1784 | E4: 23658.31 | F4: 39340.246 | G4: =Table1[[#This Row],[Pass dist]]/Table1[[#This Row],[Carry dist]] -> 1.6628511 | H4: 3234 | I4: =Table1[[#This Row],[Possession time]]/Table1[[#This Row],[Team possessions]] -> 3.7824561 | J4: =Table1[[#This Row],[Player possessions]]/Table1[[#This Row],[Team possessions]] -> 2.0865497 | K4: 1550 | L4: 817 | M4: 867 | N4: 106 | O4: 168 | P4: 619 | Q4: 203 | R4: 464 | S4: 61 | T4: 40 | U4: 63 | V4: 43 | W4: 7 | X4: 10 | Y4: =Table1[[#This Row],[Play]]+Table1[[#This Row],[Incomplete Play]]+Table1[[#This Row],[Shot assist]] -> 1144 | Z4: 483 | AA4: 171 | AB4: 201 | AC4: =Table1[[#This Row],[Def zone start]]/(Table1[[#This Row],[Def zone start]]+Table1[[#This Row],[Neu zone start]]+Table1[[#This Row],[Off zone start]]) -> 0.56491228 | AD4: =Table1[[#This Row],[Neu zone start]]/(Table1[[#This Row],[Def zone start]]+Table1[[#This Row],[Neu zone start]]+Table1[[#This Row],[Off zone start]]) -> 0.2 | AE4: =Table1[[#This Row],[Off zone start]]/(Table1[[#This Row],[Def zone start]]+Table1[[#This Row],[Neu zone start]]+Table1[[#This Row],[Off zone start]]) -> 0.23508772 | AF4: =Table1[[#This Row],[Goal]]+Table1[[#This Row],[Blocked]]+Table1[[#This Row],[Missed]]+Table1[[#This Row],[Shot]] -> 216 | AG4: =Table1[[#This Row],[Goal]]+Table1[[#This Row],[Missed]]+Table1[[#This Row],[Shot]] -> 153 | AH4: =Table1[[#This Row],[Goal]]+Table1[[#This Row],[Shot]] -> 113 | AI4: =Table1[[#This Row],[Goal]] -> 7 | AJ4: =Table1[[#This Row],[Play]]+Table1[[#This Row],[Shot assist]] -> 680 | AK4: 1.7031963 | AL4: 851 | AM4: 1819 | AN4: 25811.078 | AO4: 41575.172 | AP4: =Table1[[#This Row],[O Pass dist]]/Table1[[#This Row],[O Carry dist]] -> 1.6107491 | AQ4: 3709 | AR4: =Table1[[#This Row],[O Possession time]]/Table1[[#This Row],[O Team possessions]] -> 4.3584019 | AS4: =Table1[[#This Row],[O Player possessions]]/Table1[[#This Row],[O Team possessions]] -> 2.1374853 | AT4: 1645 | AU4: 990 | AV4: 1074 | AW4: 68 | AX4: 222 | AY4: 661 | AZ4: 221 | BA4: 447 | BB4: 62 | BC4: 34 | BD4: 60 | BE4: 35 | BF4: 8 | BG4: 1 | BH4: =Table1[[#This Row],[O Shot assist]]+Table1[[#This Row],[O Play]]+Table1[[#This Row],[O Incomplete Play]] -> 1170 | BI4: 474 | BJ4: 203 | BK4: 174 | BL4: =Table1[[#This Row],[O Goal]]+Table1[[#This Row],[O Blocked]]+Table1[[#This Row],[O Missed]]+Table1[[#This Row],[O Shot]] -> 170 | BM4: =Table1[[#This Row],[O Goal]]+Table1[[#This Row],[O Missed]]+Table1[[#This Row],[O Shot]] -> 110 | BN4: =Table1[[#This Row],[O Goal]]+Table1[[#This Row],[O Shot]] -> 76 | BO4: =Table1[[#This Row],[O Goal]] -> 8 | BP4: =Table1[[#This Row],[O Play]]+Table1[[#This Row],[O Shot assist]] -> 723 | BR4: FF% | BS4: =$AG$2/($AG$2+$BM$2) -> 0.54932735 | BT4: =$AG$3/($AG$3+$BM$3) -> 0.41007194 | BU4: =$AG$4/($AG$4+$BM$4) -> 0.58174905 | BV4: =$AG$5/($AG$5+$BM$5) -> 0.38647343 | BW4: =$AG$6/($AG$6+$BM$6) -> 0.44776119 | BX4: =$AG$7/($AG$7+$BM$7) -> 0.584 | CM4: 1 | CN4: 0.5 | CO4: 0.5 | CP4: 1 | CQ4: 1 | CR4: 1
A5: Metropolitan Riveters | B5: 3 | C5: 601 | D5: 1293 | E5: 16893.444 | F5: 30138.408 | G5: =Table1[[#This Row],[Pass dist]]/Table1[[#This Row],[Carry dist]] -> 1.7840298 | H5: 2610 | I5: =Table1[[#This Row],[Possession time]]/Table1[[#This Row],[Team possessions]] -> 4.3427621 | J5: =Table1[[#This Row],[Player possessions]]/Table1[[#This Row],[Team possessions]] -> 2.1514143 | K5: 1251 | L5: 713 | M5: 646 | N5: 56 | O5: 161 | P5: 483 | Q5: 173 | R5: 278 | S5: 46 | T5: 19 | U5: 42 | V5: 30 | W5: 5 | X5: 0 | Y5: =Table1[[#This Row],[Play]]+Table1[[#This Row],[Incomplete Play]]+Table1[[#This Row],[Shot assist]] -> 807 | Z5: 372 | AA5: 122 | AB5: 107 | AC5: =Table1[[#This Row],[Def zone start]]/(Table1[[#This Row],[Def zone start]]+Table1[[#This Row],[Neu zone start]]+Table1[[#This Row],[Off zone start]]) -> 0.61896839 | AD5: =Table1[[#This Row],[Neu zone start]]/(Table1[[#This Row],[Def zone start]]+Table1[[#This Row],[Neu zone start]]+Table1[[#This Row],[Off zone start]]) -> 0.20299501 | AE5: =Table1[[#This Row],[Off zone start]]/(Table1[[#This Row],[Def zone start]]+Table1[[#This Row],[Neu zone start]]+Table1[[#This Row],[Off zone start]]) -> 0.17803661 | AF5: =Table1[[#This Row],[Goal]]+Table1[[#This Row],[Blocked]]+Table1[[#This Row],[Missed]]+Table1[[#This Row],[Shot]] -> 122 | AG5: =Table1[[#This Row],[Goal]]+Table1[[#This Row],[Missed]]+Table1[[#This Row],[Shot]] -> 80 | AH5: =Table1[[#This Row],[Goal]]+Table1[[#This Row],[Shot]] -> 61 | AI5: =Table1[[#This Row],[Goal]] -> 5 | AJ5: =Table1[[#This Row],[Play]]+Table1[[#This Row],[Shot assist]] -> 529 | AK5: 2.096 | AL5: 615 | AM5: 1338 | AN5: 18886.149 | AO5: 29809.272 | AP5: =Table1[[#This Row],[O Pass dist]]/Table1[[#This Row],[O Carry dist]] -> 1.5783669 | AQ5: 2820 | AR5: =Table1[[#This Row],[O Possession time]]/Table1[[#This Row],[O Team possessions]] -> 4.5853659 | AS5: =Table1[[#This Row],[O Player possessions]]/Table1[[#This Row],[O Team possessions]] -> 2.1756098 | AT5: 1240 | AU5: 767 | AV5: 813 | AW5: 95 | AX5: 166 | AY5: 478 | AZ5: 127 | BA5: 292 | BB5: 64 | BC5: 29 | BD5: 51 | BE5: 27 | BF5: 3 | BG5: 6 | BH5: =Table1[[#This Row],[O Shot assist]]+Table1[[#This Row],[O Play]]+Table1[[#This Row],[O Incomplete Play]] -> 834 | BI5: 316 | BJ5: 143 | BK5: 156 | BL5: =Table1[[#This Row],[O Goal]]+Table1[[#This Row],[O Blocked]]+Table1[[#This Row],[O Missed]]+Table1[[#This Row],[O Shot]] -> 178 | BM5: =Table1[[#This Row],[O Goal]]+Table1[[#This Row],[O Missed]]+Table1[[#This Row],[O Shot]] -> 127 | BN5: =Table1[[#This Row],[O Goal]]+Table1[[#This Row],[O Shot]] -> 98 | BO5: =Table1[[#This Row],[O Goal]] -> 3 | BP5: =Table1[[#This Row],[O Play]]+Table1[[#This Row],[O Shot assist]] -> 542 | BR5: SF% | BS5: =$AH$2/($AH$2+$BN$2) -> 0.53448276 | BT5: =$AH$3/($AH$3+$BN$3) -> 0.40925267 | BU5: =$AH$4/($AH$4+$BN$4) -> 0.5978836 | BV5: =$AH$5/($AH$5+$BN$5) -> 0.3836478 | BW5: =$AH$6/($AH$6+$BN$6) -> 0.44680851 | BX5: =$AH$7/($AH$7+$BN$7) -> 0.59622642
A6: Minnesota Whitecaps | B6: 4 | C6: 688 | D6: 1460 | E6: 20035.188 | F6: 34824.67 | G6: =Table1[[#This Row],[Pass dist]]/Table1[[#This Row],[Carry dist]] -> 1.7381754 | H6: 2908 | I6: =Table1[[#This Row],[Possession time]]/Table1[[#This Row],[Team possessions]] -> 4.2267442 | J6: =Table1[[#This Row],[Player possessions]]/Table1[[#This Row],[Team possessions]] -> 2.122093 | K6: 1414 | L6: 843 | M6: 651 | N6: 79 | O6: 187 | P6: 522 | Q6: 141 | R6: 358 | S6: 64 | T6: 36 | U6: 41 | V6: 25 | W6: 5 | X6: 2 | Y6: =Table1[[#This Row],[Play]]+Table1[[#This Row],[Incomplete Play]]+Table1[[#This Row],[Shot assist]] -> 944 | Z6: 424 | AA6: 138 | AB6: 126 | AC6: =Table1[[#This Row],[Def zone start]]/(Table1[[#This Row],[Def zone start]]+Table1[[#This Row],[Neu zone start]]+Table1[[#This Row],[Off zone start]]) -> 0.61627907 | AD6: =Table1[[#This Row],[Neu zone start]]/(Table1[[#This Row],[Def zone start]]+Table1[[#This Row],[Neu zone start]]+Table1[[#This Row],[Off zone start]]) -> 0.2005814 | AE6: =Table1[[#This Row],[Off zone start]]/(Table1[[#This Row],[Def zone start]]+Table1[[#This Row],[Neu zone start]]+Table1[[#This Row],[Off zone start]]) -> 0.18313953 | AF6: =Table1[[#This Row],[Goal]]+Table1[[#This Row],[Blocked]]+Table1[[#This Row],[Missed]]+Table1[[#This Row],[Shot]] -> 161 | AG6: =Table1[[#This Row],[Goal]]+Table1[[#This Row],[Missed]]+Table1[[#This Row],[Shot]] -> 120 | AH6: =Table1[[#This Row],[Goal]]+Table1[[#This Row],[Shot]] -> 84 | AI6: =Table1[[#This Row],[Goal]] -> 5 | AJ6: =Table1[[#This Row],[Play]]+Table1[[#This Row],[Shot assist]] -> 586 | AK6: 1.8343558 | AL6: 709 | AM6: 1637 | AN6: 24413.772 | AO6: 37434.978 | AP6: =Table1[[#This Row],[O Pass dist]]/Table1[[#This Row],[O Carry dist]] -> 1.5333549 | AQ6: 3606 | AR6: =Table1[[#This Row],[O Possession time]]/Table1[[#This Row],[O Team possessions]] -> 5.0860367 | AS6: =Table1[[#This Row],[O Player possessions]]/Table1[[#This Row],[O Team possessions]] -> 2.3088858 | AT6: 1431 | AU6: 864 | AV6: 1311 | AW6: 100 | AX6: 205 | AY6: 608 | AZ6: 153 | BA6: 368 | BB6: 68 | BC6: 44 | BD6: 50 | BE6: 36 | BF6: 4 | BG6: 1 | BH6: =Table1[[#This Row],[O Shot assist]]+Table1[[#This Row],[O Play]]+Table1[[#This Row],[O Incomplete Play]] -> 1044 | BI6: 363 | BJ6: 161 | BK6: 185 | BL6: =Table1[[#This Row],[O Goal]]+Table1[[#This Row],[O Blocked]]+Table1[[#This Row],[O Missed]]+Table1[[#This Row],[O Shot]] -> 198 | BM6: =Table1[[#This Row],[O Goal]]+Table1[[#This Row],[O Missed]]+Table1[[#This Row],[O Shot]] -> 148 | BN6: =Table1[[#This Row],[O Goal]]+Table1[[#This Row],[O Shot]] -> 104 | BO6: =Table1[[#This Row],[O Goal]] -> 4 | BP6: =Table1[[#This Row],[O Play]]+Table1[[#This Row],[O Shot assist]] -> 676 | BR6: Pass% | BS6: =$AJ$2/($AJ$2+$BP$2) -> 0.53462604 | BT6: =$AJ$3/($AJ$3+$BP$3) -> 0.46319018 | BU6: =$AJ$4/($AJ$4+$BP$4) -> 0.48467569 | BV6: =$AJ$5/($AJ$5+$BP$5) -> 0.49393091 | BW6: =$AJ$6/($AJ$6+$BP$6) -> 0.46434231 | BX6: =$AJ$7/($AJ$7+$BP$7) -> 0.53482587
A7: Toronto Six | B7: 6 | C7: 1130 | D7: 2575 | E7: 40299.103 | F7: 58135.171 | G7: =Table1[[#This Row],[Pass dist]]/Table1[[#This Row],[Carry dist]] -> 1.4425922 | H7: 5668 | I7: =Table1[[#This Row],[Possession time]]/Table1[[#This Row],[Team possessions]] -> 5.0159292 | J7: =Table1[[#This Row],[Player possessions]]/Table1[[#This Row],[Team possessions]] -> 2.2787611 | K7: 2301 | L7: 1339 | M7: 2028 | N7: 147 | O7: 274 | P7: 975 | Q7: 266 | R7: 572 | S7: 100 | T7: 61 | U7: 99 | V7: 64 | W7: 11 | X7: 6 | Y7: =Table1[[#This Row],[Play]]+Table1[[#This Row],[Incomplete Play]]+Table1[[#This Row],[Shot assist]] -> 1647 | Z7: 555 | AA7: 284 | AB7: 291 | AC7: =Table1[[#This Row],[Def zone start]]/(Table1[[#This Row],[Def zone start]]+Table1[[#This Row],[Neu zone start]]+Table1[[#This Row],[Off zone start]]) -> 0.49115044 | AD7: =Table1[[#This Row],[Neu zone start]]/(Table1[[#This Row],[Def zone start]]+Table1[[#This Row],[Neu zone start]]+Table1[[#This Row],[Off zone start]]) -> 0.25132743 | AE7: =Table1[[#This Row],[Off zone start]]/(Table1[[#This Row],[Def zone start]]+Table1[[#This Row],[Neu zone start]]+Table1[[#This Row],[Off zone start]]) -> 0.25752212 | AF7: =Table1[[#This Row],[Goal]]+Table1[[#This Row],[Blocked]]+Table1[[#This Row],[Missed]]+Table1[[#This Row],[Shot]] -> 318 | AG7: =Table1[[#This Row],[Goal]]+Table1[[#This Row],[Missed]]+Table1[[#This Row],[Shot]] -> 219 | AH7: =Table1[[#This Row],[Goal]]+Table1[[#This Row],[Shot]] -> 158 | AI7: =Table1[[#This Row],[Goal]] -> 11 | AJ7: =Table1[[#This Row],[Play]]+Table1[[#This Row],[Shot assist]] -> 1075 | AK7: 2.1226415 | AL7: 1076 | AM7: 2285 | AN7: 29156.239 | AO7: 52712.244 | AP7: =Table1[[#This Row],[O Pass dist]]/Table1[[#This Row],[O Carry dist]] -> 1.8079233 | AQ7: 4492 | AR7: =Table1[[#This Row],[O Possession time]]/Table1[[#This Row],[O Team possessions]] -> 4.1747212 | AS7: =Table1[[#This Row],[O Player possessions]]/Table1[[#This Row],[O Team possessions]] -> 2.1236059 | AT7: 2242 | AU7: 1287 | AV7: 963 | AW7: 100 | AX7: 291 | AY7: 853 | AZ7: 273 | BA7: 523 | BB7: 82 | BC7: 49 | BD7: 60 | BE7: 41 | BF7: 7 | BG7: 6 | BH7: =Table1[[#This Row],[O Shot assist]]+Table1[[#This Row],[O Play]]+Table1[[#This Row],[O Incomplete Play]] -> 1458 | BI7: 687 | BJ7: 192 | BK7: 197 | BL7: =Table1[[#This Row],[O Goal]]+Table1[[#This Row],[O Blocked]]+Table1[[#This Row],[O Missed]]+Table1[[#This Row],[O Shot]] -> 216 | BM7: =Table1[[#This Row],[O Goal]]+Table1[[#This Row],[O Missed]]+Table1[[#This Row],[O Shot]] -> 156 | BN7: =Table1[[#This Row],[O Goal]]+Table1[[#This Row],[O Shot]] -> 107 | BO7: =Table1[[#This Row],[O Goal]] -> 7 | BP7: =Table1[[#This Row],[O Play]]+Table1[[#This Row],[O Shot assist]] -> 935 | BR7: Poss% | BS7: =$H$2/($H$2+$AQ$2) -> 0.54880752 | BT7: =$H$3/($H$3+$AQ$3) -> 0.45662721 | BU7: =$H$4/($H$4+$AQ$4) -> 0.46579288 | BV7: =$H$5/($H$5+$AQ$5) -> 0.48066298 | BW7: =$H$6/($H$6+$AQ$6) -> 0.44642309 | BX7: =$H$7/($H$7+$AQ$7) -> 0.55787402
BR8: Avg. Poss. Time% | BS8: =$I$2/($I$2+$AR$2) -> 0.54343828 | BT8: =$I$3/($I$3+$AR$3) -> 0.46718697 | BU8: =$I$4/($I$4+$AR$4) -> 0.46462623 | BV8: =$I$5/($I$5+$AR$5) -> 0.48641351 | BW8: =$I$6/($I$6+$AR$6) -> 0.45386488 | BX8: =$I$7/($I$7+$AR$7) -> 0.54576434
B9: =SUM(B2:B8) -> 30 | C9: =SUM(C2:C8) -> 5686 | D9: =SUM(Table1[Player possessions])/SUM(Table1[Team possessions]) -> 2.1716497 | E9: =SUM(E2:E8)/C9 -> 31.158403 | F9: =SUM(F2:F8)/C9 -> 49.421397 | G9: =SUM(Table1[Pass dist])/SUM(Table1[Carry dist]) -> 1.5861338 | I9: =SUM(Table1[Possession time])/SUM(Table1[Team possessions]) -> 4.4523391 | J9: =SUM(Table1[PassF])/SUM(Table1[Passes]) -> 0.63038201 | K9: =SUM(Table1[CF])/SUM(Table1[GP]) -> 46.666667 | L9: =SUM(Table1[GF])/SUM(Table1[CF]) -> 0.032857143 | M9: =AVERAGE(Table1[Shot time]) -> 1.9506665 | N9: =SUM(Table1[Def zone start])/(SUM(Table1[Def zone start])+SUM(Table1[Neu zone start])+SUM(Table1[Off zone start])) -> 0.56683081 | O9: =SUM(Table1[Neu zone start])/(SUM(Table1[Def zone start])+SUM(Table1[Neu zone start])+SUM(Table1[Off zone start])) -> 0.21790362 | P9: =SUM(Table1[Off zone start])/(SUM(Table1[Def zone start])+SUM(Table1[Neu zone start])+SUM(Table1[Off zone start])) -> 0.21526556 | Y9: =SUM(Table1[Passes])/SUM(Table1[GP]) -> 260.9 | BR9: Avg. Carry dist.% | BS9: =$E$2/($E$2+$AN$2) -> 0.54299059 | BT9: =$E$3/($E$3+$AN$3) -> 0.43582099 | BU9: =$E$4/($E$4+$AN$4) -> 0.4782414 | BV9: =$E$5/($E$5+$AN$5) -> 0.47215305 | BW9: =$E$6/($E$6+$AN$6) -> 0.45074593 | BX9: =$E$7/($E$7+$AN$7) -> 0.58021604
C10: =C9/B9 -> 189.53333 | BR10: Avg. Pass dist.% | BS10: =$F$2/($F$2+$AO$2) -> 0.54829831 | BT10: =$F$3/($F$3+$AO$3) -> 0.442731 | BU10: =$F$4/($F$4+$AO$4) -> 0.48618974 | BV10: =$F$5/($F$5+$AO$5) -> 0.50274519 | BW10: =$F$6/($F$6+$AO$6) -> 0.481938 | BX10: =$F$7/($F$7+$AO$7) -> 0.52446123
C11: Poss/GP | D11: Player Poss | E11: Carry/Poss | F11: Pass/Poss | G11: Pass/Carry | I11: Avg. poss time | J11: Completion% | K11: Corsi/GP | L11: CFSh% | M11: Shot time | N11: Def% | O11: Neu% | P11: Off% | Y11: =Y2/B2 -> 257.42857 | BR11: Pass/Carry% | BS11: =$G$2/($G$2+$AP$2) -> 0.50535217 | BT11: =$G$3/($G$3+$AP$3) -> 0.50701312 | BU11: =$G$4/($G$4+$AP$4) -> 0.5079579 | BV11: =$G$5/($G$5+$AP$5) -> 0.53058279 | BW11: =$G$6/($G$6+$AP$6) -> 0.53130346 | BX11: =$G$7/($G$7+$AP$7) -> 0.44380412
Y12: =Y3/B3 -> 247.16667
E13: =E2/C2 -> 34.782537 | F13: =F2/C2 -> 54.326886 | J13: =AJ2/Y2 -> 0.64261931 | K13: =AF2/B2 -> 48.857143 | L13: =AI2/AF2 -> 0.038011696 | M13: =AK2 -> 2.0345821 | N13: =AC2 -> 0.55555556 | O13: =AD2 -> 0.22619048 | P13: =AE2 -> 0.21825397 | Y13: =Y4/B4 -> 286
E14: =E3/C3 -> 28.172426 | F14: =F3/C3 -> 43.506674 | J14: =AJ3/Y3 -> 0.6109238 | K14: =AF3/B3 -> 40.166667 | L14: =AI3/AF3 -> 0.020746888 | M14: =AK3 -> 1.9132231 | N14: =AC3 -> 0.59809028 | O14: =AD3 -> 0.20746528 | P14: =AE3 -> 0.19444444 | Y14: =Y5/B5 -> 269
E15: =E4/C4 -> 27.670538 | F15: =F4/C4 -> 46.011983 | J15: =AJ4/Y4 -> 0.59440559 | K15: =AF4/B4 -> 54 | L15: =AI4/AF4 -> 0.032407407 | M15: =AK4 -> 1.7031963 | N15: =AC4 -> 0.56491228 | O15: =AD4 -> 0.2 | P15: =AE4 -> 0.23508772 | Y15: =Y6/B6 -> 236
E16: =E5/C5 -> 28.108892 | F16: =F5/C5 -> 50.147102 | J16: =AJ5/Y5 -> 0.65551425 | K16: =AF5/B5 -> 40.666667 | L16: =AI5/AF5 -> 0.040983607 | M16: =AK5 -> 2.096 | N16: =AC5 -> 0.61896839 | O16: =AD5 -> 0.20299501 | P16: =AE5 -> 0.17803661 | Y16: =Y7/B7 -> 274.5
E17: =E6/C6 -> 29.120912 | F17: =F6/C6 -> 50.617253 | J17: =AJ6/Y6 -> 0.62076271 | K17: =AF6/B6 -> 40.25 | L17: =AI6/AF6 -> 0.031055901 | M17: =AK6 -> 1.8343558 | N17: =AC6 -> 0.61627907 | O17: =AD6 -> 0.2005814 | P17: =AE6 -> 0.18313953
E18: =E7/C7 -> 35.662923 | F18: =F7/C7 -> 51.447054 | J18: =AJ7/Y7 -> 0.65270188 | K18: =AF7/B7 -> 53 | L18: =AI7/AF7 -> 0.034591195 | M18: =AK7 -> 2.1226415 | N18: =AC7 -> 0.49115044 | O18: =AD7 -> 0.25132743 | P18: =AE7 -> 0.25752212
N20: 0.08 | O20: 0.04 | P20: 0.05

Sheet Logos
A1: Logo | B1: Team
B2: Boston Pride | C2: =IF(Cards!$J$2=Logos!B2,1,NA()) -> #N/A
B3: Buffalo Beauts | C3: =IF(Cards!$J$2=Logos!B3,1,NA()) -> #N/A
B4: Connecticut Whale | C4: =IF(Cards!$J$2=Logos!B4,1,NA()) -> #N/A
B5: Metropolitan Riveters | C5: =IF(Cards!$J$2=Logos!B5,1,NA()) -> #N/A
B6: Minnesota Whitecaps | C6: =IF(Cards!$J$2=Logos!B6,1,NA()) -> #N/A
B7: Toronto Six | C7: =IF(Cards!$J$2=Logos!B7,1,NA()) -> 1
